Workbook

Sheet 1 报表封面
B3: 湖滨新区2026年度道路交通安全隐患整改项目 | G3: 工程
A5: 投标人工程量清单格式
B6: 合同编号：
A9: 招 标 人： | G9: (单位盖章)
A11: 法定代表人 （或委托代理人）：
G12: (签字并盖章)
A17: 投 标 人：
A18: （或委托代理人）： | G18: （签字并盖章）
A20: 造价工程师及注册证号： | F20: （签字并盖执业专用章）
A22: 编 制 时 间：

Sheet 编制说明
A1: 工程量清单总说明
A2: 1.工程量清单说明
A3: 1.1 本工程量清单是根据招标文件中包括的、有合同条款中约定的清单工程量计量规则、图纸以及有关工程量清单的国家标准、行业标准、合同条款中约定的其他规则编制。约定计量规则中没有的子目，其工程量按照有合同约束力的图纸所标示尺寸的理论净量计算。计量采用中华人民共和国法定计量单位。
A4: 1.2 本工程量清单应与招标文件中的投标人须知、通用合同条款、专用合同条款、工程量清单计量规则、技术标准及图纸等一起阅读理解。
A5: 1.3 本工程量清单中所列工程数量是估算的或设计的预计数量，仅作为投标报价的共同基础，不能作为最终结算与支付的依据。实际支付应按实际完成的工程量，由承包人按工程量清单计量规则规定的计量方法，以监理人认可的、断面计量，按本工程量清单的单价和总额价计算支付金额；或根据具体情况，按合同条款的规定，按监理人确定的单价或总额价计算支付额。
A6: 1.4 工程量清单各章节是按第八章“工程量清单计量规则”、第七章“技术规范”的相应章次编号的，因此，工程量清单中各章的工程子目的范围与计量等应与“工程量清单计量规则”、“技术规范”相应章节的范围、计量与支付条款结合起来理解或解释。
A7: 1.5 对作业和材料的一般说明或规定，未重复写入工程量清单内，在给工程量清单各子目标价前，应参阅第七章“技术规范”的有关内容。
A8: 1.6 工程量清单中所列工程量的变动，丝毫不会降低或影响合同条款的效力，也不免除承包人按规定的标准进行施工和修复缺陷的责任。
A9: 1.7 图纸中所列的工程数量表及数量汇总表仅是提供资料，不是工程量清单的外延。当图纸与工程量清单所列数量不一致时，以工程量清单所列数量作为报价的依据，其项目特征全部内容以施工图设计为准，不得以工程量清单表中未表述为理由不予实施，否则不得计量。
A10: 2.投标报价说明
A11: 2.1 工程量清单中的每一子目须填入单价或价格，且只允许有一个报价。
A12: 2.2 除非合同另有规定，工程量清单中有标价的单价和总额价均已包含了为实施和完成合同工程所需的劳务、材料、机械、质检（自检）、安装、缺陷修复、管理、保险、税费、利润等费用，以及合同明示或暗示的所有责任、义务和一般风险。
... A25: 《公路工程预算定额》JTG/T 3832-2018、苏交建[2019]22 号文等；

Sheet 4 投标总报价汇总表
A2: 投标总报价汇总表
A3: 项目名称：湖滨新区2026年度道路交通安全隐患整改项目 | C3: 第1页 共1页
A4: 序号 | B4: 名称 | C4: 金额（元）
A5: 1 | B5: 湖滨新区2026年度道路交通安全隐患整改项目 | C5: ='5 投标报价汇总表_(2018范本)'!D37 -> 83225.87
B30: 合计 | C30: =C5 -> 83225.87

Sheet 5 投标报价汇总表_(2018范本)
A2: 投标报价汇总表
A3: 工程名称：湖滨新区2026年度道路交通安全隐患整改项目 | D3: 第1页 共2页
A4: 序号 | B4: 章次 | C4: 科目名称 | D4: 金额
A5: 1 | B5: 100 | C5: 清单 第100章 总则 | D5: =IF(OR(ISERROR(ROUND('6 工程量清单表_(显示标段金额)'!G6,2)),ROUND('6 工程量清单表_(显示标段金额)'!G6,2)=""),0,ROUND('6 工程量清单表_(显示标段金额)'!G6,2)) -> 33225.87
A6: 2 | B6: 300-1 | C6: 清单 第300章 路面（市民活动中心南门、三峰路、天和路等） | D6: =IF(OR(ISERROR(ROUND('6 工程量清单表_(显示标段金额)'!G20,2)),ROUND('6 工程量清单表_(显示标段金额)'!G20,2)=""),0,ROUND('6 工程量清单表_(显示标段金额)'!G20,2)) -> 0
A7: 3 | B7: 300-2 | C7: 清单 第300章 路面（皂河液化气站路段、皂河镇黄河北岸12号电线杆处、黄庙大沟路段、湖峰路） | D7: =IF(OR(ISERROR(ROUND('6 工程量清单表_(显示标段金额)'!G24,2)),ROUND('6 工程量清单表_(显示标段金额)'!G24,2)=""),0,ROUND('6 工程量清单表_(显示标段金额)'!G24,2)) -> 0
A8: 4 | B8: 400 | C8: 清单 第400章 桥梁、涵洞（黄庙大沟路段） | D8: =IF(OR(ISERROR(ROUND('6 工程量清单表_(显示标段金额)'!G28,2)),ROUND('6 工程量清单表_(显示标段金额)'!G28,2)=""),0,ROUND('6 工程量清单表_(显示标段金额)'!G28,2)) -> 0
A9: 5 | B9: 600-1 | C9: 清单 第600章 安全设施及预埋管线（235国道与迎宾大道交叉口） | D9: =IF(OR(ISERROR(ROUND('6 工程量清单表_(显示标段金额)'!G39,2)),ROUND('6 工程量清单表_(显示标段金额)'!G39,2)=""),0,ROUND('6 工程量清单表_(显示标段金额)'!G39,2)) -> 0
A10: 6 | B10: 600-2 | C10: 清单 第600章 安全设施及预埋管线（250省道K76+800（闫河大桥北首）） | D10: =IF(OR(ISERROR(ROUND('6 工程量清单表_(显示标段金额)'!G57,2)),ROUND('6 工程量清单表_(显示标段金额)'!G57,2)=""),0,ROUND('6 工程量清单表_(显示标段金额)'!G57,2)) -> 0
A11: 7 | B11: 600-3 | C11: 清单 第600章 安全设施及预埋管线（235国道张庄中桥） | D11: =IF(OR(ISERROR(ROUND('6 工程量清单表_(显示标段金额)'!G79,2)),ROUND('6 工程量清单表_(显示标段金额)'!G79,2)=""),0,ROUND('6 工程量清单表_(显示标段金额)'!G79,2)) -> 0
A12: 8 | B12: 600-4 | C12: 清单 第600章 安全设施及预埋管线（皂河镇黄河北岸12号电线杆处） | D12: =IF(OR(ISERROR(ROUND('6 工程量清单表_(显示标段金额)'!G95,2)),ROUND('6 工程量清单表_(显示标段金额)'!G95,2)=""),0,ROUND('6 工程量清单表_(显示标段金额)'!G95,2)) -> 0
A13: 9 | B13: 600-5 | C13: 清单 第600章 安全设施及预埋管线（彩塑路与耀徐路交叉口） | D13: =IF(OR(ISERROR(ROUND('6 工程量清单表_(显示标段金额)'!G118,2)),ROUND('6 工程量清单表_(显示标段金额)'!G118,2)=""),0,ROUND('6 工程量清单表_(显示标段金额)'!G118,2)) -> 0
A14: 10 | B14: 600-6 | C14: 清单 第600章 安全设施及预埋管线（潜水艇卫浴指引牌） | D14: =IF(OR(ISERROR(ROUND('6 工程量清单表_(显示标段金额)'!G129,2)),ROUND('6 工程量清单表_(显示标段金额)'!G129,2)=""),0,ROUND('6 工程量清单表_(显示标段金额)'!G129,2)) -> 0
A15: 11 | B15: 600-7 | C15: 清单 第600章 安全设施及预埋管线（市民活动中心南门） | D15: =IF(OR(ISERROR(ROUND('6 工程量清单表_(显示标段金额)'!G142,2)),ROUND('6 工程量清单表_(显示标段金额)'!G142,2)=""),0,ROUND('6 工程量清单表_(显示标段金额)'!G142,2)) -> 0
A16: 12 | B16: 600-8 | C16: 清单 第600章 安全设施及预埋管线（黄庙大沟路段） | D16: =IF(OR(ISERROR(ROUND('6 工程量清单表_(显示标段金额)'!G154,2)),ROUND('6 工程量清单表_(显示标段金额)'!G154,2)=""),0,ROUND('6 工程量清单表_(显示标段金额)'!G154,2)) -> 0
A17: 13 | B17: 600-9 | C17: 清单 第600章 安全设施及预埋管线（湖峰路） | D17: =IF(OR(ISERROR(ROUND('6 工程量清单表_(显示标段金额)'!G168,2)),ROUND('6 工程量清单表_(显示标段金额)'!G168,2)=""),0,ROUND('6 工程量清单表_(显示标段金额)'!G168,2)) -> 0
A18: 14 | B18: 600-10 | C18: 清单 第600章 安全设施及预埋管线(王沟路) | D18: =IF(OR(ISERROR(ROUND('6 工程量清单表_(显示标段金额)'!G188,2)),ROUND('6 工程量清单表_(显示标段金额)'!G188,2)=""),0,ROUND('6 工程量清单表_(显示标段金额)'!G188,2)) -> 0
A19: 15 | B19: 600-11 | C19: 清单 第600章 安全设施及预埋管线(老青墩路) | D19: =IF(OR(ISERROR(ROUND('6 工程量清单表_(显示标段金额)'!G199,2)),ROUND('6 工程量清单表_(显示标段金额)'!G199,2)=""),0,ROUND('6 工程量清单表_(显示标段金额)'!G199,2)) -> 0
A20: 16 | B20: 600-12 | C20: 清单 第600章 安全设施及预埋管线(X002环湖线、X101井嶂线、X252侍陆线) | D20: =IF(OR(ISERROR(ROUND('6 工程量清单表_(显示标段金额)'!G203,2)),ROUND('6 工程量清单表_(显示标段金额)'!G203,2)=""),0,ROUND('6 工程量清单表_(显示标段金额)'!G203,2)) -> 0
A21: 17 | B21: 600-13 | C21: 清单 第600章 安全设施及预埋管线(迎宾大道（月晓路一发展大道）及其它零星) | D21: =IF(OR(ISERROR(ROUND('6 工程量清单表_(显示标段金额)'!G231,2)),ROUND('6 工程量清单表_(显示标段金额)'!G231,2)=""),0,ROUND('6 工程量清单表_(显示标段金额)'!G231,2)) -> 0
A22: 18 | B22: 600-14 | C22: 清单 第600章 安全设施及预埋管线(交叉口增加标志（六个路口）) | D22: =IF(OR(ISERROR(ROUND('6 工程量清单表_(显示标段金额)'!G246,2)),ROUND('6 工程量清单表_(显示标段金额)'!G246,2)=""),0,ROUND('6 工程量清单表_(显示标段金额)'!G246,2)) -> 0
A23: 19 | B23: 600-15 | C23: 清单 第600章 安全设施及预埋管线(其它) | D23: =IF(OR(ISERROR(ROUND('6 工程量清单表_(显示标段金额)'!G259,2)),ROUND('6 工程量清单表_(显示标段金额)'!G259,2)=""),0,ROUND('6 工程量清单表_(显示标段金额)'!G259,2)) -> 0
C25: 【新点2013公路造价全国版 V10.4.7】
A27: 投标报价汇总表
A28: 工程名称：湖滨新区2026年度道路交通安全隐患整改项目 | D28: 第2页 共2页
A29: 20 | B29: 600-16 | C29: 清单 第600章 安全设施及预埋管线(照明工程) | D29: =IF(OR(ISERROR(ROUND('6 工程量清单表_(显示标段金额)'!G264,2)),ROUND('6 工程量清单表_(显示标段金额)'!G264,2)=""),0,ROUND('6 工程量清单表_(显示标段金额)'!G264,2)) -> 0
A30: 21 | B30: 700-1 | C30: 清单 第700章 绿化及环境保护设施（彩塑路与耀徐路交叉口） | D30: =IF(OR(ISERROR(ROUND('6 工程量清单表_(显示标段金额)'!G280,2)),ROUND('6 工程量清单表_(显示标段金额)'!G280,2)=""),0,ROUND('6 工程量清单表_(显示标段金额)'!G280,2)) -> 0
A31: 22 | B31: 700-2 | C31: 清单 第700章 绿化及环境保护设施（X002环湖线、X101井嶂线、X252侍陆线） | D31: =IF(OR(ISERROR(ROUND('6 工程量清单表_(显示标段金额)'!G284,2)),ROUND('6 工程量清单表_(显示标段金额)'!G284,2)=""),0,ROUND('6 工程量清单表_(显示标段金额)'!G284,2)) -> 0
A32: 23 | B32: 第100章至第700章合计 | D32: =ROUND(IF(OR(ISERROR(D5),D5=""),0,D5)+IF(OR(ISERROR(D6),D6=""),0,D6)+IF(OR(ISERROR(D7),D7=""),0,D7)+IF(OR(ISERROR(D8),D8=""),0,D8)+IF(OR(ISERROR(D9),D9=""),0,D9)+IF(OR(ISERROR(D10),D10=""),0,D10)+IF(OR(ISERROR(D11),D11=""),0,D11)+IF(OR(ISERROR(D12),D12=""),0,D12)+IF(OR(ISERROR(D13),D13=""),0,D13)+IF(OR(ISERROR(D14),D14=""),0,D14)+IF(OR(ISERROR(D15),D15=""),0,D15)+IF(OR(ISERROR(D16),D16=""),0,D16)+IF(OR(ISERROR(D17),D17=""),0,D17)+IF(OR(ISERROR(D18),D18=""),0,D18)+IF(OR(ISERROR(D19),D19=""),0,D19)+IF(OR(ISERROR(D20),D20=""),0,D20)+IF(OR(ISERROR(D21),D21=""),0,D21)+IF(OR(ISERROR(D22),D22=""),0,D22)+IF(OR(ISERROR(D23),D23=""),0,D23)+IF(OR(ISERROR(D29),D29=""),0,D29)+IF(OR(ISERROR(D30),D30=""),0,D30)+IF(OR(ISERROR(D31),D31=""),0,D31),2) -> 33225.87
A33: 24 | B33: 已包含在清单合计中的材料、工程设备、专业工程暂估价合计
A34: 25 | B34: 清单合计减去材料、工程设备、专业工程暂估价合计
A35: 26 | B35: 计日工合计
A36: 27 | B36: 暂列金额（不含计日工总额） | D36: 50000
A37: 28 | B37: 投标报价 | D37: =ROUND(IF(OR(ISERROR(D32),D32=""),0,D32)+IF(OR(ISERROR(D35),D35=""),0,D35)+IF(OR(ISERROR(D36),D36=""),0,D36),2) -> 83225.87
C56: 【新点2013公路造价全国版 V10.4.7】

Sheet 6 工程量清单表_(显示标段金额)
A2: 工程量清单表
A3: 工程名称：湖滨新区2026年度道路交通安全隐患整改项目 | E3: 第1页 共9页
A4: 序号 | B4: 项-目-节 | C4: 定额名称 | D4: 单位 | E4: 工程量 | F4: 单价（元） | G4: 合价（元）
C5: 湖滨新区2026年度道路交通安全隐患整改项目 | G5: =IF(OR(ISERROR(ROUND(G6+G20+G24+G28+G39+G57+G79+G95+G118+G129+G142+G154+G168+G188+G199+G203+G231+G246+G259+G264+G280+G284,2)),ROUND(G6+G20+G24+G28+G39+G57+G79+G95+G118+G129+G142+G154+G168+G188+G199+G203+G231+G246+G259+G264+G280+G284,2)=""),0,ROUND(G6+G20+G24+G28+G39+G57+G79+G95+G118+G129+G142+G154+G168+G188+G199+G203+G231+G246+G259+G264+G280+G284,2)) -> 33225.87
B6: 100 | C6: 第100章 | G6: =IF(OR(ISERROR(ROUND(SUM(G7:G19),2)),ROUND(SUM(G7:G19),2)=""),0,ROUND(SUM(G7:G19),2)) -> 33225.87
A7: 1 | B7: 101 | C7: 通则
A8: 2 | B8: 101-1 | C8: 保险费
A9: 3 | B9: -a | C9: 按合同条款规定，提供建筑工程一切险 | D9: 总额 | E9: 1.000 | G9: =ROUND(IF(OR(ISERROR(E9),E9=""),0,E9)*IF(OR(ISERROR(F9),F9=""),0,F9),2) -> 0
A10: 4 | B10: -b | C10: 按合同条款规定，提供第三者责任险（含巡查养护期一年） | D10: 总额 | E10: 1.000 | G10: =ROUND(IF(OR(ISERROR(E10),E10=""),0,E10)*IF(OR(ISERROR(F10),F10=""),0,F10),2) -> 0
A11: 5 | B11: -c | C11: 工伤保险费 | D11: 总额 | E11: 1.000 | G11: =ROUND(IF(OR(ISERROR(E11),E11=""),0,E11)*IF(OR(ISERROR(F11),F11=""),0,F11),2) -> 0
A12: 6 | B12: 102 | C12: 工程管理
A13: 7 | B13: 102-1 | C13: 竣工文件 | D13: 总额 | E13: 1.000 | G13: =ROUND(IF(OR(ISERROR(E13),E13=""),0,E13)*IF(OR(ISERROR(F13),F13=""),0,F13),2) -> 0
A14: 8 | B14: 102-2 | C14: 施工环保费 | D14: 总额 | E14: 1.000 | G14: =ROUND(IF(OR(ISERROR(E14),E14=""),0,E14)*IF(OR(ISERROR(F14),F14=""),0,F14),2) -> 0
A15: 9 | B15: 102-3 | C15: 安全生产费 | D15: 总额 | E15: 1.000 | F15: 33225.87 | G15: =ROUND(IF(OR(ISERROR(E15),E15=""),0,E15)*IF(OR(ISERROR(F15),F15=""),0,F15),2) -> 33225.87
A16: 10 | B16: 103 | C16: 临时工程与设施
A17: 11 | B17: 103-6 | C17: 施工围挡 | D17: 项 | E17: 1.000 | G17: =ROUND(IF(OR(ISERROR(E17),E17=""),0,E17)*IF(OR(ISERROR(F17),F17=""),0,F17),2) -> 0
A18: 12 | B18: 104 | C18: 承包人驻地建设
A19: 13 | B19: 104-1 | C19: 承包人驻地建设 | D19: 总额 | E19: 1.000 | G19: =ROUND(IF(OR(ISERROR(E19),E19=""),0,E19)*IF(OR(ISERROR(F19),F19=""),0,F19),2) -> 0
B20: 300-1 | C20: 第300章（市民活动中心南门、三峰路、天和路等） | G20: =IF(OR(ISERROR(ROUND(SUM(G21:G23),2)),ROUND(SUM(G21:G23),2)=""),0,ROUND(SUM(G21:G23),2)) -> 0
A21: 14 | B21: 312 | C21: 水泥混凝土面板
A22: 15 | B22: 312-1 | C22: 水泥混凝土面板
A23: 16 | B23: -a | C23: 侧分带拆除及硬化 40cmC30砼 | D23: m2 | E23: 247.000 | G23: =ROUND(IF(OR(ISERROR(E23),E23=""),0,E23)*IF(OR(ISERROR(F23),F23=""),0,F23),2) -> 0
B24: 300-2 | C24: 第300章（皂河液化气站路段、皂河镇黄河北岸12号电线杆处、黄庙大沟路段、湖峰路） | G24: =IF(OR(ISERROR(ROUND(SUM(G25:G27),2)),ROUND(SUM(G25:G27),2)=""),0,ROUND(SUM(G25:G27),2)) -> 0
A25: 17 | B25: 313 | C25: 路肩培土、中央分隔带回填土、土路肩加固及路缘石
A26: 18 | B26: 313-1 | C26: 培土
A27: 19 | B27: -a | C27: 培土 | D27: m3 | E27: 492.820 | G27: =ROUND(IF(OR(ISERROR(E27),E27=""),0,E27)*IF(OR(ISERROR(F27),F27=""),0,F27),2) -> 0
B28: 400 | C28: 第400章 | G28: =IF(OR(ISERROR(ROUND(SUM(G29:G38),2)),ROUND(SUM(G29:G38),2)=""),0,ROUND(SUM(G29:G38),2)) -> 0
A29: 20 | B29: 419 | C29: 圆管涵及倒虹吸管涵
A30: 21 | B30: 419-1 | C30: 单孔钢筋混凝土圆管涵
A31: 22 | B31: -a | C31: 管径1m顺路涵 | D31: m | E31: 44.000 | G31: =ROUND(IF(OR(ISERROR(E31),E31=""),0,E31)*IF(OR(ISERROR(F31),F31=""),0,F31),2) -> 0
A34: 工程量清单表
A35: 工程名称：湖滨新区2026年度道路交通安全隐患整改项目 | E35: 第2页 共9页
A36: 序号 | B36: 项-目-节 | C36: 定额名称 | D36: 单位 | E36: 工程量 | F36: 单价（元） | G36: 合价（元）
A37: 23 | B37: 419-2 | C37: 检查井
A38: 24 | B38: -a | C38: 砖砌检查井 | D38: 座 | E38: 3 | G38: =ROUND(IF(OR(ISERROR(E38),E38=""),0,E38)*IF(OR(ISERROR(F38),F38=""),0,F38),2) -> 0
B39: 600-1 | C39: 第600章（235国道与迎宾大道交叉口） | G39: =IF(OR(ISERROR(ROUND(SUM(G40:G56),2)),ROUND(SUM(G40:G56),2)=""),0,ROUND(SUM(G40:G56),2)) -> 0
A40: 25 | B40: 604 | C40: 道路交通标志
A41: 26 | B41: 604-1 | C41: 单柱式交通标志
A42: 27 | B42: -a | C42: 人行横道标志（矩形120x120cm） | D42: 个 | E42: 4 | G42: =ROUND(IF(OR(ISERROR(E42),E42=""),0,E42)*IF(OR(ISERROR(F42),F42=""),0,F42),2) -> 0
A43: 28 | B43: 605 | C43: 道路交通标线
...
