Workbook

Sheet 封面
A2: 2026-2029年雨花街道排水设施管养服务
A3: 一标段
A5: 采
A6: 购
A7: 清
A8: 单
A11: 采购单位：南京市雨花台区人民政府雨花街道办事处
A12: 采购代理：南京雨顺丰华工程科技咨询股份有限公司
A13: 二〇二六年九月

Sheet 清单说明 
A1: 服务采购清单说明
A2: 项目名称：2026-2029年雨花街道排水设施管养服务 | G2: 标段： | H2: 一标段
A3: 一、采购清单说明
A4: （1）本采购清单是根据招标文件中包括的有合同约束力的采购清单计量规则、有关采购清单的国家标准、行业标准、合同条款中约定的其他规则编制。
A5: （2）本采购清单应与招标文件中的投标人须知、通用合同条款、专用合同条款、采购清单计量规则、技术规范等一起阅读和理解。
A6: （3）采购清单中所列工程数量是预估计数量，仅作为投标报价的共同基础，不能作为最终结算与支付的依据。结算工程量按实际管道维护长度（或实际排水设施维护数量）计量，结算单价执行中标单价。
A7: （4）对作业和材料的一般说明或规定，未重复写入采购清单内，在给采购清单各子目标价前，应参阅“采购需求”的有关内容。
A8: （5）采购清单中所列工程量的变动，丝毫不会降低或影响合同条款的效力，也不免除承包人按规定的标准进行施工和修复缺陷的责任。
A9: 二、投标报价说明
A10: （1）采购清单中的每一子目须填入单价或价格，且只允许有一个报价。
A11: （2）除非合同另有规定，采购清单中有标价的单价和总额价均已包含了为实施和完成合同工程所需的劳务、材料、机械、质检（自检）、安装、缺陷修复、管理、保险、利润、税费等完成本服务所有费用，以及合同明示或暗示的所有责任、义务和一般风险。
A12: （3）采购清单中投标人没有填入单价或价格的子目，其费用视为已分摊在采购清单中其他相关子目的单价或价格之中。承包人必须完成采购清单中未填入单价或价格的子目，但不能得到结算与支付。
A13: （4）投标价及投标综合单价包含但不限于与投标项目有关的所用费用，以及技术资料、支付给员工的工资和国家强制缴纳的各种社会保障资金，以及供应商认为需要的其他费用等。
A14: （5）采购清单中各项金额均以人民币（元）结算。
... A23: （3）排水设施养护标准和养护工作内容详见招标文件要求。

Sheet 一标段汇总
A1: 采购清单汇总表
A2: 项目名称：2026-2029年雨花街道排水设施管养服务 | D2: 标段：一标段
A3: 序号 | B3: 项目名称 | D3: 金额（元）
A4: 1 | B4: 污水管 | D4: =SUMIF(一标段清单!C3:C197,B4,一标段清单!G3:G197) -> 0
A5: 2 | B5: 雨水管 | D5: =SUMIF(一标段清单!C3:C197,B5,一标段清单!G3:G197) -> 0
A6: 3 | B6: 化粪池 | D6: =SUMIF(一标段清单!C3:C197,B6,一标段清单!G3:G197) -> 0
A7: 4 | B7: 截流泵站 | D7: =SUMIF(一标段清单!C3:C197,B7,一标段清单!G3:G197) -> 0
A8: 5 | B8: 污水阀 | D8: =SUMIF(一标段清单!C3:C197,B8,一标段清单!G3:G197) -> 0
A9: 6 | B9: 雨水闸门 | D9: =SUMIF(一标段清单!C3:C197,B9,一标段清单!G3:G197) -> 0
A10: 7 | B10: 污水泵 | D10: =SUMIF(一标段清单!C3:C197,B10,一标段清单!G3:G197) -> 0
A11: 8 | B11: 以上排水设施管养一年服务期报价 | D11: =SUM(D4:D10) -> 0
A12: 9 | B12: 投标价（三年服务期报价） | D12: =D11*3 -> 0
A13: 备注：本项目采购服务期限为三年。

Sheet 一标段清单
A1: 2026-2029年雨花街道排水设施管养服务（一标段）
A2: 序号 | B2: 服务区域 | C2: 设施名称 | D2: 单位 | E2: 数量 | F2: 年度综合单价（元/年） | G2: 合价（元/年） | H2: 备注
A3: 1 | B3: 中交锦致和绿地玉辉 | C3: 污水管 | D3: m | E3: 3389.1 | G3: =E3*F3 -> 0
C4: 雨水管 | D4: m | E4: 6835.4 | G4: =E4*F4 -> 0
C5: 化粪池 | D5: 座 | E5: 10 | G5: =E5*F5 -> 0
A6: 2 | B6: 万科九都荟 民和路（雨花外国语小学附属幼儿园 民和路12号） | C6: 污水管 | D6: m | E6: 6719.9 | G6: =E6*F6 -> 0
C7: 雨水管 | D7: m | E7: 7550.4 | G7: =E7*F7 -> 0
C8: 化粪池 | D8: 座 | E8: 0 | G8: =E8*F8 -> 0
A9: 3 | B9: 万科大都荟 民权路1号（大都荟幼儿园 博爱街26号） | C9: 污水管 | D9: m | E9: 1620.3 | G9: =E9*F9 -> 0
C10: 雨水管 | D10: m | E10: 1629.1 | G10: =E10*F10 -> 0
C11: 化粪池 | D11: 座 | E11: 1 | G11: =E11*F11 -> 0
A12: 4 | B12: 万科尚都荟博爱街27号 | C12: 污水管 | D12: m | E12: 2781.9 | G12: =E12*F12 -> 0
C13: 雨水管 | D13: m | E13: 2322.1 | G13: =E13*F13 -> 0
C14: 化粪池 | D14: 座 | E14: 0 | G14: =E14*F14 -> 0
A15: 5 | B15: 都荟南苑民和路17号 | C15: 污水管 | D15: m | E15: 1200.1 | G15: =E15*F15 -> 0
C16: 雨水管 | D16: m | E16: 1742.4 | G16: =E16*F16 -> 0
C17: 化粪池 | D17: 座 | E17: 0 | G17: =E17*F17 -> 0
A18: 6 | B18: 双龙嘉园 | C18: 污水管 | D18: m | E18: 5025.8 | G18: =E18*F18 -> 0
C19: 雨水管 | D19: m | E19: 5720.5 | G19: =E19*F19 -> 0
C20: 化粪池 | D20: 座 | E20: 0 | G20: =E20*F20 -> 0
A21: 7 | B21: 站前派出所 | C21: 污水管 | D21: m | E21: 13.4 | G21: =E21*F21 -> 0
C22: 雨水管 | D22: m | E22: 119.7 | G22: =E22*F22 -> 0
C23: 化粪池 | D23: 座 | E23: 0 | G23: =E23*F23 -> 0
A24: 8 | B24: 南京地铁 | C24: 污水管 | D24: m | E24: 847.5 | G24: =E24*F24 -> 0
C25: 雨水管 | D25: m | E25: 929.6 | G25: =E25*F25 -> 0
C26: 化粪池 | D26: 座 | E26: 0 | G26: =E26*F26 -> 0
A27: 9 | B27: 雨花外国语小学 | C27: 污水管 | D27: m | E27: 1394.4 | G27: =E27*F27 -> 0
C28: 雨水管 | D28: m | E28: 2219.6 | G28: =E28*F28 -> 0
C29: 化粪池 | D29: 座 | E29: 0 | G29: =E29*F29 -> 0
A30: 10 | B30: 雨花街道办事处 | C30: 污水管 | D30: m | E30: 337 | G30: =E30*F30 -> 0
C31: 雨水管 | D31: m | E31: 823 | G31: =E31*F31 -> 0
C32: 化粪池 | D32: 座 | E32: 0 | G32: =E32*F32 -> 0
A33: 11 | B33: 花神庙社区科技园 | C33: 污水管 | D33: m | E33: 588.8 | G33: =E33*F33 -> 0
C34: 雨水管 | D34: m | E34: 1419.2 | G34: =E34*F34 -> 0
C35: 化粪池 | D35: 座 | E35: 0 | G35: =E35*F35 -> 0
A36: 12 | B36: 长发诸公小区 | C36: 污水管 | D36: m | E36: 2823 | G36: =E36*F36 -> 0
C37: 雨水管 | D37: m | E37: 3926 | G37: =E37*F37 -> 0
C38: 化粪池 | D38: 座 | E38: 0 | G38: =E38*F38 -> 0
A39: 13 | B39: 共青团路51号院 | C39: 污水管 | D39: m | E39: 3360 | G39: =E39*F39 -> 0
C40: 雨水管 | D40: m | E40: 1443 | G40: =E40*F40 -> 0
...
