Workbook

Sheet 扉-3 投标总价扉页
B1: 沭阳县2026年度农村公路危桥改造 | F1: 工程
A2: 投 标 报 价
A3: 招 标 人：
A4: 工 程 名 称： | B4: 沭阳县2026年度农村公路危桥改造工程
A5: 投 标 报 价 | B5: （小写）：
B6: （大写）：
A7: 投标人：
B8: (单位盖章)
A9: 法定代表人 或其授权人：
B10: (签字或盖章)
A11: 编 制 人：
B12: （造价人员签字盖专用章）
A13: 编制时间：
F14: 扉-3

Sheet 全标段投标报价汇总表
A1: 全标段招标报价汇总表
A2: 工程名称：沭阳县2026年度农村公路危桥改造工程 | K2: 第 1 页 共 1 页
A3: 项次 | B3: 章次 | C3: 工程或费用名称 | D3: 合计 | E3: 招标金额（元）
E4: 沭阳县2026年度农村公路危桥改造工程-钱集镇陈洼中沟桥 | G4: 沭阳县2026年度农村公路危桥改造工程-庙头镇赶埠六组桥 | H4: 沭阳县2026年度农村公路危桥改造工程-韩山镇桔园韩西河桥
A5: 1 | B5: 100 | C5: 第100章 总则 | D5: =SUM(E5:H5) -> 24932.54 | E5: ='【标表2-2】工程量清单表（钱集镇陈洼中沟桥）'!I36 -> 7017.3 | G5: ='【标表2-2】工程量清单表（庙头镇赶埠六组桥）'!I36 -> 9114.09 | H5: ='【标表2-2】工程量清单表（韩山镇桔园韩西河桥）'!I36 -> 8801.15
A6: 2 | B6: 300 | C6: 第300章 路面 | D6: =SUM(E6:H6) -> 0 | E6: ='【标表2-2】工程量清单表（钱集镇陈洼中沟桥）'!I77 -> 0 | G6: ='【标表2-2】工程量清单表（庙头镇赶埠六组桥）'!I77 -> 0 | H6: ='【标表2-2】工程量清单表（韩山镇桔园韩西河桥）'!I77 -> 0
A7: 3 | B7: 400 | C7: 第400章 桥梁、涵洞 | D7: =SUM(E7:H7) -> 0 | E7: ='【标表2-2】工程量清单表（钱集镇陈洼中沟桥）'!I183 -> 0 | G7: ='【标表2-2】工程量清单表（庙头镇赶埠六组桥）'!I183 -> 0 | H7: ='【标表2-2】工程量清单表（韩山镇桔园韩西河桥）'!I183 -> 0
A8: 4 | B8: 600 | C8: 第600章 安全设施及预埋管线 | D8: =SUM(E8:H8) -> 0 | E8: ='【标表2-2】工程量清单表（钱集镇陈洼中沟桥）'!I235 -> 0 | G8: ='【标表2-2】工程量清单表（庙头镇赶埠六组桥）'!I235 -> 0 | H8: ='【标表2-2】工程量清单表（韩山镇桔园韩西河桥）'!I197 -> 0
A9: 5 | B9: 第100章至第700章合计 | D9: =SUM(E9:H9) -> 24932.54 | E9: =SUM(E5:F8) -> 7017.3 | G9: =SUM(G5:G8) -> 9114.09 | H9: =SUM(H5:H8) -> 8801.15
A10: 6 | B10: 已包含在清单合计中的材料、工程设备、专业工程暂估价合计
A11: 7 | B11: 清单合计减去材料、工程设备、专业工程暂估价合计 | D11: =D9 -> 24932.54 | E11: =E9 -> 7017.3 | G11: =G9 -> 9114.09 | H11: =H9 -> 8801.15
A12: 8 | B12: 计日工合计
A13: 9 | B13: 暂列金额（不含计日工总额）
A14: 10 | B14: 投标报价 | D14: =D9 -> 24932.54 | E14: =E9 -> 7017.3 | G14: =G11 -> 9114.09 | H14: =H9 -> 8801.15

Sheet 【标表2-2】工程量清单表（钱集镇陈洼中沟桥）
A1: 工程量清单表（招标）
A2: 合同段：沭阳县2026年度农村公路危桥改造工程-钱集镇陈洼中沟桥 | G2: 标表2
A3: 清单 第100章 总则 | D3: 项目特征
A4: 子目号 | B4: 子目名称 | D4: 项目特征 | E4: 单位 | F4: 数量 | H4: 单价 | I4: 合价
A5: 101 | B5: 通则
A6: 101-1 | B6: 保险费
A7: -a | B7: 按合同条款规定，提供建筑工程一切险 | E7: 总额 | F7: 1 | I7: =F7*H7 -> 0
A8: -b | B8: 按合同条款规定，提供第三者责任险 | E8: 总额 | F8: 1 | I8: =F8*H8 -> 0
A9: 102 | B9: 工程管理
A10: 102-1 | B10: 竣工文件 | E10: 总额 | F10: 1 | I10: =F10*H10 -> 0
A11: 102-2 | B11: 施工环保费 | E11: 总额 | F11: 1 | I11: =F11*H11 -> 0
A12: 102-3 | B12: 安全生产费(投标按最高限价1.5%计算) | E12: 总额 | F12: 1 | H12: 7017.3 | I12: =F12*H12 -> 7017.3
A13: 103 | B13: 临时工程与设施
A14: 103-1 | B14: 老桥拆除、临时道路修建、养护与拆除（包括原道路的养护） | D14: 1、原老桥拆除 2、包括接线部位混凝土路面拆除 3、拆除废料用作搭设临时便桥、便道，需考虑埋设圆管涵，保证车辆和行人顺利通行。具体实施方案由投标单位自行考虑 4、完工后便桥清理、外运，外运距离自行考虑 5、此费用包含以上内容的所有费用 | E14: 总额 | F14: 1 | I14: =F14*H14 -> 0
A15: 104 | B15: 承包人驻地建设
A16: 104-1 | B16: 承包人驻地建设 | D16: 驻地、材料堆放场、钢筋加工工棚等 | E16: 项 | F16: 1 | I16: =F16*H16 -> 0
A36: 清单 第100章 合计 | I36: =SUM(I7:I16) -> 7017.3
G37: 清单 第 1 页 共 8 页
A38: 工程量清单表（招标）
A39: 合同段：沭阳县2026年度农村公路危桥改造工程-钱集镇陈洼中沟桥 | G39: 标表2
A40: 清单 第300章 路面 | D40: 项目特征
A41: 子目号 | B41: 子目名称 | D41: 项目特征 | E41: 单位 | F41: 数量 | H41: 单价 | I41: 合价
A42: 312 | B42: 水泥混凝土面板
A43: 312-1 | B43: 水泥混凝土面板
A44: -a | B44: 台后道路连线 | D44: 1、20cmC30混凝土 2、20cmC15混凝土 3、15cm级配碎石调平层，压实度不小于98% 4、此费用包含模板支拆、混凝土浇筑、养护等所有费用 | E44: m2 | F44: 210 | I44: =F44*H44 -> 0
A45: -b | B45: 灰土层 | D45: 6%灰土，分层压实，3层共60cm（每层20cm），压实度不小于96%，外购土方另计 | E45: m3 | F45: 43.2 | I45: =F45*H45 -> 0
A77: 清单 第300章 合计 | I77: =SUM(I44:I76) -> 0
G78: 清单 第 2 页 共 8 页
A79: 工程量清单表（招标）
A80: 合同段：沭阳县2026年度农村公路危桥改造工程-钱集镇陈洼中沟桥 | G80: 标表2
A81: 清单 第400章 桥梁、涵洞 | D81: 项目特征
A82: 子目号 | B82: 子目名称 | D82: 项目特征 | E82: 单位 | F82: 数量 | H82: 单价 | I82: 合价
A83: 403 | B83: 钢筋
A84: 403-1 | B84: 基础钢筋(含灌注桩、承台、桩系梁、沉桩、沉井等)
A85: -a | B85: 灌注桩钢筋 | D85: 灌注桩钢筋 | E85: kg | F85: 6813.6 | I85: =F85*H85 -> 0
A86: 403-2 | B86: 下部结构钢筋
A87: -b | B87: 下部结构钢筋 | D87: 盖梁钢筋 | E87: kg | F87: 2250.6 | I87: =F87*H87 -> 0
A88: -c | B88: 下部结构钢筋 | D88: 耳背墙钢筋 | E88: kg | F88: 851.7 | I88: =F88*H88 -> 0
A89: 403-3 | B89: 上部结构钢筋
A90: -a | B90: 上部结构钢筋 | D90: 预制空心板钢筋，预制钢板等 | E90: kg | F90: 3642 | I90: =F90*H90 -> 0
...

Sheet 【标表2-2】工程量清单表（庙头镇赶埠六组桥）
A1: 工程量清单表（招标）
A2: 合同段：沭阳县2026年度农村公路危桥改造工程-庙头镇赶埠六组桥 | G2: 标表2
A3: 清单 第100章 总则 | D3: 项目特征
A4: 子目号 | B4: 子目名称 | D4: 项目特征 | E4: 单位 | F4: 数量 | H4: 单价 | I4: 合价
A5: 101 | B5: 通则
A6: 101-1 | B6: 保险费
A7: -a | B7: 按合同条款规定，提供建筑工程一切险 | E7: 总额 | F7: 1 | I7: =H7*F7 -> 0
A8: -b | B8: 按合同条款规定，提供第三者责任险 | E8: 总额 | F8: 1 | I8: =H8*F8 -> 0
A9: 102 | B9: 工程管理
A10: 102-1 | B10: 竣工文件 | E10: 总额 | F10: 1 | I10: =H10*F10 -> 0
A11: 102-2 | B11: 施工环保费 | E11: 总额 | F11: 1 | I11: =H11*F11 -> 0
A12: 102-3 | B12: 安全生产费(投标按最高限价1.5%计算) | E12: 总额 | F12: 1 | H12: 9114.09 | I12: =H12*F12 -> 9114.09
A13: 103 | B13: 临时工程与设施
A14: 103-1 | B14: 老桥拆除、临时道路修建、养护与拆除（包括原道路的养护） | D14: 1、原老桥拆除 2、包括接线部位混凝土路面拆除 3、拆除废料用作搭设临时便桥、便道，需考虑埋设圆管涵，保证车辆和行人顺利通行。具体实施方案由投标单位自行考虑 4、完工后便桥清理、外运，外运距离自行考虑 5、此费用包含以上内容的所有费用 | E14: 总额 | F14: 1 | I14: =H14*F14 -> 0
A15: 104 | B15: 承包人驻地建设
A16: 104-1 | B16: 承包人驻地建设 | D16: 驻地、材料堆放场、钢筋加工工棚等 | E16: 项 | F16: 1 | I16: =H16*F16 -> 0
A36: 清单 第100章 合计 | I36: =SUM(I7:I16) -> 9114.09
G37: 清单 第 1 页 共 8 页
A38: 工程量清单表（招标）
A39: 合同段：沭阳县2026年度农村公路危桥改造工程-庙头镇赶埠六组桥 | G39: 标表2
A40: 清单 第300章 路面 | D40: 项目特征
A41: 子目号 | B41: 子目名称 | D41: 项目特征 | E41: 单位 | F41: 数量 | H41: 单价 | I41: 合价
A42: 312 | B42: 水泥混凝土面板
A43: 312-1 | B43: 水泥混凝土面板
A44: -a | B44: 台后道路连线 | D44: 1、20cmC30混凝土 2、20cmC15混凝土 3、15cm级配碎石调平层，压实度不小于98% 4、此费用包含模板支拆、混凝土浇筑、养护等所有费用 | E44: m2 | F44: 260 | I44: =H44*F44 -> 0
A45: -b | B45: 灰土层 | D45: 6%灰土，分层压实，3层共60cm（每层20cm），压实度不小于96%，外购土方另计 | E45: m3 | F45: 43.2 | I45: =H45*F45 -> 0
A77: 清单 第300章 合计 | I77: =SUM(I44:I76) -> 0
G78: 清单 第 2 页 共 8 页
A79: 工程量清单表（招标）
A80: 合同段：沭阳县2026年度农村公路危桥改造工程-庙头镇赶埠六组桥 | G80: 标表2
A81: 清单 第400章 桥梁、涵洞 | D81: 项目特征
A82: 子目号 | B82: 子目名称 | D82: 项目特征 | E82: 单位 | F82: 数量 | H82: 单价 | I82: 合价
A83: 403 | B83: 钢筋
A84: 403-1 | B84: 基础钢筋(含灌注桩、承台、桩系梁、沉桩、沉井等)
A85: -a | B85: 灌注桩钢筋 | D85: 灌注桩钢筋 | E85: kg | F85: 5916.4 | I85: =H85*F85 -> 0
A86: 403-2 | B86: 下部结构钢筋
A87: -b | B87: 下部结构钢筋 | D87: 盖梁钢筋 | E87: kg | F87: 2830.6 | I87: =H87*F87 -> 0
A88: -c | B88: 下部结构钢筋 | D88: 耳背墙钢筋 | E88: kg | F88: 1374.8 | I88: =H88*F88 -> 0
A89: 403-3 | B89: 上部结构钢筋
A90: -a | B90: 上部结构钢筋 | D90: 预制空心板钢筋，预制钢板等 | E90: kg | F90: 7464.9 | I90: =H90*F90 -> 0
...

Sheet 【标表2-2】工程量清单表（韩山镇桔园韩西河桥）
A1: 工程量清单表（招标）
A2: 合同段：沭阳县2026年度农村公路危桥改造工程-韩山镇桔园韩西河桥 | G2: 标表2
A3: 清单 第100章 总则 | D3: 项目特征
A4: 子目号 | B4: 子目名称 | D4: 项目特征 | E4: 单位 | F4: 数量 | H4: 单价 | I4: 合价
A5: 101 | B5: 通则
A6: 101-1 | B6: 保险费
A7: -a | B7: 按合同条款规定，提供建筑工程一切险 | E7: 总额 | F7: 1 | I7: =H7*F7 -> 0
A8: -b | B8: 按合同条款规定，提供第三者责任险 | E8: 总额 | F8: 1 | I8: =H8*F8 -> 0
A9: 102 | B9: 工程管理
A10: 102-1 | B10: 竣工文件 | E10: 总额 | F10: 1 | I10: =H10*F10 -> 0
A11: 102-2 | B11: 施工环保费 | E11: 总额 | F11: 1 | I11: =H11*F11 -> 0
A12: 102-3 | B12: 安全生产费(投标按最高限价1.5%计算) | E12: 总额 | F12: 1 | H12: 8801.15 | I12: =H12*F12 -> 8801.15
A13: 103 | B13: 临时工程与设施
A14: 103-1 | B14: 老桥拆除、临时道路修建、养护与拆除（包括原道路的养护） | D14: 1、原老桥拆除 2、包括接线部位混凝土路面拆除 3、拆除废料用作搭设临时便桥、便道，需考虑埋设圆管涵，保证车辆和行人顺利通行。具体实施方案由投标单位自行考虑 4、完工后便桥清理、外运，外运距离自行考虑 5、此费用包含以上内容的所有费用 | E14: 总额 | F14: 1 | I14: =H14*F14 -> 0
A15: 104 | B15: 承包人驻地建设
A16: 104-1 | B16: 承包人驻地建设 | D16: 驻地、材料堆放场、钢筋加工工棚等 | E16: 项 | F16: 1 | I16: =H16*F16 -> 0
A36: 清单 第100章 合计 | I36: =SUM(I7:I16) -> 8801.15
G37: 清单 第 1 页 共 7 页
A38: 工程量清单表（招标）
A39: 合同段：沭阳县2026年度农村公路危桥改造工程-韩山镇桔园韩西河桥 | G39: 标表2
A40: 清单 第300章 路面 | D40: 项目特征
A41: 子目号 | B41: 子目名称 | D41: 项目特征 | E41: 单位 | F41: 数量 | H41: 单价 | I41: 合价
A42: 312 | B42: 水泥混凝土面板
A43: 312-1 | B43: 水泥混凝土面板
A44: -a | B44: 台后道路连线 | D44: 1、20cmC30混凝土 2、20cmC15混凝土 3、15cm级配碎石调平层，压实度不小于98% 4、此费用包含模板支拆、混凝土浇筑、养护等所有费用 | E44: m2 | F44: 210 | I44: =H44*F44 -> 0
A45: -b | B45: 灰土层 | D45: 6%灰土，分层压实，3层60cm（每层20cm），压实度不小于96%，外购土方另计 | E45: m3 | F45: 43.2 | I45: =H45*F45 -> 0
A77: 清单 第300章 合计 | I77: =SUM(I44:I76) -> 0
G78: 清单 第 2 页 共 7 页
A79: 工程量清单表（招标）
A80: 合同段：沭阳县2026年度农村公路危桥改造工程-韩山镇桔园韩西河桥 | G80: 标表2
A81: 清单 第400章 桥梁、涵洞 | D81: 项目特征
A82: 子目号 | B82: 子目名称 | D82: 项目特征 | E82: 单位 | F82: 数量 | H82: 单价 | I82: 合价
A83: 403 | B83: 钢筋
A84: 403-1 | B84: 基础钢筋(含灌注桩、承台、桩系梁、沉桩、沉井等)
A85: -a | B85: 灌注桩钢筋 | D85: 灌注桩钢筋 | E85: kg | F85: 5764.4 | I85: =H85*F85 -> 0
A86: 403-2 | B86: 下部结构钢筋
A87: -b | B87: 下部结构钢筋 | D87: 盖梁钢筋 | E87: kg | F87: 2830.6 | I87: =H87*F87 -> 0
A88: -c | B88: 下部结构钢筋 | D88: 耳背墙钢筋 | E88: kg | F88: 1374.8 | I88: =H88*F88 -> 0
A89: 403-3 | B89: 上部结构钢筋
A90: -a | B90: 上部结构钢筋 | D90: 预制空心板钢筋，预制钢板等 | E90: kg | F90: 7464.9 | I90: =H90*F90 -> 0
...
