Workbook

Sheet 扉-3 投标总价扉页
B1: 沭阳县2026年度农村公路危桥改造 | F1: 工程
A2: 投 标 报 价
A3: 招 标 人：
A4: 工 程 名 称： | B4: 沭阳县2026年度农村公路危桥改造工程
A5: 投 标 报 价 | B5: （小写）：
B6: （大写）：
A7: 投标人：
B8: (单位盖章)
A9: 法定代表人 或其授权人：
B10: (签字或盖章)
A11: 编 制 人：
B12: （造价人员签字盖专用章）
A13: 编制时间：
F14: 扉-3

Sheet 全标段投标报价汇总表
A1: 全标段招标报价汇总表
A2: 工程名称：沭阳县2026年度农村公路危桥改造工程 | K2: 第 1 页 共 1 页
A3: 项次 | B3: 章次 | C3: 工程或费用名称 | D3: 合计 | E3: 招标金额（元）
E4: 沭阳县2026年度农村公路危桥改造工程-钱集镇陈洼中沟桥 | G4: 沭阳县2026年度农村公路危桥改造工程-庙头镇赶埠六组桥 | H4: 沭阳县2026年度农村公路危桥改造工程-韩山镇桔园韩西河桥
A5: 1 | B5: 100 | C5: 第100章 总则 | D5: =SUM(E5:H5) -> 24932.54 | E5: ='【标表2-2】工程量清单表（钱集镇陈洼中沟桥）'!I36 -> 7017.3 | G5: ='【标表2-2】工程量清单表（庙头镇赶埠六组桥）'!I36 -> 9114.09 | H5: ='【标表2-2】工程量清单表（韩山镇桔园韩西河桥）'!I36 -> 8801.15
A6: 2 | B6: 300 | C6: 第300章 路面 | D6: =SUM(E6:H6) -> 0 | E6: ='【标表2-2】工程量清单表（钱集镇陈洼中沟桥）'!I77 -> 0 | G6: ='【标表2-2】工程量清单表（庙头镇赶埠六组桥）'!I77 -> 0 | H6: ='【标表2-2】工程量清单表（韩山镇桔园韩西河桥）'!I77 -> 0
A7: 3 | B7: 400 | C7: 第400章 桥梁、涵洞 | D7: =SUM(E7:H7) -> 0 | E7: ='【标表2-2】工程量清单表（钱集镇陈洼中沟桥）'!I183 -> 0 | G7: ='【标表2-2】工程量清单表（庙头镇赶埠六组桥）'!I183 -> 0 | H7: ='【标表2-2】工程量清单表（韩山镇桔园韩西河桥）'!I183 -> 0
A8: 4 | B8: 600 | C8: 第600章 安全设施及预埋管线 | D8: =SUM(E8:H8) -> 0 | E8: ='【标表2-2】工程量清单表（钱集镇陈洼中沟桥）'!I235 -> 0 | G8: ='【标表2-2】工程量清单表（庙头镇赶埠六组桥）'!I235 -> 0 | H8: ='【标表2-2】工程量清单表（韩山镇桔园韩西河桥）'!I197 -> 0
A9: 5 | B9: 第100章至第700章合计 | D9: =SUM(E9:H9) -> 24932.54 | E9: =SUM(E5:F8) -> 7017.3 | G9: =SUM(G5:G8) -> 9114.09 | H9: =SUM(H5:H8) -> 8801.15
A10: 6 | B10: 已包含在清单合计中的材料、工程设备、专业工程暂估价合计
A11: 7 | B11: 清单合计减去材料、工程设备、专业工程暂估价合计 | D11: =D9 -> 24932.54 | E11: =E9 -> 7017.3 | G11: =G9 -> 9114.09 | H11: =H9 -> 8801.15
A12: 8 | B12: 计日工合计
A13: 9 | B13: 暂列金额（不含计日工总额）
A14: 10 | B14: 投标报价 | D14: =D9 -> 24932.54 | E14: =E9 -> 7017.3 | G14: =G11 -> 9114.09 | H14: =H9 -> 8801.15

Sheet 【标表2-2】工程量清单表（钱集镇陈洼中沟桥）
A1: 工程量清单表（招标）
A2: 合同段：沭阳县2026年度农村公路危桥改造工程-钱集镇陈洼中沟桥 | G2: 标表2
A3: 清单 第100章 总则 | D3: 项目特征
A4: 子目号 | B4: 子目名称 | D4: 项目特征 | E4: 单位 | F4: 数量 | H4: 单价 | I4: 合价
A5: 101 | B5: 通则
A6: 101-1 | B6: 保险费
A7: -a | B7: 按合同条款规定，提供建筑工程一切险 | E7: 总额 | F7: 1 | I7: =F7*H7 -> 0
A8: -b | B8: 按合同条款规定，提供第三者责任险 | E8: 总额 | F8: 1 | I8: =F8*H8 -> 0
A9: 102 | B9: 工程管理
A10: 102-1 | B10: 竣工文件 | E10: 总额 | F10: 1 | I10: =F10*H10 -> 0
A11: 102-2 | B11: 施工环保费 | E11: 总额 | F11: 1 | I11: =F11*H11 -> 0
A12: 102-3 | B12: 安全生产费(投标按最高限价1.5%计算) | E12: 总额 | F12: 1 | H12: 7017.3 | I12: =F12*H12 -> 7017.3
A13: 103 | B13: 临时工程与设施
A14: 103-1 | B14: 老桥拆除、临时道路修建、养护与拆除（包括原道路的养护） | D14: 1、原老桥拆除 2、包括接线部位混凝土路面拆除 3、拆除废料用作搭设临时便桥、便道，需考虑埋设圆管涵，保证车辆和行人顺利通行。具体实施方案由投标单位自行考虑 4、完工后便桥清理、外运，外运距离自行考虑 5、此费用包含以上内容的所有费用 | E14: 总额 | F14: 1 | I14: =F14*H14 -> 0
A15: 104 | B15: 承包人驻地建设
A16: 104-1 | B16: 承包人驻地建设 | D16: 驻地、材料堆放场、钢筋加工工棚等 | E16: 项 | F16: 1 | I16: =F16*H16 -> 0
A36: 清单 第100章 合计 | I36: =SUM(I7:I16) -> 7017.3
G37: 清单 第 1 页 共 8 页
A38: 工程量清单表（招标）
A39: 合同段：沭阳县2026年度农村公路危桥改造工程-钱集镇陈洼中沟桥 | G39: 标表2
A40: 清单 第300章 路面 | D40: 项目特征
A41: 子目号 | B41: 子目名称 | D41: 项目特征 | E41: 单位 | F41: 数量 | H41: 单价 | I41: 合价
A42: 312 | B42: 水泥混凝土面板
A43: 312-1 | B43: 水泥混凝土面板
A44: -a | B44: 台后道路连线 | D44: 1、20cmC30混凝土 2、20cmC15混凝土 3、15cm级配碎石调平层，压实度不小于98% 4、此费用包含模板支拆、混凝土浇筑、养护等所有费用 | E44: m2 | F44: 210 | I44: =F44*H44 -> 0
A45: -b | B45: 灰土层 | D45: 6%灰土，分层压实，3层共60cm（每层20cm），压实度不小于96%，外购土方另计 | E45: m3 | F45: 43.2 | I45: =F45*H45 -> 0
A77: 清单 第300章 合计 | I77: =SUM(I44:I76) -> 0
G78: 清单 第 2 页 共 8 页
A79: 工程量清单表（招标）
A80: 合同段：沭阳县2026年度农村公路危桥改造工程-钱集镇陈洼中沟桥 | G80: 标表2
A81: 清单 第400章 桥梁、涵洞 | D81: 项目特征
A82: 子目号 | B82: 子目名称 | D82: 项目特征 | E82: 单位 | F82: 数量 | H82: 单价 | I82: 合价
A83: 403 | B83: 钢筋
A84: 403-1 | B84: 基础钢筋(含灌注桩、承台、桩系梁、沉桩、沉井等)
A85: -a | B85: 灌注桩钢筋 | D85: 灌注桩钢筋 | E85: kg | F85: 6813.6 | I85: =F85*H85 -> 0
A86: 403-2 | B86: 下部结构钢筋
A87: -b | B87: 下部结构钢筋 | D87: 盖梁钢筋 | E87: kg | F87: 2250.6 | I87: =F87*H87 -> 0
A88: -c | B88: 下部结构钢筋 | D88: 耳背墙钢筋 | E88: kg | F88: 851.7 | I88: =F88*H88 -> 0
A89: 403-3 | B89: 上部结构钢筋
A90: -a | B90: 上部结构钢筋 | D90: 预制空心板钢筋，预制钢板等 | E90: kg | F90: 3642 | I90: =F90*H90 -> 0
A91: -b | B91: 上部结构钢筋 | D91: 搭板钢筋 | E91: kg | F91: 3754.4 | I91: =F91*H91 -> 0
A92: -c | B92: 上部结构钢筋 | D92: 挡块钢筋 | E92: kg | F92: 164.2 | I92: =F92*H92 -> 0
A93: -d | B93: 上部结构钢筋 | D93: 预制空心板铰缝钢筋等 | E93: kg | F93: 421.8 | I93: =F93*H93 -> 0
A94: 403-4 | B94: 附属结构钢筋
A95: -a | B95: 桥面铺装钢筋 | D95: 桥面铺装钢筋 | E95: kg | F95: 1245.8 | I95: =F95*H95 -> 0
A96: -b | B96: 墙式护栏钢筋 | D96: 墙式护栏钢筋 | E96: kg | F96: 1933 | I96: =F96*H96 -> 0
A97: -c | B97: 附属结构钢筋 | D97: 伸缩缝处钢筋 | E97: kg | F97: 282.1 | I97: =F97*H97 -> 0
A98: 404 | B98: 基础挖方及回填
A99: 404-1 | B99: 挖土方 | D99: 1、土壤类别：综合 2、挖土深度：满足设计要求 3、运距由投标人自行考虑 4、包括挖土、回填、等所有内容，多余土方就近均匀堆放 5、暂定量，按实计算 | E99: m3 | F99: 500 | I99: =F99*H99 -> 0
A100: 404-2 | B100: 围堰 | D100: 1、围堰 2、施工区域内围堰所需的所有费用，包括但不限于挖土、回填、外购土方、排水、围堰、围堰拆除等所有内容，多余土方就近均匀堆放 3、投标单位根据自身施工方案，自行考虑所需的所有费用进行报价，结算不做调整 | E100: 项 | F100: 1 | I100: =F100*H100 -> 0
A101: 405 | B101: 钻孔灌注桩
A102: 405-1 | B102: 钻孔灌注桩
A103: 清单 第400章 合计 人民币0元
G104: 清单 第 3 页 共 8 页
A105: 工程量清单表（招标）
A106: 合同段：沭阳县2026年度农村公路危桥改造工程-钱集镇陈洼中沟桥 | G106: 标表2
A107: 清单 第400章 桥梁、涵洞 | D107: 项目特征
A108: 子目号 | B108: 子目名称 | D108: 项目特征 | E108: 单位 | F108: 数量 | H108: 单价 | I108: 合价
A109: -a | B109: 陆上钻孔灌注桩 | D109: 1、地层情况：详见地勘报告 2、空桩长度、桩长：27m 3、桩径：1.0m 4、混凝土种类、强度等级：C30防水混凝土 5、泥浆池、泥浆制备、泥浆外运等内容由施工单位自行考虑 | E109: m | F109: 108 | I109: =F109*H109 -> 0
A110: 410 | B110: 结构混凝土工程
A111: 410-2 | B111: 混凝土下部结构
A112: -a | B112: 支座垫石混凝土 | D112: 1、支座垫石混凝土 2、商品砼 3、混凝土等级：C30小石子混凝土 4、此费用包含模板支拆、混凝土浇筑、养护等所有费用 | E112: m3 | F112: 0.35 | I112: =F112*H112 -> 0
A113: -b | B113: 盖梁混凝土 | D113: 1、盖梁混凝土 2、商品砼 3、混凝土等级：C30 4、此费用包含模板支拆、混凝土浇筑、养护等所有费用 | E113: m3 | F113: 19.6 | I113: =F113*H113 -> 0
A114: -c | B114: 挡块混凝土 | D114: 1、挡块混凝土 2、商品砼 3、混凝土等级：C30 4、此费用包含模板支拆、混凝土浇筑、养护等所有费用 | E114: m3 | F114: 0.28 | I114: =F114*H114 -> 0
A115: -d | B115: 耳背墙混凝土 | D115: 1、耳背墙混凝土 2、商品砼 3、混凝土等级：C30 4、此费用包含模板支拆、混凝土浇筑、养护等所有费用 | E115: m3 | F115: 7.6 | I115: =F115*H115 -> 0
A116: 410-3 | B116: 预制混凝土上部结构 | D116: 1、部位：桥面空心板 2、混凝土强度等级;C50 3、包含空心板铰缝、吊装等所有费用 4、此费用包含模板支拆、混凝土浇筑、养护等所有费用 | E116: m3 | F116: 27.31 | I116: =F116*H116 -> 0
A117: 清单 第400章 合计 人民币0元
G118: 清单 第 4 页 共 8 页
A119: 工程量清单表（招标）
A120: 合同段：沭阳县2026年度农村公路危桥改造工程-钱集镇陈洼中沟桥 | G120: 标表2
A121: 清单 第400章 桥梁、涵洞 | D121: 项目特征
A122: 子目号 | B122: 子目名称 | D122: 项目特征 | E122: 单位 | F122: 数量 | H122: 单价 | I122: 合价
A123: 410-6 | B123: 桥面铺装 | D123: 桥面铺装 1、混凝土强度等级：C50防水混凝土 2、厚度12cm 3、此费用包含模板支拆、混凝土浇筑、养护等所有费用 | E123: m3 | F123: 8.4 | I123: =F123*H123 -> 0
A124: 410-6 | B124: 桥梁搭板 | D124: 桥梁搭板 1、混凝土强度等级：C30 2、此费用包含模板支拆、混凝土浇筑、养护等所有费用 | E124: m3 | F124: 21.6 | I124: =F124*H124 -> 0
A125: 410-6 | B125: 防撞护栏 | D125: 防撞护栏 1、混凝土强度等级：C30 2、断缝处内部为2cm泡沫板，外填树脂材料。每隔3-5m设置假缝一道，宽3mm，深20mm 3、此费用包含模板支拆、混凝土浇筑、养护，断缝处理等所有费用 | E125: m3 | F125: 7.14 | I125: =F125*H125 -> 0
A126: 411 | B126: 预应力混凝土工程
A127: 411-2 | B127: 先张法预应力钢绞线 | D127: 1、部位：桥板 2、预应力筋种类：钢绞线 3、预应力筋规格：φs15.2 | E127: kg | F127: 636 | I127: =F127*H127 -> 0
A128: 413 | B128: 砌石工程
A129: 413-4 | B129: 浆砌预制混凝土块
A130: -a | B130: 护坡 | D130: 1、浆砌片石回填 2、此部分费用包含砂浆勾缝的费用 | E130: m3 | F130: 18 | I130: =F130*H130 -> 0
A131: -b | B131: 护坡垫层 | D131: 1、10cm砂砾垫层 | E131: m3 | F131: 6 | I131: =F131*H131 -> 0
A132: 415 | B132: 桥面排水
A133: 415-4 | B133: 桥面排水
A134: -a | B134: 竖、横向集中排水管
A135: -a-1 | B135: 泄水管 | D135: 泄水管 1、PVC泄水管，单根长度约0.6m，直径10cm 2、此费用包含泄水管盖 | E135: m | F135: 2.4 | I135: =F135*H135 -> 0
A136: 416 | B136: 桥梁支座
A137: 416-1 | B137: 板式橡胶支座 | D137: 1、橡胶支座 2、支座包括支座橡胶体等所有内容 3、GYZ175*28 式支座 | E137: 组 | F137: 24 | I137: =F137*H137 -> 0
A138: 清单 第400章 合计 人民币0元
G139: 清单 第 5 页 共 8 页
A140: 工程量清单表（招标）
A141: 合同段：沭阳县2026年度农村公路危桥改造工程-钱集镇陈洼中沟桥 | G141: 标表2
A142: 清单 第400章 桥梁、涵洞 | D142: 项目特征
A143: 子目号 | B143: 子目名称 | D143: 项目特征 | E143: 单位 | F143: 数量 | H143: 单价 | I143: 合价
A144: 416-1 | B144: 橡胶垫块 | D144: 1、橡胶垫块 2、尺寸20*20cm，厚度1cm | E144: 组 | F144: 4 | I144: =F144*H144 -> 0
A145: 417 | B145: 桥梁接缝和伸缩装置
A146: 417-1 | B146: 伸缩缝 | D146: 桥头伸缩缝 D40型 1、宽度4cm 2、伸缩缝处钢筋另计 3、详细做法见图纸 | E146: m | F146: 14 | I146: =F146*H146 -> 0
A183: 清单 第400章 合计 | I183: =SUM(I144:I146,I124:I137,I123,I109:I116,I85:I100) -> 0
G184: 清单 第 6 页 共 8 页
A185: 工程量清单表（招标）
A186: 合同段：沭阳县2026年度农村公路危桥改造工程-钱集镇陈洼中沟桥 | G186: 标表2
...

Sheet 【标表2-2】工程量清单表（庙头镇赶埠六组桥）
A1: 工程量清单表（招标）
A2: 合同段：沭阳县2026年度农村公路危桥改造工程-庙头镇赶埠六组桥 | G2: 标表2
A3: 清单 第100章 总则 | D3: 项目特征
A4: 子目号 | B4: 子目名称 | D4: 项目特征 | E4: 单位 | F4: 数量 | H4: 单价 | I4: 合价
A5: 101 | B5: 通则
A6: 101-1 | B6: 保险费
A7: -a | B7: 按合同条款规定，提供建筑工程一切险 | E7: 总额 | F7: 1 | I7: =H7*F7 -> 0
A8: -b | B8: 按合同条款规定，提供第三者责任险 | E8: 总额 | F8: 1 | I8: =H8*F8 -> 0
A9: 102 | B9: 工程管理
A10: 102-1 | B10: 竣工文件 | E10: 总额 | F10: 1 | I10: =H10*F10 -> 0
A11: 102-2 | B11: 施工环保费 | E11: 总额 | F11: 1 | I11: =H11*F11 -> 0
A12: 102-3 | B12: 安全生产费(投标按最高限价1.5%计算) | E12: 总额 | F12: 1 | H12: 9114.09 | I12: =H12*F12 -> 9114.09
A13: 103 | B13: 临时工程与设施
A14: 103-1 | B14: 老桥拆除、临时道路修建、养护与拆除（包括原道路的养护） | D14: 1、原老桥拆除 2、包括接线部位混凝土路面拆除 3、拆除废料用作搭设临时便桥、便道，需考虑埋设圆管涵，保证车辆和行人顺利通行。具体实施方案由投标单位自行考虑 4、完工后便桥清理、外运，外运距离自行考虑 5、此费用包含以上内容的所有费用 | E14: 总额 | F14: 1 | I14: =H14*F14 -> 0
A15: 104 | B15: 承包人驻地建设
A16: 104-1 | B16: 承包人驻地建设 | D16: 驻地、材料堆放场、钢筋加工工棚等 | E16: 项 | F16: 1 | I16: =H16*F16 -> 0
A36: 清单 第100章 合计 | I36: =SUM(I7:I16) -> 9114.09
G37: 清单 第 1 页 共 8 页
A38: 工程量清单表（招标）
A39: 合同段：沭阳县2026年度农村公路危桥改造工程-庙头镇赶埠六组桥 | G39: 标表2
A40: 清单 第300章 路面 | D40: 项目特征
A41: 子目号 | B41: 子目名称 | D41: 项目特征 | E41: 单位 | F41: 数量 | H41: 单价 | I41: 合价
A42: 312 | B42: 水泥混凝土面板
A43: 312-1 | B43: 水泥混凝土面板
A44: -a | B44: 台后道路连线 | D44: 1、20cmC30混凝土 2、20cmC15混凝土 3、15cm级配碎石调平层，压实度不小于98% 4、此费用包含模板支拆、混凝土浇筑、养护等所有费用 | E44: m2 | F44: 260 | I44: =H44*F44 -> 0
A45: -b | B45: 灰土层 | D45: 6%灰土，分层压实，3层共60cm（每层20cm），压实度不小于96%，外购土方另计 | E45: m3 | F45: 43.2 | I45: =H45*F45 -> 0
A77: 清单 第300章 合计 | I77: =SUM(I44:I76) -> 0
G78: 清单 第 2 页 共 8 页
A79: 工程量清单表（招标）
A80: 合同段：沭阳县2026年度农村公路危桥改造工程-庙头镇赶埠六组桥 | G80: 标表2
A81: 清单 第400章 桥梁、涵洞 | D81: 项目特征
A82: 子目号 | B82: 子目名称 | D82: 项目特征 | E82: 单位 | F82: 数量 | H82: 单价 | I82: 合价
A83: 403 | B83: 钢筋
A84: 403-1 | B84: 基础钢筋(含灌注桩、承台、桩系梁、沉桩、沉井等)
A85: -a | B85: 灌注桩钢筋 | D85: 灌注桩钢筋 | E85: kg | F85: 5916.4 | I85: =H85*F85 -> 0
A86: 403-2 | B86: 下部结构钢筋
A87: -b | B87: 下部结构钢筋 | D87: 盖梁钢筋 | E87: kg | F87: 2830.6 | I87: =H87*F87 -> 0
A88: -c | B88: 下部结构钢筋 | D88: 耳背墙钢筋 | E88: kg | F88: 1374.8 | I88: =H88*F88 -> 0
A89: 403-3 | B89: 上部结构钢筋
A90: -a | B90: 上部结构钢筋 | D90: 预制空心板钢筋，预制钢板等 | E90: kg | F90: 7464.9 | I90: =H90*F90 -> 0
A91: -b | B91: 上部结构钢筋 | D91: 搭板钢筋 | E91: kg | F91: 3754.4 | I91: =H91*F91 -> 0
A92: -c | B92: 上部结构钢筋 | D92: 挡块钢筋 | E92: kg | F92: 151.4 | I92: =H92*F92 -> 0
A93: -d | B93: 上部结构钢筋 | D93: 预制空心板铰缝钢筋等 | E93: kg | F93: 1287.6 | I93: =H93*F93 -> 0
A94: 403-4 | B94: 附属结构钢筋
A95: -a | B95: 桥面铺装钢筋 | D95: 桥面铺装钢筋 | E95: kg | F95: 2489 | I95: =H95*F95 -> 0
A96: -b | B96: 墙式护栏钢筋 | D96: 墙式护栏钢筋 | E96: kg | F96: 3866 | I96: =H96*F96 -> 0
A97: -c | B97: 附属结构钢筋 | D97: 伸缩缝处钢筋 | E97: kg | F97: 282.1 | I97: =H97*F97 -> 0
A98: 404 | B98: 基础挖方及回填
A99: 404-1 | B99: 挖土方 | D99: 1、土壤类别：综合 2、挖土深度：满足设计要求 3、运距由投标人自行考虑 4、包括挖土、回填、等所有内容，多余土方就近均匀堆放 5、暂定量，按实计算 | E99: m3 | F99: 650 | I99: =H99*F99 -> 0
A100: 404-2 | B100: 围堰 | D100: 1、围堰 2、施工区域内围堰所需的所有费用，包括但不限于挖土、回填、外购土方、排水、围堰、围堰拆除、垃圾外运等所有内容，多余土方就近均匀堆放 3、投标单位根据自身施工方案，自行考虑所需的所有费用进行报价，结算不做调整 | E100: 项 | F100: 1 | I100: =H100*F100 -> 0
A101: 405 | B101: 钻孔灌注桩
A102: 405-1 | B102: 钻孔灌注桩
A103: 清单 第400章 合计
G104: 清单 第 3 页 共 8 页
A105: 工程量清单表（招标）
A106: 合同段：沭阳县2026年度农村公路危桥改造工程-庙头镇赶埠六组桥 | G106: 标表2
A107: 清单 第400章 桥梁、涵洞 | D107: 项目特征
A108: 子目号 | B108: 子目名称 | D108: 项目特征 | E108: 单位 | F108: 数量 | H108: 单价 | I108: 合价
A109: -a | B109: 陆上钻孔灌注桩 | D109: 1、地层情况：详见地勘报告 2、空桩长度、桩长：22m 3、桩径：1.0m 4、混凝土种类、强度等级：C30防水混凝土 5、泥浆池、泥浆制备、泥浆外运等内容由施工单位自行考虑 | E109: m | F109: 88 | I109: =H109*F109 -> 0
A110: 410 | B110: 结构混凝土工程
A111: 410-2 | B111: 混凝土下部结构
A112: -a | B112: 支座垫石混凝土 | D112: 1、支座垫石混凝土 2、商品砼 3、混凝土等级：C30小石子混凝土 4、此费用包含模板支拆、混凝土浇筑、养护等所有费用 | E112: m3 | F112: 0.3 | I112: =H112*F112 -> 0
A113: -b | B113: 盖梁混凝土 | D113: 1、盖梁混凝土 2、商品砼 3、混凝土等级：C30 4、此费用包含模板支拆、混凝土浇筑、养护等所有费用 | E113: m3 | F113: 23.52 | I113: =H113*F113 -> 0
A114: -c | B114: 挡块混凝土 | D114: 1、挡块混凝土 2、商品砼 3、混凝土等级：C30 4、此费用包含模板支拆、混凝土浇筑、养护等所有费用 | E114: m3 | F114: 0.3 | I114: =H114*F114 -> 0
A115: -d | B115: 耳背墙混凝土 | D115: 1、耳背墙混凝土 2、商品砼 3、混凝土等级：C30 4、此费用包含模板支拆、混凝土浇筑、养护等所有费用 | E115: m3 | F115: 14.1 | I115: =H115*F115 -> 0
A116: 410-3 | B116: 预制混凝土上部结构 | D116: 1、部位：桥面空心板 2、混凝土强度等级;C50 3、包含空心板铰缝、吊装等所有费用 4、此费用包含模板支拆、混凝土浇筑、养护等所有费用 | E116: m3 | F116: 71.736 | I116: =H116*F116 -> 0
A117: 清单 第400章 合计
G118: 清单 第 4 页 共 8 页
A119: 工程量清单表（招标）
A120: 合同段：沭阳县2026年度农村公路危桥改造工程-庙头镇赶埠六组桥 | G120: 标表2
A121: 清单 第400章 桥梁、涵洞 | D121: 项目特征
A122: 子目号 | B122: 子目名称 | D122: 项目特征 | E122: 单位 | F122: 数量 | H122: 单价 | I122: 合价
A123: 410-6 | B123: 桥面铺装 | D123: 桥面铺装 1、混凝土强度等级：C50防水混凝土 2、厚度12cm 3、此费用包含模板支拆、混凝土浇筑、养护等所有费用 | E123: m3 | F123: 16.8 | I123: =H123*F123 -> 0
A124: 410-6 | B124: 桥梁搭板 | D124: 桥梁搭板 1、混凝土强度等级：C30 2、此费用包含模板支拆、混凝土浇筑、养护等所有费用 | E124: m3 | F124: 21.6 | I124: =H124*F124 -> 0
A125: 410-6 | B125: 防撞护栏 | D125: 防撞护栏 1、混凝土强度等级：C30 2、断缝处内部为2cm泡沫板，外填树脂材料。每隔3-5m设置假缝一道，宽3mm，深20mm 3、此费用包含模板支拆、混凝土浇筑、养护，断缝处理等所有费用 | E125: m3 | F125: 14.251 | I125: =H125*F125 -> 0
A126: 411 | B126: 预应力混凝土工程
A127: 411-2 | B127: 先张法预应力钢绞线 | D127: 1、部位：桥板 2、预应力筋种类：钢绞线 3、预应力筋规格：φs15.2 | E127: kg | F127: 2065.6 | I127: =H127*F127 -> 0
A128: 413 | B128: 砌石工程
A129: 413-4 | B129: 浆砌预制混凝土块
A130: -a | B130: 护坡 | D130: 1、浆砌片石回填 2、此部分费用包含砂浆勾缝的费用 | E130: m3 | F130: 30 | I130: =H130*F130 -> 0
A131: -b | B131: 护坡垫层 | D131: 1、10cm砂砾垫层 | E131: m3 | F131: 10 | I131: =H131*F131 -> 0
A132: 415 | B132: 桥面排水
A133: 415-4 | B133: 桥面排水
A134: -a | B134: 竖、横向集中排水管
A135: -a-1 | B135: 泄水管 | D135: 泄水管 1、PVC泄水管，单根长度约0.6m，直径10cm 2、此费用包含泄水管盖 | E135: m | F135: 2.4 | I135: =H135*F135 -> 0
A136: 416 | B136: 桥梁支座
A137: 416-1 | B137: 板式橡胶支座 | D137: 1、橡胶支座 2、支座包括支座橡胶体等所有内容 3、GYZ 225*42 式支座 | E137: 组 | F137: 24 | I137: =H137*F137 -> 0
A138: 清单 第400章 合计
G139: 清单 第 5 页 共 8 页
A140: 工程量清单表（招标）
A141: 合同段：沭阳县2026年度农村公路危桥改造工程-庙头镇赶埠六组桥 | G141: 标表2
A142: 清单 第400章 桥梁、涵洞 | D142: 项目特征
A143: 子目号 | B143: 子目名称 | D143: 项目特征 | E143: 单位 | F143: 数量 | H143: 单价 | I143: 合价
A144: 416-1 | B144: 橡胶垫块 | D144: 1、橡胶垫块 2、尺寸20*20cm，厚度1cm | E144: 组 | F144: 4 | I144: =H144*F144 -> 0
A145: 417 | B145: 桥梁接缝和伸缩装置
A146: 417-1 | B146: 伸缩缝 | D146: 桥头伸缩缝 D40型 1、宽度4cm 2、伸缩缝处钢筋另计 3、详细做法见图纸 | E146: m | F146: 14 | I146: =H146*F146 -> 0
A183: 清单 第400章 合计 | I183: =SUM(I144:I146,I123:I137,I109:I116,I85:I100) -> 0
G184: 清单 第 6 页 共 8 页
A185: 工程量清单表（招标）
A186: 合同段：沭阳县2026年度农村公路危桥改造工程-庙头镇赶埠六组桥 | G186: 标表2
...

Sheet 【标表2-2】工程量清单表（韩山镇桔园韩西河桥）
A1: 工程量清单表（招标）
A2: 合同段：沭阳县2026年度农村公路危桥改造工程-韩山镇桔园韩西河桥 | G2: 标表2
A3: 清单 第100章 总则 | D3: 项目特征
A4: 子目号 | B4: 子目名称 | D4: 项目特征 | E4: 单位 | F4: 数量 | H4: 单价 | I4: 合价
A5: 101 | B5: 通则
A6: 101-1 | B6: 保险费
A7: -a | B7: 按合同条款规定，提供建筑工程一切险 | E7: 总额 | F7: 1 | I7: =H7*F7 -> 0
A8: -b | B8: 按合同条款规定，提供第三者责任险 | E8: 总额 | F8: 1 | I8: =H8*F8 -> 0
A9: 102 | B9: 工程管理
A10: 102-1 | B10: 竣工文件 | E10: 总额 | F10: 1 | I10: =H10*F10 -> 0
A11: 102-2 | B11: 施工环保费 | E11: 总额 | F11: 1 | I11: =H11*F11 -> 0
A12: 102-3 | B12: 安全生产费(投标按最高限价1.5%计算) | E12: 总额 | F12: 1 | H12: 8801.15 | I12: =H12*F12 -> 8801.15
A13: 103 | B13: 临时工程与设施
A14: 103-1 | B14: 老桥拆除、临时道路修建、养护与拆除（包括原道路的养护） | D14: 1、原老桥拆除 2、包括接线部位混凝土路面拆除 3、拆除废料用作搭设临时便桥、便道，需考虑埋设圆管涵，保证车辆和行人顺利通行。具体实施方案由投标单位自行考虑 4、完工后便桥清理、外运，外运距离自行考虑 5、此费用包含以上内容的所有费用 | E14: 总额 | F14: 1 | I14: =H14*F14 -> 0
A15: 104 | B15: 承包人驻地建设
A16: 104-1 | B16: 承包人驻地建设 | D16: 驻地、材料堆放场、钢筋加工工棚等 | E16: 项 | F16: 1 | I16: =H16*F16 -> 0
A36: 清单 第100章 合计 | I36: =SUM(I7:I16) -> 8801.15
G37: 清单 第 1 页 共 7 页
A38: 工程量清单表（招标）
A39: 合同段：沭阳县2026年度农村公路危桥改造工程-韩山镇桔园韩西河桥 | G39: 标表2
A40: 清单 第300章 路面 | D40: 项目特征
A41: 子目号 | B41: 子目名称 | D41: 项目特征 | E41: 单位 | F41: 数量 | H41: 单价 | I41: 合价
A42: 312 | B42: 水泥混凝土面板
A43: 312-1 | B43: 水泥混凝土面板
A44: -a | B44: 台后道路连线 | D44: 1、20cmC30混凝土 2、20cmC15混凝土 3、15cm级配碎石调平层，压实度不小于98% 4、此费用包含模板支拆、混凝土浇筑、养护等所有费用 | E44: m2 | F44: 210 | I44: =H44*F44 -> 0
A45: -b | B45: 灰土层 | D45: 6%灰土，分层压实，3层60cm（每层20cm），压实度不小于96%，外购土方另计 | E45: m3 | F45: 43.2 | I45: =H45*F45 -> 0
A77: 清单 第300章 合计 | I77: =SUM(I44:I76) -> 0
G78: 清单 第 2 页 共 7 页
A79: 工程量清单表（招标）
A80: 合同段：沭阳县2026年度农村公路危桥改造工程-韩山镇桔园韩西河桥 | G80: 标表2
A81: 清单 第400章 桥梁、涵洞 | D81: 项目特征
A82: 子目号 | B82: 子目名称 | D82: 项目特征 | E82: 单位 | F82: 数量 | H82: 单价 | I82: 合价
A83: 403 | B83: 钢筋
A84: 403-1 | B84: 基础钢筋(含灌注桩、承台、桩系梁、沉桩、沉井等)
A85: -a | B85: 灌注桩钢筋 | D85: 灌注桩钢筋 | E85: kg | F85: 5764.4 | I85: =H85*F85 -> 0
A86: 403-2 | B86: 下部结构钢筋
A87: -b | B87: 下部结构钢筋 | D87: 盖梁钢筋 | E87: kg | F87: 2830.6 | I87: =H87*F87 -> 0
A88: -c | B88: 下部结构钢筋 | D88: 耳背墙钢筋 | E88: kg | F88: 1374.8 | I88: =H88*F88 -> 0
A89: 403-3 | B89: 上部结构钢筋
A90: -a | B90: 上部结构钢筋 | D90: 预制空心板钢筋，预制钢板等 | E90: kg | F90: 7464.9 | I90: =H90*F90 -> 0
A91: -b | B91: 上部结构钢筋 | D91: 搭板钢筋 | E91: kg | F91: 3754.4 | I91: =H91*F91 -> 0
A92: -c | B92: 上部结构钢筋 | D92: 挡块钢筋 | E92: kg | F92: 151.4 | I92: =H92*F92 -> 0
A93: -d | B93: 上部结构钢筋 | D93: 预制空心板铰缝钢筋等 | E93: kg | F93: 1287.6 | I93: =H93*F93 -> 0
A94: 403-4 | B94: 附属结构钢筋
A95: -a | B95: 桥面铺装钢筋 | D95: 桥面铺装钢筋 | E95: kg | F95: 2489 | I95: =H95*F95 -> 0
A96: -b | B96: 墙式护栏钢筋 | D96: 墙式护栏钢筋 | E96: kg | F96: 3866 | I96: =H96*F96 -> 0
A97: -c | B97: 附属结构钢筋 | D97: 伸缩缝处钢筋 | E97: kg | F97: 282.1 | I97: =H97*F97 -> 0
A98: 404 | B98: 基础挖方及回填
A99: 404-1 | B99: 挖土方 | D99: 1、土壤类别：综合 2、挖土深度：满足设计要求 3、运距由投标人自行考虑 4、包括挖土、回填、等所有内容，多余土方就近均匀堆放 5、暂定量，按实计算 | E99: m3 | F99: 650 | I99: =H99*F99 -> 0
A100: 404-2 | B100: 围堰 | D100: 1、围堰 2、施工区域内围堰所需的所有费用，包括但不限于挖土、回填、外购土方、排水、围堰、围堰拆除、垃圾外运等所有内容，多余土方就近均匀堆放 3、投标单位根据自身施工方案，自行考虑所需的所有费用进行报价，结算不做调整 | E100: 项 | F100: 1 | I100: =H100*F100 -> 0
A101: 405 | B101: 钻孔灌注桩
A102: 405-1 | B102: 钻孔灌注桩
A103: 清单 第400章 合计
G104: 清单 第 3 页 共 7 页
A105: 工程量清单表（招标）
A106: 合同段：沭阳县2026年度农村公路危桥改造工程-韩山镇桔园韩西河桥 | G106: 标表2
A107: 清单 第400章 桥梁、涵洞 | D107: 项目特征
A108: 子目号 | B108: 子目名称 | D108: 项目特征 | E108: 单位 | F108: 数量 | H108: 单价 | I108: 合价
A109: -a | B109: 陆上钻孔灌注桩 | D109: 1、地层情况：详见地勘报告 2、空桩长度、桩长：21m 3、桩径：1.0m 4、混凝土种类、强度等级：C30防水混凝土 5、泥浆池、泥浆制备、泥浆外运等内容由施工单位自行考虑 | E109: m | F109: 84 | I109: =H109*F109 -> 0
A110: 410 | B110: 结构混凝土工程
A111: 410-2 | B111: 混凝土下部结构
A112: -a | B112: 支座垫石混凝土 | D112: 1、支座垫石混凝土 2、商品砼 3、混凝土等级：C30小石子混凝土 4、此费用包含模板支拆、混凝土浇筑、养护等所有费用 | E112: m3 | F112: 0.3 | I112: =H112*F112 -> 0
A113: -b | B113: 盖梁混凝土 | D113: 1、盖梁混凝土 2、商品砼 3、混凝土等级：C30 4、此费用包含模板支拆、混凝土浇筑、养护等所有费用 | E113: m3 | F113: 23.5 | I113: =H113*F113 -> 0
A114: -c | B114: 挡块混凝土 | D114: 1、挡块混凝土 2、商品砼 3、混凝土等级：C30 4、此费用包含模板支拆、混凝土浇筑、养护等所有费用 | E114: m3 | F114: 0.3 | I114: =H114*F114 -> 0
A115: -d | B115: 耳背墙混凝土 | D115: 1、耳背墙混凝土 2、商品砼 3、混凝土等级：C30 4、此费用包含模板支拆、混凝土浇筑、养护等所有费用 | E115: m3 | F115: 14.1 | I115: =H115*F115 -> 0
A116: 410-3 | B116: 预制混凝土上部结构 | D116: 1、部位：桥面空心板 2、混凝土强度等级;C50 3、包含空心板铰缝、吊装等所有费用 4、此费用包含模板支拆、混凝土浇筑、养护等所有费用 | E116: m3 | F116: 71.736 | I116: =H116*F116 -> 0
A117: 清单 第400章 合计
G118: 清单 第 4 页 共 7 页
A119: 工程量清单表（招标）
A120: 合同段：沭阳县2026年度农村公路危桥改造工程-韩山镇桔园韩西河桥 | G120: 标表2
A121: 清单 第400章 桥梁、涵洞 | D121: 项目特征
A122: 子目号 | B122: 子目名称 | D122: 项目特征 | E122: 单位 | F122: 数量 | H122: 单价 | I122: 合价
A123: 410-6 | B123: 桥面铺装 | D123: 桥面铺装 1、混凝土强度等级：C50防水混凝土 2、厚度12cm 3、此费用包含模板支拆、混凝土浇筑、养护等所有费用 | E123: m3 | F123: 16.8 | I123: =H123*F123 -> 0
A124: 410-6 | B124: 桥梁搭板 | D124: 桥梁搭板 1、混凝土强度等级：C30 2、此费用包含模板支拆、混凝土浇筑、养护等所有费用 | E124: m3 | F124: 21.6 | I124: =H124*F124 -> 0
A125: 410-6 | B125: 防撞护栏 | D125: 防撞护栏 1、混凝土强度等级：C30 2、断缝处内部为2cm泡沫板，外填树脂材料。每隔3-5m设置假缝一道，宽3mm，深20mm 3、此费用包含模板支拆、混凝土浇筑、养护，断缝处理等所有费用 | E125: m3 | F125: 14.251 | I125: =H125*F125 -> 0
A126: 411 | B126: 预应力混凝土工程
A127: 411-2 | B127: 先张法预应力钢绞线 | D127: 1、部位：桥板 2、预应力筋种类：钢绞线 3、预应力筋规格：φs15.2 | E127: kg | F127: 2065.6 | I127: =H127*F127 -> 0
A128: 413 | B128: 砌石工程
A129: 413-4 | B129: 浆砌预制混凝土块
A130: -a | B130: 护坡 | D130: 1、浆砌片石回填 2、此部分费用包含砂浆勾缝的费用 | E130: m3 | F130: 30 | I130: =H130*F130 -> 0
A131: -b | B131: 护坡垫层 | D131: 1、10cm砂砾垫层 | E131: m3 | F131: 10 | I131: =H131*F131 -> 0
A132: 415 | B132: 桥面排水
A133: 415-4 | B133: 桥面排水
A134: -a | B134: 竖、横向集中排水管
A135: -a-1 | B135: 泄水管 | D135: 泄水管 1、PVC泄水管，单根长度约0.6m，直径10cm 2、此费用包含泄水管盖 | E135: m | F135: 2.4 | I135: =H135*F135 -> 0
A136: 416 | B136: 桥梁支座
A137: 416-1 | B137: 板式橡胶支座 | D137: 1、橡胶支座 2、支座包括支座橡胶体等所有内容 3、GYZ 225*42 式支座 | E137: 组 | F137: 24 | I137: =H137*F137 -> 0
A138: 清单 第400章 合计
G139: 清单 第 5 页 共 7 页
A140: 工程量清单表（招标）
A141: 合同段：沭阳县2026年度农村公路危桥改造工程-韩山镇桔园韩西河桥 | G141: 标表2
A142: 清单 第400章 桥梁、涵洞 | D142: 项目特征
A143: 子目号 | B143: 子目名称 | D143: 项目特征 | E143: 单位 | F143: 数量 | H143: 单价 | I143: 合价
A144: 416-1 | B144: 橡胶垫块 | D144: 1、橡胶垫块 2、尺寸20*20cm，厚度1cm | E144: 组 | F144: 4 | I144: =H144*F144 -> 0
A145: 417 | B145: 桥梁接缝和伸缩装置
A146: 417-1 | B146: 伸缩缝 | D146: 桥头伸缩缝 D40型 1、宽度4cm 2、伸缩缝处钢筋另计 3、详细做法见图纸 | E146: m | F146: 14 | I146: =H146*F146 -> 0
A183: 清单 第400章 合计 | I183: =SUM(I144:I146,I123:I137,I109:I116,I85:I100) -> 0
G184: 清单 第 6 页 共 7 页
A185: 工程量清单表（招标）
A186: 合同段：沭阳县2026年度农村公路危桥改造工程-韩山镇桔园韩西河桥 | G186: 标表2
...
