Workbook
Name Print_Area_1: #N/A
Name Print_Titles_1: #N/A

Sheet 封面 
A2: 2026年G205龙池互通至雍庄互通、G328江北段、S356江北段综合养护项目
A7: 养
A8: 护
A9: 清
A10: 单
A13: 采 购 人：南京市公路事业发展中心
A14: 采购代理：盛唐工程咨询集团有限公司
A15: 二○二六年十月

Sheet 总说明
A1: 总说明
A3: 项目名称：2026年G205龙池互通至雍庄互通、G328江北段、S356江北段综合养护项目
A4: 一、养护清单说明
A5: （1）本养护清单应与采购文件中的投标人须知、合同条款等一起阅读和理解。
A6: （2）养护清单中所列数量的变动，丝毫不会降低或影响合同条款的效力，也不免除承包人按约定的标准进行施工和修复缺陷的责任。
A7: 二、报价说明
A8: （1）养护清单中的每一子目须填入单价或价格，且只允许有一个报价。
A9: （2）除非合同另有规定，养护清单中有标价的单价和总额价均已包括了为实施和完成合同工程所需的人工费、材料费、施工机具使用费、企业管理费、利润、规费、税金、缺陷修复费等，以及合同明示或暗示的所有责任、义务和一般风险所引起的费用。
A10: （3）养护清单中投标人（或承包人）没有填入单价或价格的子目，其费用视为已分摊在养护清单中其他相关子目的单价或价格之中。承包人必须按监理人指令完成养护清单中未填入单价或价格的子目，但不能得到结算与支付。
A11: （4）符合合同条款约定的全部费用应视为已被计入有标价的养护清单所列各子目之中，未列子目不予计量的工作，其费用应视为已分摊在本合同工程的有关子目的单价或总额价之中。
A12: （5）承包人用于本合同工程的各类装备的提供、运输、维护、拆卸、拼装等支付的费用，已包括在养护清单的单价与总额价之中。
A13: （6）养护清单中各项金额均以人民币（元）填报及结算。
... A21: （3）1100章中所有日常保养、日常维修均按km.年填报单价，且子级所有子目报价合计等于本级合计。如Y1101路基工程中：Y1101-1-1~Y1101-1-4所有子目合计金额应等于Y1101-1日常保养该级合计金额。其余Y1102路面工程、Y1103桥涵工程、Y1105交通安全设施、Y1106绿化工程同Y1101路基工程。

Sheet 汇总表
A1: 养护清单汇总表
A2: 项目名称：2026年G205龙池互通至雍庄互通、G328江北段、S356江北段综合养护项目
A3: 序号 | B3: 章次 | C3: 科目名称 | D3: 金额（元）
A4: 1 | B4: 100章 | C4: 总则 | D4: ='100章 总则'!E6 -> 0
A5: 2 | B5: 200章 | C5: 路基养护工程 | D5: /
A6: 3 | B6: 300章 | C6: 路面养护工程 | D6: /
A7: 4 | B7: 400章 | C7: 桥梁、涵洞工程 | D7: /
A8: 5 | B8: 500章 | C8: 隧道养护工程 | D8: /
A9: 6 | B9: 600章 | C9: 交通安全设施养护工程 | D9: /
A10: 7 | B10: 700章 | C10: 绿化及环境保护养护工程 | D10: /
A11: 8 | B11: 800章 | C11: 管理、养护设施养护工程 | D11: /
A12: 9 | B12: 900章 | C12: 管理、养护、服务房建养护工程 | D12: /
A13: 10 | B13: 1000章 | C13: 养护检查 | D13: ='1000章 养护检查 '!E8 -> 0
A14: 11 | B14: 1100章 | C14: 日常养护 | D14: ='1100章 日常养护'!E113 -> 0
A15: 12 | B15: 清单小计 | D15: =SUM(D4:D14) -> 0
A16: 13 | B16: 安全生产费（清单小计的2%） | D16: =D15*2% -> 0
A17: 14 | B17: 暂列金额（1100章中日常维修的5%） | D17: =('1100章 日常养护'!G13+'1100章 日常养护'!G35+'1100章 日常养护'!G62+'1100章 日常养护'!G81+'1100章 日常养护'!G98)*5% -> 0
A18: 15 | B18: 投标总价 | D18: =SUM(D15:D17) -> 0

Sheet 100章  总则
A1: 100章 总则
A2: =汇总表!A2 -> 项目名称：2026年G205龙池互通至雍庄互通、G328江北段、S356江北段综合养护项目 | F2: 货币单位：人民币元
A3: 子目号 | B3: 子目名称 | C3: 子目特征 | D3: 单位 | E3: 数量 | F3: 单价 | G3: 合价
A4: Y101-5 | B4: 公众责任险 | D4: 总额 | E4: 1 | G4: =IF(E4="","",ROUND(E4*F4,0)) -> 0
A5: Y108-1 | B5: 养护基础台帐图表资料费 | D5: 总额 | E5: 1 | G5: =IF(E5="","",ROUND(E5*F5,0)) -> 0
A6: 第100章小计（结转至第 页养护清单汇总表）人民币 | E6: =SUM(G4:G5) -> 0

Sheet 1000章  养护检查 
A1: 1000章 养护检查
A2: ='100章 总则'!A2 -> 项目名称：2026年G205龙池互通至雍庄互通、G328江北段、S356江北段综合养护项目 | F2: 货币单位：人民币元
A3: 子目号 | B3: 子目名称 | C3: 子目特征 | D3: 单位 | E3: 数量 | F3: 单价 | G3: 合价
A4: Y1001-1 | B4: 日常巡查
A5: Y1001-1-1 | B5: 平原微丘
A6: Y1001-1-1-1 | B6: 日常巡视检查 | C6: 1、每日巡查 2、一级公路 3、含全线(包含路、桥梁及沿线附属设施）等日常巡视检查 | D6: km.年 | E6: 25.077 | G6: =IF(E6="","",ROUND(E6*F6,0)) -> 0
A7: Y1001-1-1-2 | B7: 专项巡视检查 | C7: 1、橙红色应急每2小时巡查一遍，48小时后白天不少于2遍，夜间1遍 2、含夏汛冬防及恶劣天气等专项巡视检查 | D7: km.年 | E7: 25.077 | G7: =IF(E7="","",ROUND(E7*F7,0)) -> 0
A8: 第1000章小计（结转至第 页养护清单汇总表）人民币 | E8: =SUM(G6:G7) -> 0
F10: =F6/6 -> 0

Sheet 1100章  日常养护
A1: 1100章 日常养护
A2: ='1000章 养护检查 '!A2 -> 项目名称：2026年G205龙池互通至雍庄互通、G328江北段、S356江北段综合养护项目 | F2: 货币单位：人民币元
A3: 子目号 | B3: 子目名称 | C3: 子目特征 | D3: 单位 | E3: 数量 | F3: 单价 | G3: 合价
A4: Y1101 | B4: 路基工程
A5: Y1101-1 | B5: 日常保养 | D5: km.年 | E5: 22.823 | G5: =IF(E5="","",ROUND(E5*F5,0)) -> 0
A6: Y1101-1-1 | B6: 路肩清理 | G6: =IF(E6="","",ROUND(E6*F6,0))
A7: Y1101-1-1-1 | B7: 清除路肩杂物 | C7: 1、每年不少于12次 2、数量含清除中分带杂物 3、含废料的装卸、清理、运输等 | D7: km | E7: 283.68 | G7: =IF(E7="","",ROUND(E7*F7,0)) -> 0
A8: Y1101-1-3 | B8: 排水设施清理 | E8: 0 | G8: =IF(E8="","",ROUND(E8*F8,0)) -> 0
A9: Y1101-1-3-1 | B9: 清理边沟、排水沟、截水沟 | C9: 1、每年不少于4次 2、含废料的装卸、清理、运输等 | D9: m | E9: 48166 | G9: =IF(E9="","",ROUND(E9*F9,0)) -> 0
A10: Y1101-1-4 | B10: 整修路肩、边坡 | G10: =IF(E10="","",ROUND(E10*F10,0))
A11: Y1101-1-4-1 | B11: 整修路肩平台 | C11: 1、每年不少于8次 2、 含废料的装卸、清理、运输等 | D11: m2 | E11: 23680 | G11: =IF(E11="","",ROUND(E11*F11,0)) -> 0
A12: Y1101-1-4-2 | B12: 整修边坡 | C12: 1、每年不少于8次 2、 含废料的装卸、清理、运输等 | D12: m2 | E12: 74366 | G12: =IF(E12="","",ROUND(E12*F12,0)) -> 0
A13: Y1101-2 | B13: 日常维修 | D13: km.年 | E13: 22.823 | G13: =IF(E13="","",ROUND(E13*F13,0)) -> 0
A14: Y1101-2-1 | B14: 道路挡墙修理筑砌 | E14: 0 | G14: =IF(E14="","",ROUND(E14*F14,0)) -> 0
A15: Y1101-2-1-1 | B15: 挡墙、护坡修理砌筑 | C15: 1、M7.5浆砌片石挡墙 2、含拆除破损部分、清理、运输、疏通泄水孔等 | D15: m³ | E15: 15 | G15: =IF(E15="","",ROUND(E15*F15,0)) -> 0
A16: Y1101-2-1-2 | B16: 挡墙、护坡砌筑 | C16: 1、新建M7.5浆砌片石挡墙 2、含泄水孔、垫层、沉降缝、土工布、基坑开挖、回填、清理、运输等一切相关费用 | D16: m³ | E16: 15 | G16: =IF(E16="","",ROUND(E16*F16,0)) -> 0
A17: Y1101-2-1-3 | B17: 挡墙、护坡修理砌筑 | C17: 1、M10砖砌 2、含拆除破损部分、清理、运输、疏通泄水孔等 | D17: m³ | E17: 30 | G17: =IF(E17="","",ROUND(E17*F17,0)) -> 0
A18: Y1101-2-1-4 | B18: 挡墙、护坡破面勾缝 | D18: m | E18: 110 | G18: =IF(E18="","",ROUND(E18*F18,0)) -> 0
A19: Y1101-2-2 | B19: 边沟排水沟修理筑砌 | E19: 0 | G19: =IF(E19="","",ROUND(E19*F19,0)) -> 0
A20: Y1101-2-2-1 | B20: 矩形明沟新建砌筑 | C20: 1、M10砖砌边沟 2、开挖、清理、整形、垫层、砖砌、回填、运输等 | D20: m | E20: 30 | G20: =IF(E20="","",ROUND(E20*F20,0)) -> 0
A21: Y1101-2-2-2 | B21: 矩形暗沟新建砌筑 | C21: 1、M10砖砌边沟 2、含C30预制砼盖板及盖板钢筋 3、开挖、清理、整形、垫层、砖砌、回填、运输等 | D21: m | E21: 20 | G21: =IF(E21="","",ROUND(E21*F21,0)) -> 0
A22: Y1101-2-2-3 | B22: 边沟混凝土压顶维修 | C22: C30砼压顶 | D22: m | E22: 2600 | G22: =IF(E22="","",ROUND(E22*F22,0)) -> 0
A23: Y1101-2-2-4 | B23: 边沟勾缝 | D23: m | E23: 6500 | G23: =IF(E23="","",ROUND(E23*F23,0)) -> 0
A24: Y1101-2-3 | B24: 路肩、边坡整治 | C24: 1、含刷坡、路肩阻水治理、运输、清理等 2、土源、运距投标人自行考虑 | D24: m³ | E24: 1340 | G24: =IF(E24="","",ROUND(E24*F24,0)) -> 0
A25: Y1101-2-4 | B25: 路肩培土 | C25: 1、土源、运距投标人自行考虑 | D25: m³ | E25: 80 | G25: =IF(E25="","",ROUND(E25*F25,0)) -> 0
A26: Y1101-2-5 | B26: 边沟盖板更换 | E26: 0 | G26: =IF(E26="","",ROUND(E26*F26,0)) -> 0
A27: Y1101-2-5-1 | B27: 边沟盖板更换 | C27: 1、加强型 2、C30预制盖板 3、含钢筋 4、含拆除原盖板、清理、运输等 | D27: m³ | E27: 25 | G27: =IF(E27="","",ROUND(E27*F27,0)) -> 0
A28: Y1101-2-6 | B28: 边沟预制板 | C28: 1、C30素混凝土预制板 含拆除原边沟预制板、材料、安装、清理、运输等 | D28: m³ | E28: 50 | G28: =IF(E28="","",ROUND(E28*F28,0)) -> 0
A29: Y1102 | B29: 路面工程 | E29: 0 | G29: =IF(E29="","",ROUND(E29*F29,0)) -> 0
A30: Y1102-1 | B30: 日常保养 | D30: km.年 | E30: 22.823 | G30: =IF(E30="","",ROUND(E30*F30,0)) -> 0
A31: Y1102-1-1 | B31: 路面清扫 | E31: 0 | G31: =IF(E31="","",ROUND(E31*F31,0)) -> 0
A32: Y1102-1-1-1 | B32: 机械清扫 | C32: 1、一级公路 2、每日清扫 3、含废料的装卸、清理、运输等 | D32: km | E32: 8330.395 | G32: =IF(E32="","",ROUND(E32*F32,0)) -> 0
A33: Y1102-1-1-2 | B33: 人工捡拾垃圾 | C33: 1、一级公路 2、每日捡拾垃圾 3、含废料的装卸、清理、运输等 | D33: km | E33: 8330.395 | G33: =IF(E33="","",ROUND(E33*F33,0)) -> 0
A34: Y1102-1-2 | B34: 洒水车洒水 | C34: 1、每年不少于180次 | D34: 车 | E34: 480 | G34: =IF(E34="","",ROUND(E34*F34,0)) -> 0
A35: Y1102-2 | B35: 日常维修 | D35: km.年 | E35: 34.098 | G35: =IF(E35="","",ROUND(E35*F35,0)) -> 0
A36: Y1102-2-1 | B36: 沥青路面精铣刨 | C36: 1、精铣刨沥青混凝土路面 2、含废弃物的清理、运输等 3、运距投标人自行考虑 4、铣刨料施工单位自行回收，考虑在此单价中 | D36: m³ | E36: 230 | G36: =IF(E36="","",ROUND(E36*F36,0)) -> 0
A37: Y1102-2-2 | B37: 沥青路面坑槽（切割修补） | E37: 0 | G37: =IF(E37="","",ROUND(E37*F37,0)) -> 0
A38: Y1102-2-2-1 | B38: 沥青路面坑槽（切割修补） | C38: 5cm深 | D38: m2 | E38: 380 | G38: =IF(E38="","",ROUND(E38*F38,0)) -> 0
A39: Y1102-2-2-2 | B39: 沥青路面坑槽（切割修补） | C39: 5-12cm深 | D39: m2 | E39: 1000 | G39: =IF(E39="","",ROUND(E39*F39,0)) -> 0
A40: Y1102-2-2-3 | B40: 沥青路面坑槽（切割修补） | C40: 12cm深以上 | D40: m2 | E40: 115 | G40: =IF(E40="","",ROUND(E40*F40,0)) -> 0
...
