Workbook

Sheet 表C.1.1 招标工程量清单扉页
A1: 工程名称： | C1: 沭阳县沂涛镇2026年度村级公益事业一事一议财政奖补项目
A3: 招标工程量清单
B5: 编 制 人： | E5: (造价专业人员签字及盖章)
B6: 审 核 人： | E6: (签字及盖章)
B7: 编 制 单 位： | E7: (盖章)
B8: 法定代表人或其授权人： | E8: (签字或盖章)
B9: 招 标 人： | E9: (盖章)
B10: 法定代表人或其授权人： | E10: (签字或盖章)
B11: 编 制 时 间：

Sheet 【】全标段投标报价汇总表
A1: 全标段招标报价汇总表
A2: 工程名称：沭阳县沂涛镇2026年度村级公益事业一事一议财政奖补项目 | K2: 第 1 页 共 1 页
A3: 项次 | B3: 章次 | C3: 工程或费用名称 | D3: 合计 | E3: 招标金额（元）
E4: 王团庄村-王乔路 | G4: 新沟村-兴南路 | H4: 常荡村-刁庄便民路 | I4: 东王庙村-朱庄便民路 | J4: 兴陶村-中心路 | L4: 王魏庄村-沟东路 | M4: 三杰村-湾东路
A5: 1 | B5: 100 | C5: 第100章 总则 | D5: =E5+G5+H5+I5+J5+L5+M5 -> 15524 | E5: ='王团庄村-王乔路'!E48 -> 2140 | G5: ='新沟村-兴南路'!E48 -> 1832 | H5: ='常荡村-刁庄便民路'!E48 -> 3649 | I5: ='东王庙村-朱庄便民路'!E48 -> 1905 | J5: ='兴陶村-中心路'!E48 -> 2395 | L5: ='王魏庄村-沟东路'!E48 -> 2196 | M5: ='三杰村-湾东路'!E48 -> 1407
A6: 2 | B6: 200 | C6: 第200章 路基 | D6: =E6+G6+H6+I6+J6+L6+M6 -> 0 | E6: ='王团庄村-王乔路'!E96 -> 0 | G6: ='新沟村-兴南路'!E96 -> 0 | H6: ='常荡村-刁庄便民路'!E96 -> 0 | I6: ='东王庙村-朱庄便民路'!E96 -> 0 | J6: ='兴陶村-中心路'!E91 -> 0 | L6: ='王魏庄村-沟东路'!E91 -> 0 | M6: ='三杰村-湾东路'!E96 -> 0
A7: 3 | B7: 300 | C7: 第300章 路面 | D7: =E7+G7+H7+I7+J7+L7+M7 -> 0 | E7: ='王团庄村-王乔路'!E142 -> 0 | G7: ='新沟村-兴南路'!E142 -> 0 | H7: ='常荡村-刁庄便民路'!E142 -> 0 | I7: ='东王庙村-朱庄便民路'!E142 -> 0 | J7: ='兴陶村-中心路'!E137 -> 0 | L7: ='王魏庄村-沟东路'!E137 -> 0 | M7: ='三杰村-湾东路'!E142 -> 0
A8: 4 | B8: 600 | C8: 第600章 安全设施及预埋管线 | D8: =E8+G8+H8+I8+J8+L8+M8 -> 0 | E8: ='王团庄村-王乔路'!E187 -> 0 | G8: ='新沟村-兴南路'!E187 -> 0 | H8: ='常荡村-刁庄便民路'!E187 -> 0 | I8: ='东王庙村-朱庄便民路'!E187 -> 0 | J8: ='兴陶村-中心路'!E182 -> 0 | L8: ='王魏庄村-沟东路'!E182 -> 0 | M8: ='三杰村-湾东路'!E187 -> 0
A9: 5 | B9: 第100章至第700章合计 | D9: =E9+G9+H9+I9+J9+L9+M9 -> 15524 | E9: =E5+E6+E7+E8 -> 2140 | G9: =G5+G6+G7+G8 -> 1832 | H9: =H5+H6+H7+H8 -> 3649 | I9: =I5+I6+I7+I8 -> 1905 | J9: =J5+J6+J7+J8 -> 2395 | L9: =L5+L6+L7+L8 -> 2196 | M9: =M5+M6+M7+M8 -> 1407
A10: 6 | B10: 已包含在清单合计中的材料、工程设备、专业工程暂估价合计
A11: 7 | B11: 清单合计减去材料、工程设备、专业工程暂估价合计 | D11: =D9 -> 15524 | E11: =E9 -> 2140 | G11: =G9 -> 1832 | H11: =H9 -> 3649 | I11: =I9 -> 1905 | J11: =J9 -> 2395 | L11: =L9 -> 2196 | M11: =M9 -> 1407
A12: 8 | B12: 计日工合计
A13: 9 | B13: 暂列金额（不含计日工总额）
A14: 10 | B14: 投标报价 | D14: =D11 -> 15524 | E14: =E11 -> 2140 | G14: =G11 -> 1832 | H14: =H11 -> 3649 | I14: =I11 -> 1905 | J14: =J11 -> 2395 | L14: =L11 -> 2196 | M14: =M11 -> 1407

Sheet 王团庄村-王乔路
A1: 工程量清单表
A2: 合同段：王团庄村-王乔路 | F2: 标表2
A3: 第100章 总则
A4: 子目号 | B4: 子目名称 | D4: 单位 | E4: 数量 | G4: 单价 | H4: 合价
A5: 101 | B5: 通则 | H5: =IF(ROUND(E5*G5,2)=0," ",ROUND(E5*G5,2))
A6: 101-1 | B6: 保险费 | H6: =IF(ROUND(E6*G6,2)=0," ",ROUND(E6*G6,2))
A7: -a | B7: 按合同条款规定，提供建筑工程一切险 | D7: 总额 | E7: 1 | G7: 0 | H7: =E7*G7 -> 0
A8: -b | B8: 按合同条款规定，提供第三者责任险 | D8: 总额 | E8: 1 | G8: 0 | H8: =E8*G8 -> 0
A9: 102 | B9: 工程管理 | H9: =IF(ROUND(E9*G9,2)=0," ",ROUND(E9*G9,2))
A10: 102-1 | B10: 竣工文件 | D10: 总额 | E10: 1 | G10: 0 | H10: =E10*G10 -> 0
A11: 102-2 | B11: 施工环保费 | D11: 总额 | E11: 1 | G11: 0 | H11: =E11*G11 -> 0
A12: 102-3 | B12: 安全生产费（不低于最高投标限价的1.5%） | D12: 总额 | E12: 1 | G12: 2140 | H12: =E12*G12 -> 2140
A13: 103 | B13: 临时工程与设施
A14: 103-2 | B14: 临时占地、临时供电、承包人驻地建设及施工驻地等 | D14: 总额 | E14: 1 | G14: 0 | H14: =E14*G14 -> 0
A48: ="第100章 合计 人民币（元）" -> 第100章 合计 人民币（元） | E48: =H7+H8+H10+H11+H12+H14 -> 2140
F49: 清单 第 1 页 共 4 页
A50: 工程量清单表
A51: 合同段：王团庄村-王乔路 | F51: 标表2
A52: 第200章 路基
A53: 子目号 | B53: 子目名称 | D53: 单位 | E53: 数量 | G53: 单价 | H53: 合价
A54: 203 | B54: 挖方路基 | H54: =IF(ROUND(E54*G54,2)=0," ",ROUND(E54*G54,2))
A55: 203-1 | B55: 路基挖方 | H55: =IF(ROUND(E55*G55,2)=0," ",ROUND(E55*G55,2))
A56: -a | B56: 路基处理（清除表面杂土、杂物，现场土方开挖或回填至设计标高、多余土方需运离施工现场，土方来源自行考虑）、请各投标单位勘察现场后自行考虑、合理报价，投标人综合报价，结算不调整 | D56: m2 | E56: 1453.5 | G56: 0 | H56: =E56*G56 -> 0
A96: ="第200章 合计 人民币（元）" -> 第200章 合计 人民币（元） | E96: =H56 -> 0
F97: 清单 第 2 页 共 4 页
A98: 工程量清单表
A99: 合同段：王团庄村-王乔路 | F99: 标表2
A100: 第300章 路面
A101: 子目号 | B101: 子目名称 | D101: 单位 | E101: 数量 | G101: 单价 | H101: 合价
A102: 303 | B102: 石灰稳定土底基层、基层 | H102: =IF(ROUND(E102*G102,2)=0," ",ROUND(E102*G102,2))
A103: 303-1 | B103: 石灰稳定土底基层 | H103: =IF(ROUND(E103*G103,2)=0," ",ROUND(E103*G103,2))
A104: -a | B104: 20cm厚12%石灰土原槽拌合压实，含石灰消解等，土方来源自行考虑，请各投标单位综合考虑、合理报价 | D104: m2 | E104: 1259.7 | G104: 0 | H104: =E104*G104 -> 0
A105: 312 | B105: 水泥混凝土面板
A106: 312-1 | B106: 水泥混凝土面板
A107: -a | B107: 18cm厚C30商品砼路面（抗弯拉强度≥4.0Mpa），含切缝、接缝填缝、路面养生及模板等一切相关费用 | D107: m2 | E107: 1130.5 | G107: 0 | H107: =E107*G107 -> 0
A108: 313 | B108: 路肩培土、中央分隔带回填土、土路肩加固及路缘石
A109: 313-1 | B109: 路肩培土，压实度满足相关文件要求，土源投标单位自行考虑，含在投标报价内，结算不调整 | D109: m2 | E109: 323 | G109: 0 | H109: =E109*G109 -> 0
A142: ="第300章 合计 人民币（元）" -> 第300章 合计 人民币（元） | E142: =H104+H107+H109 -> 0
F143: 清单 第 3 页 共 4 页
A144: 工程量清单表
A145: 合同段：王团庄村-王乔路 | F145: 标表2
A146: 第600章 安全设施及预埋管线
A147: 子目号 | B147: 子目名称 | D147: 单位 | E147: 数量 | G147: 单价 | H147: 合价
A148: 604 | B148: 道路交通标志 | H148: =IF(ROUND(E148*G148,2)=0," ",ROUND(E148*G148,2))
A149: 604-1 | B149: 路铭牌：长800mm*宽600mm，采用黑色大理石，含底座、制作安装、碑面刻字等一切相关费用 | D149: 个 | E149: 1 | G149: 0 | H149: =E149*G149 -> 0
A150: 604-2 | B150: 3m高单柱式警示标志（Q235钢管，热镀锌防腐，Φ114*3.5mm热镀锌钢管立柱，埋深700mm，地面外露2300m，面板边长80cm等边三角形铝合金标志牌），含钢筋砼基础具体做法及要求以甲方意见为准 | D150: 个 | E150: 4 | G150: 0 | H150: =E150*G150 -> 0
A151: 604-10 | B151: 警示柱，钢管警示桩，Q235钢管，热镀锌防腐，Φ114*3.5mm，高度1200mm（地面部分800mm，地下部分400mm），红白反光漆，贴反光膜，含相关基础等 | D151: 个 | E151: 10 | G151: 0 | H151: =E151*G151 -> 0
A187: ="第600章 合计 人民币（元）" -> 第600章 合计 人民币（元） | E187: =H149+H150+H151 -> 0
F188: 清单 第 4 页 共 4 页

Sheet 新沟村-兴南路
A1: 工程量清单表
A2: 合同段：新沟村-兴南路 | F2: 标表2
A3: 第100章 总则
A4: 子目号 | B4: 子目名称 | D4: 单位 | E4: 数量 | G4: 单价 | H4: 合价
A5: 101 | B5: 通则 | H5: =IF(ROUND(E5*G5,2)=0," ",ROUND(E5*G5,2))
A6: 101-1 | B6: 保险费 | H6: =IF(ROUND(E6*G6,2)=0," ",ROUND(E6*G6,2))
A7: -a | B7: 按合同条款规定，提供建筑工程一切险 | D7: 总额 | E7: 1 | G7: 0 | H7: =E7*G7 -> 0
A8: -b | B8: 按合同条款规定，提供第三者责任险 | D8: 总额 | E8: 1 | G8: 0 | H8: =E8*G8 -> 0
A9: 102 | B9: 工程管理 | H9: =IF(ROUND(E9*G9,2)=0," ",ROUND(E9*G9,2))
A10: 102-1 | B10: 竣工文件 | D10: 总额 | E10: 1 | G10: 0 | H10: =E10*G10 -> 0
A11: 102-2 | B11: 施工环保费 | D11: 总额 | E11: 1 | G11: 0 | H11: =E11*G11 -> 0
A12: 102-3 | B12: 安全生产费（不低于最高投标限价的1.5%） | D12: 总额 | E12: 1 | G12: 1832 | H12: =E12*G12 -> 1832
A13: 103 | B13: 临时工程与设施 | H13: =IF(ROUND(E13*G13,2)=0," ",ROUND(E13*G13,2))
A14: 103-2 | B14: 临时占地、临时供电、承包人驻地建设及施工驻地等 | D14: 总额 | E14: 1 | G14: 0 | H14: =E14*G14 -> 0
A48: ="第100章 合计 人民币（元）" -> 第100章 合计 人民币（元） | E48: =H7+H8+H10+H11+H12+H14 -> 1832
F49: 清单 第 1 页 共 4 页
A50: 工程量清单表
A51: 合同段：新沟村-兴南路 | F51: 标表2
A52: 第200章 路基
A53: 子目号 | B53: 子目名称 | D53: 单位 | E53: 数量 | G53: 单价 | H53: 合价
A54: 203 | B54: 挖方路基 | H54: =IF(ROUND(E54*G54,2)=0," ",ROUND(E54*G54,2))
A55: 203-1 | B55: 路基挖方 | H55: =IF(ROUND(E55*G55,2)=0," ",ROUND(E55*G55,2))
A56: -a | B56: 路基处理（清除表面杂土、杂物，现场土方开挖或回填至设计标高、多余土方需运离施工现场，土方来源自行考虑）、请各投标单位勘察现场后自行考虑、合理报价，投标人综合报价，结算不调整 | D56: m2 | E56: 1300 | G56: 0 | H56: =E56*G56 -> 0
A96: ="第200章 合计 人民币（元）" -> 第200章 合计 人民币（元） | E96: =H56 -> 0
F97: 清单 第 2 页 共 4 页
A98: 工程量清单表
A99: 合同段：新沟村-兴南路 | F99: 标表2
A100: 第300章 路面
A101: 子目号 | B101: 子目名称 | D101: 单位 | E101: 数量 | G101: 单价 | H101: 合价
A102: 303 | B102: 石灰稳定土底基层、基层 | H102: =IF(ROUND(E102*G102,2)=0," ",ROUND(E102*G102,2))
A103: 303-1 | B103: 石灰稳定土底基层 | H103: =IF(ROUND(E103*G103,2)=0," ",ROUND(E103*G103,2))
A104: -a | B104: 20cm厚12%石灰土原槽拌合压实，含石灰消解等，土方来源自行考虑，请各投标单位综合考虑、合理报价 | D104: m2 | E104: 1105 | G104: 0 | H104: =E104*G104 -> 0
A105: 312 | B105: 水泥混凝土面板 | H105: =IF(ROUND(E105*G105,2)=0," ",ROUND(E105*G105,2))
A106: 312-1 | B106: 水泥混凝土面板 | H106: =IF(ROUND(E106*G106,2)=0," ",ROUND(E106*G106,2))
A107: -a | B107: 18cm厚C30商品砼路面（抗弯拉强度≥4.0Mpa），含切缝、接缝填缝、路面养生及模板等一切相关费用 | D107: m2 | E107: 975 | G107: 0 | H107: =E107*G107 -> 0
A108: 313 | B108: 路肩培土、中央分隔带回填土、土路肩加固及路缘石 | H108: =IF(ROUND(E108*G108,2)=0," ",ROUND(E108*G108,2))
A109: 313-1 | B109: 路肩培土，压实度满足相关文件要求，土源投标单位自行考虑，含在投标报价内，结算不调整 | D109: m2 | E109: 325 | G109: 0 | H109: =E109*G109 -> 0
A142: ="第300章 合计 人民币（元）" -> 第300章 合计 人民币（元） | E142: =H104+H107+H109 -> 0
F143: 清单 第 3 页 共 4 页
A144: 工程量清单表
A145: 合同段：新沟村-兴南路 | F145: 标表2
A146: 第600章 安全设施及预埋管线
A147: 子目号 | B147: 子目名称 | D147: 单位 | E147: 数量 | G147: 单价 | H147: 合价
A148: 604 | B148: 道路交通标志 | H148: =IF(ROUND(E148*G148,2)=0," ",ROUND(E148*G148,2))
A149: 604-1 | B149: 路铭牌：长800mm*宽600mm，采用黑色大理石，含底座、制作安装、碑面刻字等一切相关费用 | D149: 个 | E149: 1 | G149: 0 | H149: =E149*G149 -> 0
A150: 604-2 | B150: 3m高单柱式警示标志（Q235钢管，热镀锌防腐，Φ114*3.5mm热镀锌钢管立柱，埋深700mm，地面外露2300m，面板边长80cm等边三角形铝合金标志牌），含钢筋砼基础具体做法及要求以甲方意见为准 | D150: 个 | E150: 2 | G150: 0 | H150: =E150*G150 -> 0
A151: 604-10 | B151: 警示柱，钢管警示桩，Q235钢管，热镀锌防腐，Φ114*3.5mm，高度1200mm（地面部分800mm，地下部分400mm），红白反光漆，贴反光膜，含相关基础等 | D151: 个 | E151: 6 | G151: 0 | H151: =E151*G151 -> 0
A187: ="第600章 合计 人民币（元）" -> 第600章 合计 人民币（元） | E187: =H149+H150+H151 -> 0
F188: 清单 第 4 页 共 4 页

Sheet 常荡村-刁庄便民路
A1: 工程量清单表
A2: 合同段：常荡村-刁庄便民路 | F2: 标表2
A3: 第100章 总则
A4: 子目号 | B4: 子目名称 | D4: 单位 | E4: 数量 | G4: 单价 | H4: 合价
A5: 101 | B5: 通则 | H5: =IF(ROUND(E5*G5,2)=0," ",ROUND(E5*G5,2))
A6: 101-1 | B6: 保险费 | H6: =IF(ROUND(E6*G6,2)=0," ",ROUND(E6*G6,2))
A7: -a | B7: 按合同条款规定，提供建筑工程一切险 | D7: 总额 | E7: 1 | G7: 0 | H7: =E7*G7 -> 0
A8: -b | B8: 按合同条款规定，提供第三者责任险 | D8: 总额 | E8: 1 | G8: 0 | H8: =E8*G8 -> 0
A9: 102 | B9: 工程管理
A10: 102-1 | B10: 竣工文件 | D10: 总额 | E10: 1 | G10: 0 | H10: =E10*G10 -> 0
A11: 102-2 | B11: 施工环保费 | D11: 总额 | E11: 1 | G11: 0 | H11: =E11*G11 -> 0
A12: 102-3 | B12: 安全生产费（不低于最高投标限价的1.5%） | D12: 总额 | E12: 1 | G12: 3649 | H12: =E12*G12 -> 3649
A13: 103 | B13: 临时工程与设施
A14: 103-2 | B14: 临时占地、临时供电、承包人驻地建设及施工驻地等 | D14: 总额 | E14: 1 | G14: 0 | H14: =E14*G14 -> 0
A48: ="第100章 合计 人民币（元）" -> 第100章 合计 人民币（元） | E48: =H7+H8+H10+H11+H12+H14 -> 3649
F49: 清单 第 1 页 共 4 页
A50: 工程量清单表
A51: 合同段：常荡村-刁庄便民路 | F51: 标表2
A52: 第200章 路基
A53: 子目号 | B53: 子目名称 | D53: 单位 | E53: 数量 | G53: 单价 | H53: 合价
A54: 203 | B54: 挖方路基 | H54: =IF(ROUND(E54*G54,2)=0," ",ROUND(E54*G54,2))
A55: 203-1 | B55: 路基挖方 | H55: =IF(ROUND(E55*G55,2)=0," ",ROUND(E55*G55,2))
A56: -a | B56: 路基处理（清除表面杂土、杂物，现场土方开挖或回填至设计标高、多余土方需运离施工现场，土方来源自行考虑）、请各投标单位勘察现场后自行考虑、合理报价，投标人综合报价，结算不调整 | D56: m2 | E56: 2488.5 | G56: 0 | H56: =E56*G56 -> 0
A96: ="第200章 合计 人民币（元）" -> 第200章 合计 人民币（元） | E96: =H56 -> 0
F97: 清单 第 2 页 共 4 页
A98: 工程量清单表
A99: 合同段：常荡村-刁庄便民路 | F99: 标表2
A100: 第300章 路面
A101: 子目号 | B101: 子目名称 | D101: 单位 | E101: 数量 | G101: 单价 | H101: 合价
A102: 303 | B102: 石灰稳定土底基层、基层 | H102: =IF(ROUND(E102*G102,2)=0," ",ROUND(E102*G102,2))
A103: 303-1 | B103: 石灰稳定土底基层 | H103: =IF(ROUND(E103*G103,2)=0," ",ROUND(E103*G103,2))
A104: -a | B104: 20cm厚12%石灰土原槽拌合压实，含石灰消解等，土方来源自行考虑，请各投标单位综合考虑、合理报价 | D104: m2 | E104: 2156.7 | G104: 0 | H104: =E104*G104 -> 0
A105: 312 | B105: 水泥混凝土面板
A106: 312-1 | B106: 水泥混凝土面板
A107: -a | B107: 18cm厚C30商品砼路面（抗弯拉强度≥4.0Mpa），含切缝、接缝填缝、路面养生及模板等一切相关费用 | D107: m2 | E107: 1935.5 | G107: 0 | H107: =E107*G107 -> 0
A108: 313 | B108: 路肩培土、中央分隔带回填土、土路肩加固及路缘石
A109: 313-1 | B109: 路肩培土，压实度满足相关文件要求，土源投标单位自行考虑，含在投标报价内，结算不调整 | D109: m2 | E109: 553 | G109: 0 | H109: =E109*G109 -> 0
A142: ="第300章 合计 人民币（元）" -> 第300章 合计 人民币（元） | E142: =H104+H107+H109 -> 0
F143: 清单 第 3 页 共 4 页
A144: 工程量清单表
A145: 合同段：常荡村-刁庄便民路 | F145: 标表2
A146: 第600章 安全设施及预埋管线
A147: 子目号 | B147: 子目名称 | D147: 单位 | E147: 数量 | G147: 单价 | H147: 合价
A148: 604 | B148: 道路交通标志 | H148: =IF(ROUND(E148*G148,2)=0," ",ROUND(E148*G148,2))
A149: 604-1 | B149: 路铭牌：长800mm*宽600mm，采用黑色大理石，含底座、制作安装、碑面刻字等一切相关费用 | D149: 个 | E149: 1 | G149: 0 | H149: =E149*G149 -> 0
A150: 604-2 | B150: 3m高单柱式警示标志（Q235钢管，热镀锌防腐，Φ114*3.5mm热镀锌钢管立柱，埋深700mm，地面外露2300m，面板边长80cm等边三角形铝合金标志牌），含钢筋砼基础具体做法及要求以甲方意见为准 | D150: 个 | E150: 6 | G150: 0 | H150: =E150*G150 -> 0
A151: 604-10 | B151: 警示柱，钢管警示桩，Q235钢管，热镀锌防腐，Φ114*3.5mm，高度1200mm（地面部分800mm，地下部分400mm），红白反光漆，贴反光膜，含相关基础等 | D151: 个 | E151: 20 | G151: 0 | H151: =E151*G151 -> 0
A187: ="第600章 合计 人民币（元）" -> 第600章 合计 人民币（元） | E187: =H149+H150+H151 -> 0
F188: 清单 第 4 页 共 4 页

Sheet 东王庙村-朱庄便民路
A1: 工程量清单表
A2: 合同段：东王庙村-朱庄便民路 | F2: 标表2
A3: 第100章 总则
A4: 子目号 | B4: 子目名称 | D4: 单位 | E4: 数量 | G4: 单价 | H4: 合价
A5: 101 | B5: 通则 | H5: =IF(ROUND(E5*G5,2)=0," ",ROUND(E5*G5,2))
A6: 101-1 | B6: 保险费 | H6: =IF(ROUND(E6*G6,2)=0," ",ROUND(E6*G6,2))
A7: -a | B7: 按合同条款规定，提供建筑工程一切险 | D7: 总额 | E7: 1 | G7: 0 | H7: =E7*G7 -> 0
A8: -b | B8: 按合同条款规定，提供第三者责任险 | D8: 总额 | E8: 1 | G8: 0 | H8: =E8*G8 -> 0
A9: 102 | B9: 工程管理
A10: 102-1 | B10: 竣工文件 | D10: 总额 | E10: 1 | G10: 0 | H10: =E10*G10 -> 0
A11: 102-2 | B11: 施工环保费 | D11: 总额 | E11: 1 | G11: 0 | H11: =E11*G11 -> 0
A12: 102-3 | B12: 安全生产费（不低于最高投标限价的1.5%） | D12: 总额 | E12: 1 | G12: 1905 | H12: =E12*G12 -> 1905
A13: 103 | B13: 临时工程与设施
A14: 103-2 | B14: 临时占地、临时供电、承包人驻地建设及施工驻地等 | D14: 总额 | E14: 1 | G14: 0 | H14: =E14*G14 -> 0
A48: ="第100章 合计 人民币（元）" -> 第100章 合计 人民币（元） | E48: =H7+H8+H10+H11+H12+H14 -> 1905
F49: 清单 第 1 页 共 4 页
A50: 工程量清单表
A51: 合同段：东王庙村-朱庄便民路 | F51: 标表2
A52: 第200章 路基
A53: 子目号 | B53: 子目名称 | D53: 单位 | E53: 数量 | G53: 单价 | H53: 合价
A54: 203 | B54: 挖方路基 | H54: =IF(ROUND(E54*G54,2)=0," ",ROUND(E54*G54,2))
A55: 203-1 | B55: 路基挖方 | H55: =IF(ROUND(E55*G55,2)=0," ",ROUND(E55*G55,2))
A56: -a | B56: 路基处理（清除表面杂土、杂物，现场土方开挖或回填至设计标高、多余土方需运离施工现场，土方来源自行考虑）、请各投标单位勘察现场后自行考虑、合理报价，投标人综合报价，结算不调整 | D56: m2 | E56: 1344 | G56: 0 | H56: =E56*G56 -> 0
A96: ="第200章 合计 人民币（元）" -> 第200章 合计 人民币（元） | E96: =H56 -> 0
F97: 清单 第 2 页 共 4 页
A98: 工程量清单表
A99: 合同段：东王庙村-朱庄便民路 | F99: 标表2
A100: 第300章 路面
A101: 子目号 | B101: 子目名称 | D101: 单位 | E101: 数量 | G101: 单价 | H101: 合价
A102: 303 | B102: 石灰稳定土底基层、基层 | H102: =IF(ROUND(E102*G102,2)=0," ",ROUND(E102*G102,2))
A103: 303-1 | B103: 石灰稳定土底基层 | H103: =IF(ROUND(E103*G103,2)=0," ",ROUND(E103*G103,2))
A104: -a | B104: 20cm厚12%石灰土原槽拌合压实，含石灰消解等，土方来源自行考虑，请各投标单位综合考虑、合理报价 | D104: m2 | E104: 1142.4 | G104: 0 | H104: =E104*G104 -> 0
A105: 312 | B105: 水泥混凝土面板
A106: 312-1 | B106: 水泥混凝土面板
A107: -a | B107: 18cm厚C30商品砼路面（抗弯拉强度≥4.0Mpa），含切缝、接缝填缝、路面养生及模板等一切相关费用 | D107: m2 | E107: 1008 | G107: 0 | H107: =E107*G107 -> 0
A108: 313 | B108: 路肩培土、中央分隔带回填土、土路肩加固及路缘石
A109: 313-1 | B109: 路肩培土，压实度满足相关文件要求，土源投标单位自行考虑，含在投标报价内，结算不调整 | D109: m2 | E109: 336 | G109: 0 | H109: =E109*G109 -> 0
A142: ="第300章 合计 人民币（元）" -> 第300章 合计 人民币（元） | E142: =H104+H107+H109 -> 0
F143: 清单 第 3 页 共 4 页
A144: 工程量清单表
A145: 合同段：东王庙村-朱庄便民路 | F145: 标表2
A146: 第600章 安全设施及预埋管线
A147: 子目号 | B147: 子目名称 | D147: 单位 | E147: 数量 | G147: 单价 | H147: 合价
A148: 604 | B148: 道路交通标志 | H148: =IF(ROUND(E148*G148,2)=0," ",ROUND(E148*G148,2))
A149: 604-1 | B149: 路铭牌：长800mm*宽600mm，采用黑色大理石，含底座、制作安装、碑面刻字等一切相关费用 | D149: 个 | E149: 1 | G149: 0 | H149: =E149*G149 -> 0
A150: 604-2 | B150: 3m高单柱式警示标志（Q235钢管，热镀锌防腐，Φ114*3.5mm热镀锌钢管立柱，埋深700mm，地面外露2300m，面板边长80cm等边三角形铝合金标志牌），含钢筋砼基础具体做法及要求以甲方意见为准 | D150: 个 | E150: 3 | G150: 0 | H150: =E150*G150 -> 0
A151: 604-10 | B151: 警示柱，钢管警示桩，Q235钢管，热镀锌防腐，Φ114*3.5mm，高度1200mm（地面部分800mm，地下部分400mm），红白反光漆，贴反光膜，含相关基础等 | D151: 个 | E151: 6 | G151: 0 | H151: =E151*G151 -> 0
A187: ="第600章 合计 人民币（元）" -> 第600章 合计 人民币（元） | E187: =H149+H150+H151 -> 0
F188: 清单 第 4 页 共 4 页

Sheet 兴陶村-中心路
A1: 工程量清单表
A2: 合同段：兴陶村-中心路 | F2: 标表2
A3: 第100章 总则
A4: 子目号 | B4: 子目名称 | D4: 单位 | E4: 数量 | G4: 单价 | H4: 合价
A5: 101 | B5: 通则 | H5: =IF(ROUND(E5*G5,2)=0," ",ROUND(E5*G5,2))
A6: 101-1 | B6: 保险费 | H6: =IF(ROUND(E6*G6,2)=0," ",ROUND(E6*G6,2))
A7: -a | B7: 按合同条款规定，提供建筑工程一切险 | D7: 总额 | E7: 1 | G7: 0 | H7: =E7*G7 -> 0
A8: -b | B8: 按合同条款规定，提供第三者责任险 | D8: 总额 | E8: 1 | G8: 0 | H8: =E8*G8 -> 0
A9: 102 | B9: 工程管理
A10: 102-1 | B10: 竣工文件 | D10: 总额 | E10: 1 | G10: 0 | H10: =E10*G10 -> 0
A11: 102-2 | B11: 施工环保费 | D11: 总额 | E11: 1 | G11: 0 | H11: =E11*G11 -> 0
A12: 102-3 | B12: 安全生产费（不低于最高投标限价的1.5%） | D12: 总额 | E12: 1 | G12: 2395 | H12: =E12*G12 -> 2395
A13: 103 | B13: 临时工程与设施
A14: 103-2 | B14: 临时占地、临时供电、承包人驻地建设及施工驻地等 | D14: 总额 | E14: 1 | G14: 0 | H14: =E14*G14 -> 0
A48: ="第100章 合计 人民币（元）" -> 第100章 合计 人民币（元） | E48: =H7+H8+H10+H11+H12+H14 -> 2395
F49: 清单 第 1 页 共 4 页
A50: 工程量清单表
A51: 合同段：兴陶村-中心路 | F51: 标表2
A52: 第200章 路基
A53: 子目号 | B53: 子目名称 | D53: 单位 | E53: 数量 | G53: 单价 | H53: 合价
A54: 202 | B54: 场地清理 | H54: =IF(ROUND(E54*G54,2)=0," ",ROUND(E54*G54,2))
A55: 202-2 | B55: 挖除旧路面 | H55: =IF(ROUND(E55*G55,2)=0," ",ROUND(E55*G55,2))
A56: -a | B56: 原有混凝土地坪拆除，具体厚度以现场实际为准，请各投标单位勘察现场，合理报价；包含切缝等相关内容；该项目拆除部分的废旧料残值，现已将该残值在招标控制价中扣除，请投标人在投标报价时需综合考虑此费用，拆除后的废旧料归中标人所有，由中标人自行处置，结算时不得增加任何相关费用。 | D56: m2 | E56: 945 | G56: 0 | H56: =E56*G56 -> 0
A57: 203 | B57: 挖方路基
A58: 203-1 | B58: 路基挖方
A59: -a | B59: 路基处理（清除表面杂土、杂物，现场土方开挖或回填至设计标高、多余土方需运离施工现场，土方来源自行考虑）、请各投标单位勘察现场后自行考虑、合理报价，投标人综合报价，结算不调整 | D59: m2 | E59: 1701 | G59: 0 | H59: =E59*G59 -> 0
A91: ="第200章 合计 人民币（元）" -> 第200章 合计 人民币（元） | E91: =H56+H59 -> 0
F92: 清单 第 2 页 共 4 页
A93: 工程量清单表
A94: 合同段：兴陶村-中心路 | F94: 标表2
A95: 第300章 路面
A96: 子目号 | B96: 子目名称 | D96: 单位 | E96: 数量 | G96: 单价 | H96: 合价
A97: 303 | B97: 石灰稳定土底基层、基层 | H97: =IF(ROUND(E97*G97,2)=0," ",ROUND(E97*G97,2))
A98: 303-1 | B98: 石灰稳定土底基层 | H98: =IF(ROUND(E98*G98,2)=0," ",ROUND(E98*G98,2))
A99: -a | B99: 20cm厚12%石灰土原槽拌合压实，含石灰消解等，土方来源自行考虑，请各投标单位综合考虑、合理报价 | D99: m2 | E99: 1474.2 | G99: 0 | H99: =E99*G99 -> 0
A100: 312 | B100: 水泥混凝土面板
A101: 312-1 | B101: 水泥混凝土面板
A102: -a | B102: 18cm厚C30商品砼路面（抗弯拉强度≥4.0Mpa），含切缝、接缝填缝、路面养生及模板等一切相关费用 | D102: m2 | E102: 1323 | G102: 0 | H102: =E102*G102 -> 0
A103: 313 | B103: 路肩培土、中央分隔带回填土、土路肩加固及路缘石
A104: 313-1 | B104: 路肩培土，压实度满足相关文件要求，土源投标单位自行考虑，含在投标报价内，结算不调整 | D104: m2 | E104: 378 | G104: 0 | H104: =E104*G104 -> 0
A137: ="第300章 合计 人民币（元）" -> 第300章 合计 人民币（元） | E137: =H99+H102+H104 -> 0
F138: 清单 第 3 页 共 4 页
A139: 工程量清单表
A140: 合同段：兴陶村-中心路 | F140: 标表2
A141: 第600章 安全设施及预埋管线
A142: 子目号 | B142: 子目名称 | D142: 单位 | E142: 数量 | G142: 单价 | H142: 合价
A143: 604 | B143: 道路交通标志 | H143: =IF(ROUND(E143*G143,2)=0," ",ROUND(E143*G143,2))
A144: 604-1 | B144: 路铭牌：长800mm*宽600mm，采用黑色大理石，含底座、制作安装、碑面刻字等一切相关费用 | D144: 个 | E144: 1 | G144: 0 | H144: =E144*G144 -> 0
A145: 604-2 | B145: 3m高单柱式警示标志（Q235钢管，热镀锌防腐，Φ114*3.5mm热镀锌钢管立柱，埋深700mm，地面外露2300m，面板边长80cm等边三角形铝合金标志牌），含钢筋砼基础具体做法及要求以甲方意见为准 | D145: 个 | E145: 2 | G145: 0 | H145: =E145*G145 -> 0
A146: 604-10 | B146: 警示柱，钢管警示桩，Q235钢管，热镀锌防腐，Φ114*3.5mm，高度1200mm（地面部分800mm，地下部分400mm），红白反光漆，贴反光膜，含相关基础等 | D146: 个 | E146: 4 | G146: 0 | H146: =E146*G146 -> 0
A182: ="第600章 合计 人民币（元）" -> 第600章 合计 人民币（元） | E182: =H144+H145+H146 -> 0
F183: 清单 第 4 页 共 4 页

Sheet 王魏庄村-沟东路
A1: 工程量清单表
A2: 合同段：王魏庄村-沟东路 | F2: 标表2
A3: 第100章 总则
A4: 子目号 | B4: 子目名称 | D4: 单位 | E4: 数量 | G4: 单价 | H4: 合价
A5: 101 | B5: 通则 | H5: =IF(ROUND(E5*G5,2)=0," ",ROUND(E5*G5,2))
A6: 101-1 | B6: 保险费 | H6: =IF(ROUND(E6*G6,2)=0," ",ROUND(E6*G6,2))
A7: -a | B7: 按合同条款规定，提供建筑工程一切险 | D7: 总额 | E7: 1 | G7: 0 | H7: =E7*G7 -> 0
A8: -b | B8: 按合同条款规定，提供第三者责任险 | D8: 总额 | E8: 1 | G8: 0 | H8: =E8*G8 -> 0
A9: 102 | B9: 工程管理
A10: 102-1 | B10: 竣工文件 | D10: 总额 | E10: 1 | G10: 0 | H10: =E10*G10 -> 0
A11: 102-2 | B11: 施工环保费 | D11: 总额 | E11: 1 | G11: 0 | H11: =E11*G11 -> 0
A12: 102-3 | B12: 安全生产费（不低于最高投标限价的1.5%） | D12: 总额 | E12: 1 | G12: 2196 | H12: =E12*G12 -> 2196
A13: 103 | B13: 临时工程与设施
A14: 103-2 | B14: 临时占地、临时供电、承包人驻地建设及施工驻地等 | D14: 总额 | E14: 1 | G14: 0 | H14: =E14*G14 -> 0
A48: ="第100章 合计 人民币（元）" -> 第100章 合计 人民币（元） | E48: =H7+H8+H10+H11+H12+H14 -> 2196
F49: 清单 第 1 页 共 4 页
A50: 工程量清单表
A51: 合同段：王魏庄村-沟东路 | F51: 标表2
A52: 第200章 路基
A53: 子目号 | B53: 子目名称 | D53: 单位 | E53: 数量 | G53: 单价 | H53: 合价
A54: 202 | B54: 场地清理 | H54: =IF(ROUND(E54*G54,2)=0," ",ROUND(E54*G54,2))
A55: 202-2 | B55: 挖除旧路面 | H55: =IF(ROUND(E55*G55,2)=0," ",ROUND(E55*G55,2))
A56: -a | B56: 原有混凝土地坪拆除，具体厚度以现场实际为准，请各投标单位勘察现场，合理报价；包含切缝等相关内容；该项目拆除部分的废旧料残值，现已将该残值在招标控制价中扣除，请投标人在投标报价时需综合考虑此费用，拆除后的废旧料归中标人所有，由中标人自行处置，结算时不得增加任何相关费用。 | D56: m2 | E56: 641 | G56: 0 | H56: =E56*G56 -> 0
A57: 203 | B57: 挖方路基
A58: 203-1 | B58: 路基挖方
A59: -a | B59: 路基处理（清除表面杂土、杂物，现场土方开挖或回填至设计标高、多余土方需运离施工现场，土方来源自行考虑）、请各投标单位勘察现场后自行考虑、合理报价，投标人综合报价，结算不调整 | D59: m2 | E59: 1580 | G59: 0 | H59: =E59*G59 -> 0
A91: ="第200章 合计 人民币（元）" -> 第200章 合计 人民币（元） | E91: =H56+H59 -> 0
F92: 清单 第 2 页 共 4 页
A93: 工程量清单表
A94: 合同段：王魏庄村-沟东路 | F94: 标表2
A95: 第300章 路面
A96: 子目号 | B96: 子目名称 | D96: 单位 | E96: 数量 | G96: 单价 | H96: 合价
A97: 303 | B97: 石灰稳定土底基层、基层 | H97: =IF(ROUND(E97*G97,2)=0," ",ROUND(E97*G97,2))
A98: 303-1 | B98: 石灰稳定土底基层 | H98: =IF(ROUND(E98*G98,2)=0," ",ROUND(E98*G98,2))
A99: -a | B99: 20cm厚12%石灰土原槽拌合压实，含石灰消解等，土方来源自行考虑，请各投标单位综合考虑、合理报价 | D99: m2 | E99: 1343 | G99: 0 | H99: =E99*G99 -> 0
A100: 312 | B100: 水泥混凝土面板 | H100: =IF(ROUND(E100*G100,2)=0," ",ROUND(E100*G100,2))
A101: 312-1 | B101: 水泥混凝土面板 | H101: =IF(ROUND(E101*G101,2)=0," ",ROUND(E101*G101,2))
A102: -a | B102: 18cm厚C30商品砼路面（抗弯拉强度≥4.0Mpa），含切缝、接缝填缝、路面养生及模板等一切相关费用 | D102: m2 | E102: 1185 | G102: 0 | H102: =E102*G102 -> 0
A103: 313 | B103: 路肩培土、中央分隔带回填土、土路肩加固及路缘石 | H103: =IF(ROUND(E103*G103,2)=0," ",ROUND(E103*G103,2))
A104: 313-1 | B104: 路肩培土，压实度满足相关文件要求，土源投标单位自行考虑，含在投标报价内，结算不调整 | D104: m2 | E104: 395 | G104: 0 | H104: =E104*G104 -> 0
A137: ="第300章 合计 人民币（元）" -> 第300章 合计 人民币（元） | E137: =H99+H102+H104 -> 0
F138: 清单 第 3 页 共 4 页
A139: 工程量清单表
A140: 合同段：王魏庄村-沟东路 | F140: 标表2
A141: 第600章 安全设施及预埋管线
A142: 子目号 | B142: 子目名称 | D142: 单位 | E142: 数量 | G142: 单价 | H142: 合价
A143: 604 | B143: 道路交通标志 | H143: =IF(ROUND(E143*G143,2)=0," ",ROUND(E143*G143,2))
A144: 604-1 | B144: 路铭牌：长800mm*宽600mm，采用黑色大理石，含底座、制作安装、碑面刻字等一切相关费用 | D144: 个 | E144: 1 | G144: 0 | H144: =E144*G144 -> 0
A145: 604-2 | B145: 3m高单柱式警示标志（Q235钢管，热镀锌防腐，Φ114*3.5mm热镀锌钢管立柱，埋深700mm，地面外露2300m，面板边长80cm等边三角形铝合金标志牌），含钢筋砼基础具体做法及要求以甲方意见为准 | D145: 个 | E145: 3 | G145: 0 | H145: =E145*G145 -> 0
A146: 604-10 | B146: 警示柱，钢管警示桩，Q235钢管，热镀锌防腐，Φ114*3.5mm，高度1200mm（地面部分800mm，地下部分400mm），红白反光漆，贴反光膜，含相关基础等 | D146: 个 | E146: 8 | G146: 0 | H146: =E146*G146 -> 0
A182: ="第600章 合计 人民币（元）" -> 第600章 合计 人民币（元） | E182: =H144+H145+H146 -> 0
F183: 清单 第 4 页 共 4 页

Sheet 三杰村-湾东路
A1: 工程量清单表
A2: 合同段：三杰村-湾东路 | F2: 标表2
A3: 第100章 总则
A4: 子目号 | B4: 子目名称 | D4: 单位 | E4: 数量 | G4: 单价 | H4: 合价
A5: 101 | B5: 通则 | H5: =IF(ROUND(E5*G5,2)=0," ",ROUND(E5*G5,2))
A6: 101-1 | B6: 保险费 | H6: =IF(ROUND(E6*G6,2)=0," ",ROUND(E6*G6,2))
A7: -a | B7: 按合同条款规定，提供建筑工程一切险 | D7: 总额 | E7: 1 | G7: 0 | H7: =E7*G7 -> 0
A8: -b | B8: 按合同条款规定，提供第三者责任险 | D8: 总额 | E8: 1 | G8: 0 | H8: =E8*G8 -> 0
A9: 102 | B9: 工程管理 | H9: =IF(ROUND(E9*G9,2)=0," ",ROUND(E9*G9,2))
A10: 102-1 | B10: 竣工文件 | D10: 总额 | E10: 1 | G10: 0 | H10: =E10*G10 -> 0
A11: 102-2 | B11: 施工环保费 | D11: 总额 | E11: 1 | G11: 0 | H11: =IF(ROUND(E11*G11,2)=0," ",ROUND(E11*G11,2))
A12: 102-3 | B12: 安全生产费（不低于最高投标限价的1.5%） | D12: 总额 | E12: 1 | G12: 1407 | H12: =E12*G12 -> 1407
A13: 103 | B13: 临时工程与设施 | H13: =IF(ROUND(E13*G13,2)=0," ",ROUND(E13*G13,2))
A14: 103-2 | B14: 临时占地、临时供电、承包人驻地建设及施工驻地等 | D14: 总额 | E14: 1 | G14: 0 | H14: =E14*G14 -> 0
A48: ="第100章 合计 人民币（元）" -> 第100章 合计 人民币（元） | E48: =SUM(H7,H8,H10,H11,H12,H14) -> 1407
F49: 清单 第 1 页 共 4 页
A50: 工程量清单表
A51: 合同段：三杰村-湾东路 | F51: 标表2
A52: 第200章 路基
A53: 子目号 | B53: 子目名称 | D53: 单位 | E53: 数量 | G53: 单价 | H53: 合价
A54: 203 | B54: 挖方路基 | H54: =IF(ROUND(E54*G54,2)=0," ",ROUND(E54*G54,2))
A55: 203-1 | B55: 路基挖方 | H55: =IF(ROUND(E55*G55,2)=0," ",ROUND(E55*G55,2))
A56: -a | B56: 路基处理（清除表面杂土、杂物，现场土方开挖或回填至设计标高、多余土方需运离施工现场，土方来源自行考虑）、请各投标单位勘察现场后自行考虑、合理报价，投标人综合报价，结算不调整 | D56: m2 | E56: 980 | G56: 0 | H56: =E56*G56 -> 0
A96: ="第200章 合计 人民币（元）" -> 第200章 合计 人民币（元） | E96: =SUM((H56)) -> 0
F97: 清单 第 2 页 共 4 页
A98: 工程量清单表
A99: 合同段：三杰村-湾东路 | F99: 标表2
A100: 第300章 路面
A101: 子目号 | B101: 子目名称 | D101: 单位 | E101: 数量 | G101: 单价 | H101: 合价
A102: 303 | B102: 石灰稳定土底基层、基层 | H102: =IF(ROUND(E102*G102,2)=0," ",ROUND(E102*G102,2))
A103: 303-1 | B103: 石灰稳定土底基层 | H103: =IF(ROUND(E103*G103,2)=0," ",ROUND(E103*G103,2))
A104: -a | B104: 20cm厚12%石灰土原槽拌合压实，含石灰消解等，土方来源自行考虑，请各投标单位综合考虑、合理报价 | D104: m2 | E104: 833 | G104: 0 | H104: =E104*G104 -> 0
A105: 312 | B105: 水泥混凝土面板 | H105: =IF(ROUND(E105*G105,2)=0," ",ROUND(E105*G105,2))
A106: 312-1 | B106: 水泥混凝土面板 | H106: =IF(ROUND(E106*G106,2)=0," ",ROUND(E106*G106,2))
A107: -a | B107: 18cm厚C30商品砼路面（抗弯拉强度≥4.0Mpa），含切缝、接缝填缝、路面养生及模板等一切相关费用 | D107: m2 | E107: 735 | G107: 0 | H107: =E107*G107 -> 0
A108: 313 | B108: 路肩培土、中央分隔带回填土、土路肩加固及路缘石 | H108: =IF(ROUND(E108*G108,2)=0," ",ROUND(E108*G108,2))
A109: 313-1 | B109: 路肩培土，压实度满足相关文件要求，土源投标单位自行考虑，含在投标报价内，结算不调整 | D109: m2 | E109: 245 | G109: 0 | H109: =E109*G109 -> 0
A142: ="第300章 合计 人民币（元）" -> 第300章 合计 人民币（元） | E142: =H104+H107+H109 -> 0
F143: 清单 第 3 页 共 4 页
A144: 工程量清单表
A145: 合同段：三杰村-湾东路 | F145: 标表2
A146: 第600章 安全设施及预埋管线
A147: 子目号 | B147: 子目名称 | D147: 单位 | E147: 数量 | G147: 单价 | H147: 合价
A148: 604 | B148: 道路交通标志 | H148: =IF(ROUND(E148*G148,2)=0," ",ROUND(E148*G148,2))
A149: 604-1 | B149: 路铭牌：长800mm*宽600mm，采用黑色大理石，含底座、制作安装、碑面刻字等一切相关费用 | D149: 个 | E149: 1 | G149: 0 | H149: =E149*G149 -> 0
A150: 604-2 | B150: 3m高单柱式警示标志（Q235钢管，热镀锌防腐，Φ114*3.5mm热镀锌钢管立柱，埋深700mm，地面外露2300m，面板边长80cm等边三角形铝合金标志牌），含钢筋砼基础具体做法及要求以甲方意见为准 | D150: 个 | E150: 3 | G150: 0 | H150: =G150*E150 -> 0
A151: 604-10 | B151: 警示柱，钢管警示桩，Q235钢管，热镀锌防腐，Φ114*3.5mm，高度1200mm（地面部分800mm，地下部分400mm），红白反光漆，贴反光膜，含相关基础等 | D151: 个 | E151: 6 | G151: 0 | H151: =E151*G151 -> 0
A187: ="第600章 合计 人民币（元）" -> 第600章 合计 人民币（元） | E187: =H149+H150+H151 -> 0
F188: 清单 第 4 页 共 4 页
