Workbook

Sheet 清单封面
A2: 工程名称： | E2: 沭阳县颜集镇2026年度村级公益事业一事一议财政奖补项目
A3: 招标工程量清单
B4: 编 制 人 | C4: ： | F4: (造价专业人员签字及盖章)
B5: 审 核 人 | C5: ： | F5: (签字及盖章)
B6: 编 制 单 位 | C6: ： | F6: (盖章)
B7: 法定代表人 或其授权人 | C7: ： | F7: (签字或盖章)
B9: 招 标 人 | C9: ： | F9: (盖章)
B10: 法定代表人 或其授权人 | C10: ： | F10: (签字或盖章)
B11: 编 制 时 间 | C11: ：

Sheet 编制说明
A1: 编制说明
A2: 一、工程概况：
A3: 沭阳县颜集镇2026年度村级公益事业一事一议财政奖补项目，位于沭阳县颜集镇，共涉及15条路，做法为20cm厚12%石灰土+18cm厚C30砼路面等；其中花中路（920m）、周元东路(200m)、村北西中路(700m)、场林路(350m)、东圩路(230m)、官前西路(140m)及官庄中环路(630m)为3.5m宽道路；房圩街东路(540m)、石香炉路(460m)、老井路(320m)、胡庄路(505m)、许口树园路(300m)、方庄路(560m)、东司南北路(370m)、李西路(350m)为3m宽道路；并配套建设标识牌、道路铭牌、道口标注桩等内容，具体详见工程量清单。
A4: 二、编制依据：
A5: 1、招标文件、建设单位的相关计算口径要求。
A6: 2、（JTG 3830-2018）文件、苏交建[2019]22号文件、业主要求及现场踏勘情况。
A7: 3、2018公路定额及相关计价规范及其他相关造价文件。
A8: 4、2026年第8期《宿迁工程造价管理》信息价及市场价。
A9: 5、本工程常规的施工组织设计、与本工程有关的其他相关规定规范。
A10: 三、工程量清单说明：
A11: 1、本工程量清单是根据招标文件中包括的、工程量清单的国家标准、行业标准、合同条款中约定的工程量计算规则编制。约定计量规则中没有的子目，其工程量按照有合同约束力的图纸所标示尺寸的理论净量计算。计量采用中华人民共和国法定计量单位。
A12: 2、本工程量清单应与招标文件中的投标人须知、通用合同条款、专用合同条款、技术规范及图纸等一起阅读和理解。
... A27: 10、本招标控制价仅作参考，各投标单位须对其进行详细复核，并结合自身实际情况审慎报价。投标单位应对报价负责，不得以招标控制价是否合理为由，要求增加任何费用。

Sheet 道路汇总
A1: 沭阳县颜集镇2026年度村级公益事业一事一议财政奖补项目
A2: 序号 | B2: 道路名称 | C2: 第100章 总则 | D2: 第200章 路基 | E2: 第300章 路面 | F2: 第400章 桥梁、涵洞 | G2: 第600章 安全设施及预埋管线 | H2: 投标报价合计
A3: 1 | B3: 房圩街东路 | C3: =房圩街东路!H47 -> 3150 | D3: =房圩街东路!H93 -> 0 | E3: =房圩街东路!H136 -> 0 | G3: =房圩街东路!H175 -> 0 | H3: =SUM(C3:G3) -> 3150
A4: 2 | B4: 花中路 | C4: =花中路!H45 -> 6000 | D4: =花中路!H91 -> 0 | E4: =花中路!H134 -> 0 | G4: =花中路!H175 -> 0 | H4: =SUM(C4:G4) -> 6000
A5: 3 | B5: 周元东路 | C5: =周元东路!H47 -> 1350 | D5: =周元东路!H95 -> 0 | E5: =周元东路!H141 -> 0 | G5: =周元东路!H183 -> 0 | H5: =SUM(C5:G5) -> 1350
A6: 4 | B6: 石香炉路 | C6: =石香炉路!H47 -> 2625 | D6: =石香炉路!H95 -> 0 | E6: =石香炉路!H141 -> 0 | G6: =石香炉路!H183 -> 0 | H6: =SUM(C6:G6) -> 2625
A7: 5 | B7: 老井路 | C7: =老井路!H46 -> 1845 | D7: =老井路!H92 -> 0 | E7: =老井路!H138 -> 0 | G7: =老井路!H178 -> 0 | H7: =SUM(C7:G7) -> 1845
A8: 6 | B8: 胡庄路 | C8: =胡庄路!H46 -> 2970 | D8: =胡庄路!H91 -> 0 | E8: =胡庄路!H135 -> 0 | F8: =胡庄路!H178 -> 0 | G8: =胡庄路!H219 -> 0 | H8: =SUM(C8:G8) -> 2970
A9: 7 | B9: 许口树园路 | C9: =许口树园路!H47 -> 1740 | D9: =许口树园路!H94 -> 0 | E9: =许口树园路!H138 -> 0 | G9: =许口树园路!H182 -> 0 | H9: =SUM(C9:G9) -> 1740
A10: 8 | B10: 方庄路 | C10: =方庄路!H46 -> 3480 | D10: =方庄路!H91 -> 0 | E10: =方庄路!H135 -> 0 | F10: =方庄路!H179 -> 0 | G10: =方庄路!H220 -> 0 | H10: =SUM(C10:G10) -> 3480
A11: 9 | B11: 东司南北路 | C11: =东司南北路!H48 -> 2145 | D11: =东司南北路!H95 -> 0 | E11: =东司南北路!H139 -> 0 | G11: =东司南北路!H181 -> 0 | H11: =SUM(C11:G11) -> 2145
A12: 10 | B12: 村北西中路 | C12: =村北西中路!H48 -> 4575 | D12: =村北西中路!H95 -> 0 | E12: =村北西中路!H141 -> 0 | F12: =村北西中路!H188 -> 0 | G12: =村北西中路!H230 -> 0 | H12: =SUM(C12:G12) -> 4575
A13: 11 | B13: 场林路 | C13: =场林路!H48 -> 2347.5 | D13: =场林路!H94 -> 0 | E13: =场林路!H140 -> 0 | G13: =场林路!H181 -> 0 | H13: =SUM(C13:G13) -> 2347.5
A14: 12 | B14: 东圩路 | C14: =东圩路!H48 -> 1545 | D14: =东圩路!H94 -> 0 | E14: =东圩路!H138 -> 0 | G14: =东圩路!H180 -> 0 | H14: =SUM(C14:G14) -> 1545
A15: 13 | B15: 官前西路 | C15: =官前西路!H45 -> 952.5 | D15: =官前西路!H92 -> 0 | E15: =官前西路!H138 -> 0 | G15: =官前西路!H177 -> 0 | H15: =SUM(C15:G15) -> 952.5
A16: 14 | B16: 官庄中环路 | C16: =官庄中环路!H48 -> 4125 | D16: =官庄中环路!H94 -> 0 | E16: =官庄中环路!H140 -> 0 | G16: =官庄中环路!H185 -> 0 | H16: =SUM(C16:G16) -> 4125
A17: 15 | B17: 李西路 | C17: =李西路!H48 -> 2025 | D17: =李西路!H96 -> 0 | E17: =李西路!H139 -> 0 | G17: =李西路!H180 -> 0 | H17: =SUM(C17:G17) -> 2025
A18: 合计 | C18: =SUM(C3:C17) -> 40875 | D18: =SUM(D3:D17) -> 0 | E18: =SUM(E3:E17) -> 0 | F18: =SUM(F3:F17) -> 0 | G18: =SUM(G3:G17) -> 0 | H18: =SUM(H3:H17) -> 40875

Sheet 房圩街东路
A1: 工程量清单表
A2: 合同段：房圩街东路 | F2: 标表2
A3: 第100章 总则
A4: 子目号 | B4: 子目名称 | D4: 单位 | E4: 数量 | G4: 单价 | H4: 合价
A5: 101 | B5: 通则 | H5: =IF(ROUND(E5*G5,2)=0, " ", ROUND(E5*G5,2))
A6: 101-1 | B6: 保险费 | H6: =IF(ROUND(E6*G6,2)=0, " ", ROUND(E6*G6,2))
A7: -a | B7: 按合同条款规定，提供建筑工程一切险 | D7: 总额 | E7: 1 | H7: =IF(ROUND(E7*G7,2)=0, " ", ROUND(E7*G7,2))
A8: -b | B8: 按合同条款规定，提供第三者责任险 | D8: 总额 | E8: 1 | H8: =IF(ROUND(E8*G8,2)=0, " ", ROUND(E8*G8,2))
A9: 102 | B9: 工程管理 | H9: =IF(ROUND(E9*G9,2)=0, " ", ROUND(E9*G9,2))
A10: 102-1 | B10: 竣工文件 | D10: 总额 | E10: 1 | H10: =IF(ROUND(E10*G10,2)=0, " ", ROUND(E10*G10,2))
A11: 102-2 | B11: 施工环保费 | D11: 总额 | E11: 1 | H11: =IF(ROUND(E11*G11,2)=0, " ", ROUND(E11*G11,2))
A12: 102-3 | B12: 安全生产费（不低于最高投标限价的1.5%） | D12: 总额 | E12: 1 | G12: 3150 | H12: =IF(ROUND(E12*G12,2)=0, " ", ROUND(E12*G12,2)) -> 3150
A13: 103 | B13: 临时工程与设施 | H13: =IF(ROUND(E13*G13,2)=0, " ", ROUND(E13*G13,2))
A14: 103-2 | B14: 临时占地、临时供电、承包人驻地建设及施工驻地等 | D14: 总额 | E14: 1 | H14: =IF(ROUND(E14*G14,2)=0, " ", ROUND(E14*G14,2))
A47: 第100章 合计 | H47: =SUM(H7:H46) -> 3150
F48: 清单 第 1 页 共 4 页
A49: 工程量清单表
A50: 合同段：房圩街东路 | F50: 标表2
A51: 第200章 路基
A52: 子目号 | B52: 子目名称 | D52: 单位 | E52: 数量 | G52: 单价 | H52: 合价
A53: 203 | B53: 挖方路基 | H53: =IF(ROUND(E53*G53,2)=0, " ", ROUND(E53*G53,2))
A54: 203-1 | B54: 路基挖方 | H54: =IF(ROUND(E54*G54,2)=0, " ", ROUND(E54*G54,2))
A55: -a | B55: 路基处理（清除表面杂土、杂物，现场土方开挖或回填至设计标高、多余土方需运离施工现场，土方来源自行考虑）、请各投标单位勘察现场后自行考虑、合理报价，投标人综合报价，结算不调整 | D55: m2 | E55: 2160 | H55: =IF(ROUND(E55*G55,2)=0, " ", ROUND(E55*G55,2))
A93: 第200章 合计 | H93: =SUM(H55:H92) -> 0
F94: 清单 第 2 页 共 4 页
A95: 工程量清单表
A96: 合同段：房圩街东路 | F96: 标表2
A97: 第300章 路面
A98: 子目号 | B98: 子目名称 | D98: 单位 | E98: 数量 | G98: 单价 | H98: 合价
A99: 303 | B99: 石灰稳定土底基层、基层 | H99: =IF(ROUND(E99*G99,2)=0, " ", ROUND(E99*G99,2))
A100: 303-1 | B100: 石灰稳定土底基层 | H100: =IF(ROUND(E100*G100,2)=0, " ", ROUND(E100*G100,2))
A101: -a | B101: 20cm厚12%石灰土原槽拌合压实，含石灰消解等，土方来源自行考虑，请各投标单位综合考虑、合理报价 | D101: m2 | E101: 1836 | H101: =IF(ROUND(E101*G101,2)=0, " ", ROUND(E101*G101,2))
A102: 312 | B102: 水泥混凝土面板 | H102: =IF(ROUND(E102*G102,2)=0, " ", ROUND(E102*G102,2))
A103: 312-1 | B103: 水泥混凝土面板 | H103: =IF(ROUND(E103*G103,2)=0, " ", ROUND(E103*G103,2))
A104: -a | B104: 18cm厚C30商品砼路面（抗弯拉强度≥4.0Mpa），含切缝、接缝填缝、路面养生、模板及路口搭接等一切相关费用 | D104: m2 | E104: 1620 | H104: =IF(ROUND(E104*G104,2)=0, " ", ROUND(E104*G104,2))
A105: 313 | B105: 路肩培土、中央分隔带回填土、土路肩加固及路缘石 | H105: =IF(ROUND(E105*G105,2)=0, " ", ROUND(E105*G105,2))
A106: 313-1 | B106: 路肩培土，压实度满足相关文件要求，土源投标单位自行考虑，含在投标报价内，结算不调整 | D106: m2 | E106: 540 | H106: =IF(ROUND(E106*G106,2)=0, " ", ROUND(E106*G106,2))
A136: 第300章 合计 | H136: =SUM(H101:H135) -> 0
F137: 清单 第 3 页 共 4 页
A138: 工程量清单表
...

Sheet 花中路
A1: 工程量清单表
A2: 合同段：花中路 | F2: 标表2
A3: 第100章 总则
A4: 子目号 | B4: 子目名称 | D4: 单位 | E4: 数量 | G4: 单价 | H4: 合价
A5: 101 | B5: 通则 | H5: =IF(ROUND(E5*G5,2)=0, " ", ROUND(E5*G5,2))
A6: 101-1 | B6: 保险费 | H6: =IF(ROUND(E6*G6,2)=0, " ", ROUND(E6*G6,2))
A7: -a | B7: 按合同条款规定，提供建筑工程一切险 | D7: 总额 | E7: 1 | H7: =IF(ROUND(E7*G7,2)=0, " ", ROUND(E7*G7,2))
A8: -b | B8: 按合同条款规定，提供第三者责任险 | D8: 总额 | E8: 1 | H8: =IF(ROUND(E8*G8,2)=0, " ", ROUND(E8*G8,2))
A9: 102 | B9: 工程管理 | H9: =IF(ROUND(E9*G9,2)=0, " ", ROUND(E9*G9,2))
A10: 102-1 | B10: 竣工文件 | D10: 总额 | E10: 1 | H10: =IF(ROUND(E10*G10,2)=0, " ", ROUND(E10*G10,2))
A11: 102-2 | B11: 施工环保费 | D11: 总额 | E11: 1 | H11: =IF(ROUND(E11*G11,2)=0, " ", ROUND(E11*G11,2))
A12: 102-3 | B12: 安全生产费（不低于最高投标限价的1.5%） | D12: 总额 | E12: 1 | G12: 6000 | H12: =IF(ROUND(E12*G12,2)=0, " ", ROUND(E12*G12,2)) -> 6000
A13: 103 | B13: 临时工程与设施 | H13: =IF(ROUND(E13*G13,2)=0, " ", ROUND(E13*G13,2))
A14: 103-2 | B14: 临时占地、临时供电、承包人驻地建设及施工驻地等 | D14: 总额 | E14: 1 | H14: =IF(ROUND(E14*G14,2)=0, " ", ROUND(E14*G14,2))
A45: 第100章 合计 | H45: =SUM(H7:H44) -> 6000
F46: 清单 第 1 页 共 4 页
A47: 工程量清单表
A48: 合同段：花中路 | F48: 标表2
A49: 第200章 路基
A50: 子目号 | B50: 子目名称 | D50: 单位 | E50: 数量 | G50: 单价 | H50: 合价
A51: 203 | B51: 挖方路基 | H51: =IF(ROUND(E51*G51,2)=0, " ", ROUND(E51*G51,2))
A52: 203-1 | B52: 路基挖方 | H52: =IF(ROUND(E52*G52,2)=0, " ", ROUND(E52*G52,2))
A53: -a | B53: 路基处理（清除表面杂土、杂物，现场土方开挖或回填至设计标高、多余土方需运离施工现场，土方来源自行考虑）、请各投标单位勘察现场后自行考虑、合理报价，投标人综合报价，结算不调整 | D53: m2 | E53: 4140 | H53: =IF(ROUND(E53*G53,2)=0, " ", ROUND(E53*G53,2))
A91: 第200章 合计 | H91: =SUM(H53:H90) -> 0
F92: 清单 第 2 页 共 4 页
A93: 工程量清单表
A94: 合同段：花中路 | F94: 标表2
A95: 第300章 路面
A96: 子目号 | B96: 子目名称 | D96: 单位 | E96: 数量 | G96: 单价 | H96: 合价
A97: 303 | B97: 石灰稳定土底基层、基层 | H97: =IF(ROUND(E97*G97,2)=0, " ", ROUND(E97*G97,2))
A98: 303-1 | B98: 石灰稳定土底基层 | H98: =IF(ROUND(E98*G98,2)=0, " ", ROUND(E98*G98,2))
A99: -a | B99: 20cm厚12%石灰土原槽拌合压实，含石灰消解等，土方来源自行考虑，请各投标单位综合考虑、合理报价 | D99: m2 | E99: 3588 | H99: =IF(ROUND(E99*G99,2)=0, " ", ROUND(E99*G99,2))
A100: 312 | B100: 水泥混凝土面板 | H100: =IF(ROUND(E100*G100,2)=0, " ", ROUND(E100*G100,2))
A101: 312-1 | B101: 水泥混凝土面板 | H101: =IF(ROUND(E101*G101,2)=0, " ", ROUND(E101*G101,2))
A102: -a | B102: 18cm厚C30商品砼路面（抗弯拉强度≥4.0Mpa），含切缝、接缝填缝、路面养生及模板等一切相关费用 | D102: m2 | E102: 3220 | H102: =IF(ROUND(E102*G102,2)=0, " ", ROUND(E102*G102,2))
A103: 313 | B103: 路肩培土、中央分隔带回填土、土路肩加固及路缘石 | H103: =IF(ROUND(E103*G103,2)=0, " ", ROUND(E103*G103,2))
A104: 313-1 | B104: 路肩培土，压实度满足相关文件要求，土源投标单位自行考虑，含在投标报价内，结算不调整 | D104: m2 | E104: 920 | H104: =IF(ROUND(E104*G104,2)=0, " ", ROUND(E104*G104,2))
A134: 第300章 合计 | H134: =SUM(H99:H133) -> 0
F135: 清单 第 3 页 共 4 页
A136: 工程量清单表
...

Sheet 周元东路
A1: 工程量清单表
A2: 合同段：周元东路 | F2: 标表2
A3: 第100章 总则
A4: 子目号 | B4: 子目名称 | D4: 单位 | E4: 数量 | G4: 单价 | H4: 合价
A5: 101 | B5: 通则 | H5: =IF(ROUND(E5*G5,2)=0, " ", ROUND(E5*G5,2))
A6: 101-1 | B6: 保险费 | H6: =IF(ROUND(E6*G6,2)=0, " ", ROUND(E6*G6,2))
A7: -a | B7: 按合同条款规定，提供建筑工程一切险 | D7: 总额 | E7: 1 | H7: =IF(ROUND(E7*G7,2)=0, " ", ROUND(E7*G7,2))
A8: -b | B8: 按合同条款规定，提供第三者责任险 | D8: 总额 | E8: 1 | H8: =IF(ROUND(E8*G8,2)=0, " ", ROUND(E8*G8,2))
A9: 102 | B9: 工程管理 | H9: =IF(ROUND(E9*G9,2)=0, " ", ROUND(E9*G9,2))
A10: 102-1 | B10: 竣工文件 | D10: 总额 | E10: 1 | H10: =IF(ROUND(E10*G10,2)=0, " ", ROUND(E10*G10,2))
A11: 102-2 | B11: 施工环保费 | D11: 总额 | E11: 1 | H11: =IF(ROUND(E11*G11,2)=0, " ", ROUND(E11*G11,2))
A12: 102-3 | B12: 安全生产费（不低于最高投标限价的1.5%） | D12: 总额 | E12: 1 | G12: 1350 | H12: =IF(ROUND(E12*G12,2)=0, " ", ROUND(E12*G12,2)) -> 1350
A13: 103 | B13: 临时工程与设施 | H13: =IF(ROUND(E13*G13,2)=0, " ", ROUND(E13*G13,2))
A14: 103-2 | B14: 临时占地、临时供电、承包人驻地建设及施工驻地等 | D14: 总额 | E14: 1 | H14: =IF(ROUND(E14*G14,2)=0, " ", ROUND(E14*G14,2))
A47: 第100章 合计 | H47: =SUM(H7:H46) -> 1350
F48: 清单 第 1 页 共 4 页
A49: 工程量清单表
A50: 合同段：周元东路 | F50: 标表2
A51: 第200章 路基
A52: 子目号 | B52: 子目名称 | D52: 单位 | E52: 数量 | G52: 单价 | H52: 合价
A53: 203 | B53: 挖方路基 | H53: =IF(ROUND(E53*G53,2)=0, " ", ROUND(E53*G53,2))
A54: 203-1 | B54: 路基挖方 | H54: =IF(ROUND(E54*G54,2)=0, " ", ROUND(E54*G54,2))
A55: -a | B55: 路基处理（清除表面杂土、杂物，现场土方开挖或回填至设计标高、多余土方需运离施工现场，土方来源自行考虑）、请各投标单位勘察现场后自行考虑、合理报价，投标人综合报价，结算不调整 | D55: m2 | E55: 900 | H55: =IF(ROUND(E55*G55,2)=0, " ", ROUND(E55*G55,2))
A95: 第200章 合计 | H95: =SUM(H55:H94) -> 0
F96: 清单 第 2 页 共 4 页
A97: 工程量清单表
A98: 合同段：周元东路 | F98: 标表2
A99: 第300章 路面
A100: 子目号 | B100: 子目名称 | D100: 单位 | E100: 数量 | G100: 单价 | H100: 合价
A101: 303 | B101: 石灰稳定土底基层、基层 | H101: =IF(ROUND(E101*G101,2)=0, " ", ROUND(E101*G101,2))
A102: 303-1 | B102: 石灰稳定土底基层 | H102: =IF(ROUND(E102*G102,2)=0, " ", ROUND(E102*G102,2))
A103: -a | B103: 20cm厚12%石灰土原槽拌合压实，含石灰消解等，土方来源自行考虑，请各投标单位综合考虑、合理报价 | D103: m2 | E103: 780 | H103: =IF(ROUND(E103*G103,2)=0, " ", ROUND(E103*G103,2))
A104: 312 | B104: 水泥混凝土面板 | H104: =IF(ROUND(E104*G104,2)=0, " ", ROUND(E104*G104,2))
A105: 312-1 | B105: 水泥混凝土面板 | H105: =IF(ROUND(E105*G105,2)=0, " ", ROUND(E105*G105,2))
A106: -a | B106: 18cm厚C30商品砼路面（抗弯拉强度≥4.0Mpa），含切缝、接缝填缝、路面养生及模板等一切相关费用 | D106: m2 | E106: 700 | H106: =IF(ROUND(E106*G106,2)=0, " ", ROUND(E106*G106,2))
A107: 313 | B107: 路肩培土、中央分隔带回填土、土路肩加固及路缘石 | H107: =IF(ROUND(E107*G107,2)=0, " ", ROUND(E107*G107,2))
A108: 313-1 | B108: 路肩培土，压实度满足相关文件要求，土源投标单位自行考虑，含在投标报价内，结算不调整 | D108: m2 | E108: 200 | H108: =IF(ROUND(E108*G108,2)=0, " ", ROUND(E108*G108,2))
A141: 第300章 合计 | H141: =SUM(H103:H140) -> 0
F142: 清单 第 3 页 共 4 页
A143: 工程量清单表
...

Sheet 石香炉路
A1: 工程量清单表
A2: 合同段：石香炉路 | F2: 标表2
A3: 第100章 总则
A4: 子目号 | B4: 子目名称 | D4: 单位 | E4: 数量 | G4: 单价 | H4: 合价
A5: 101 | B5: 通则 | H5: =IF(ROUND(E5*G5,2)=0, " ", ROUND(E5*G5,2))
A6: 101-1 | B6: 保险费 | H6: =IF(ROUND(E6*G6,2)=0, " ", ROUND(E6*G6,2))
A7: -a | B7: 按合同条款规定，提供建筑工程一切险 | D7: 总额 | E7: 1 | H7: =IF(ROUND(E7*G7,2)=0, " ", ROUND(E7*G7,2))
A8: -b | B8: 按合同条款规定，提供第三者责任险 | D8: 总额 | E8: 1 | H8: =IF(ROUND(E8*G8,2)=0, " ", ROUND(E8*G8,2))
A9: 102 | B9: 工程管理 | H9: =IF(ROUND(E9*G9,2)=0, " ", ROUND(E9*G9,2))
A10: 102-1 | B10: 竣工文件 | D10: 总额 | E10: 1 | H10: =IF(ROUND(E10*G10,2)=0, " ", ROUND(E10*G10,2))
A11: 102-2 | B11: 施工环保费 | D11: 总额 | E11: 1 | H11: =IF(ROUND(E11*G11,2)=0, " ", ROUND(E11*G11,2))
A12: 102-3 | B12: 安全生产费（不低于最高投标限价的1.5%） | D12: 总额 | E12: 1 | G12: 2625 | H12: =IF(ROUND(E12*G12,2)=0, " ", ROUND(E12*G12,2)) -> 2625
A13: 103 | B13: 临时工程与设施 | H13: =IF(ROUND(E13*G13,2)=0, " ", ROUND(E13*G13,2))
A14: 103-2 | B14: 临时占地、临时供电、承包人驻地建设及施工驻地等 | D14: 总额 | E14: 1 | H14: =IF(ROUND(E14*G14,2)=0, " ", ROUND(E14*G14,2))
A47: ="第100章 合计" -> 第100章 合计 | H47: =SUM(H7:H46) -> 2625
F48: 清单 第 1 页 共 4 页
A49: 工程量清单表
A50: 合同段：石香炉路 | F50: 标表2
A51: 第200章 路基
A52: 子目号 | B52: 子目名称 | D52: 单位 | E52: 数量 | G52: 单价 | H52: 合价
A53: 203 | B53: 挖方路基 | H53: =IF(ROUND(E53*G53,2)=0, " ", ROUND(E53*G53,2))
A54: 203-1 | B54: 路基挖方 | H54: =IF(ROUND(E54*G54,2)=0, " ", ROUND(E54*G54,2))
A55: -a | B55: 路基处理（清除表面杂土、杂物，现场土方开挖或回填至设计标高、多余土方需运离施工现场，土方来源自行考虑）、请各投标单位勘察现场后自行考虑、合理报价，投标人综合报价，结算不调整 | D55: m2 | E55: 1840 | H55: =IF(ROUND(E55*G55,2)=0, " ", ROUND(E55*G55,2))
A95: 第200章 合计 | H95: =SUM(H55:H94) -> 0
F96: 清单 第 2 页 共 4 页
A97: 工程量清单表
A98: 合同段：石香炉路 | F98: 标表2
A99: 第300章 路面
A100: 子目号 | B100: 子目名称 | D100: 单位 | E100: 数量 | G100: 单价 | H100: 合价
A101: 303 | B101: 石灰稳定土底基层、基层 | H101: =IF(ROUND(E101*G101,2)=0, " ", ROUND(E101*G101,2))
A102: 303-1 | B102: 石灰稳定土底基层 | H102: =IF(ROUND(E102*G102,2)=0, " ", ROUND(E102*G102,2))
A103: -a | B103: 20cm厚12%石灰土原槽拌合压实，含石灰消解等，土方来源自行考虑，请各投标单位综合考虑、合理报价 | D103: m2 | E103: 1564 | H103: =IF(ROUND(E103*G103,2)=0, " ", ROUND(E103*G103,2))
A104: 312 | B104: 水泥混凝土面板 | H104: =IF(ROUND(E104*G104,2)=0, " ", ROUND(E104*G104,2))
A105: 312-1 | B105: 水泥混凝土面板 | H105: =IF(ROUND(E105*G105,2)=0, " ", ROUND(E105*G105,2))
A106: -a | B106: 18cm厚C30商品砼路面（抗弯拉强度≥4.0Mpa），含切缝、接缝填缝、路面养生及模板等一切相关费用 | D106: m2 | E106: 1380 | H106: =IF(ROUND(E106*G106,2)=0, " ", ROUND(E106*G106,2))
A107: 313 | B107: 路肩培土、中央分隔带回填土、土路肩加固及路缘石 | H107: =IF(ROUND(E107*G107,2)=0, " ", ROUND(E107*G107,2))
A108: 313-1 | B108: 路肩培土，压实度满足相关文件要求，土源投标单位自行考虑，含在投标报价内，结算不调整 | D108: m2 | E108: 460 | H108: =IF(ROUND(E108*G108,2)=0, " ", ROUND(E108*G108,2))
A141: 第300章 合计 | H141: =SUM(H103:H140) -> 0
F142: 清单 第 3 页 共 4 页
A143: 工程量清单表
...

Sheet 老井路
A1: 工程量清单表
A2: 合同段：老井路 | F2: 标表2
A3: 第100章 总则
A4: 子目号 | B4: 子目名称 | D4: 单位 | E4: 数量 | G4: 单价 | H4: 合价
A5: 101 | B5: 通则 | H5: =IF(ROUND(E5*G5,2)=0, " ", ROUND(E5*G5,2))
A6: 101-1 | B6: 保险费 | H6: =IF(ROUND(E6*G6,2)=0, " ", ROUND(E6*G6,2))
A7: -a | B7: 按合同条款规定，提供建筑工程一切险 | D7: 总额 | E7: 1 | H7: =IF(ROUND(E7*G7,2)=0, " ", ROUND(E7*G7,2))
A8: -b | B8: 按合同条款规定，提供第三者责任险 | D8: 总额 | E8: 1 | H8: =IF(ROUND(E8*G8,2)=0, " ", ROUND(E8*G8,2))
A9: 102 | B9: 工程管理 | H9: =IF(ROUND(E9*G9,2)=0, " ", ROUND(E9*G9,2))
A10: 102-1 | B10: 竣工文件 | D10: 总额 | E10: 1 | H10: =IF(ROUND(E10*G10,2)=0, " ", ROUND(E10*G10,2))
A11: 102-2 | B11: 施工环保费 | D11: 总额 | E11: 1 | H11: =IF(ROUND(E11*G11,2)=0, " ", ROUND(E11*G11,2))
A12: 102-3 | B12: 安全生产费（不低于最高投标限价的1.5%） | D12: 总额 | E12: 1 | G12: 1845 | H12: =IF(ROUND(E12*G12,2)=0, " ", ROUND(E12*G12,2)) -> 1845
A13: 103 | B13: 临时工程与设施 | H13: =IF(ROUND(E13*G13,2)=0, " ", ROUND(E13*G13,2))
A14: 103-2 | B14: 临时占地、临时供电、承包人驻地建设及施工驻地等 | D14: 总额 | E14: 1 | H14: =IF(ROUND(E14*G14,2)=0, " ", ROUND(E14*G14,2))
A46: 第100章 合计 | H46: =SUM(H7:H45) -> 1845
F47: 清单 第 1 页 共 4 页
A48: 工程量清单表
A49: 合同段：老井路 | F49: 标表2
A50: 第200章 路基
A51: 子目号 | B51: 子目名称 | D51: 单位 | E51: 数量 | G51: 单价 | H51: 合价
A52: 203 | B52: 挖方路基 | H52: =IF(ROUND(E52*G52,2)=0, " ", ROUND(E52*G52,2))
A53: 203-1 | B53: 路基挖方 | H53: =IF(ROUND(E53*G53,2)=0, " ", ROUND(E53*G53,2))
A54: -a | B54: 路基处理（清除表面杂土、杂物，现场土方开挖或回填至设计标高、多余土方需运离施工现场，土方来源自行考虑）、请各投标单位勘察现场后自行考虑、合理报价，投标人综合报价，结算不调整 | D54: m2 | E54: 1280 | H54: =IF(ROUND(E54*G54,2)=0, " ", ROUND(E54*G54,2))
A92: 第200章 合计 | H92: =SUM(H54:H91) -> 0
F93: 清单 第 2 页 共 4 页
A94: 工程量清单表
A95: 合同段：老井路 | F95: 标表2
A96: 第300章 路面
A97: 子目号 | B97: 子目名称 | D97: 单位 | E97: 数量 | G97: 单价 | H97: 合价
A98: 303 | B98: 石灰稳定土底基层、基层 | H98: =IF(ROUND(E98*G98,2)=0, " ", ROUND(E98*G98,2))
A99: 303-1 | B99: 石灰稳定土底基层 | H99: =IF(ROUND(E99*G99,2)=0, " ", ROUND(E99*G99,2))
A100: -a | B100: 20cm厚12%石灰土原槽拌合压实，含石灰消解等，土方来源自行考虑，请各投标单位综合考虑、合理报价 | D100: m2 | E100: 1088 | H100: =IF(ROUND(E100*G100,2)=0, " ", ROUND(E100*G100,2))
A101: 312 | B101: 水泥混凝土面板 | H101: =IF(ROUND(E101*G101,2)=0, " ", ROUND(E101*G101,2))
A102: 312-1 | B102: 水泥混凝土面板 | H102: =IF(ROUND(E102*G102,2)=0, " ", ROUND(E102*G102,2))
A103: -a | B103: 18cm厚C30商品砼路面（抗弯拉强度≥4.0Mpa），含切缝、接缝填缝、路面养生及模板等一切相关费用 | D103: m2 | E103: 960 | H103: =IF(ROUND(E103*G103,2)=0, " ", ROUND(E103*G103,2))
A104: 313 | B104: 路肩培土、中央分隔带回填土、土路肩加固及路缘石 | H104: =IF(ROUND(E104*G104,2)=0, " ", ROUND(E104*G104,2))
A105: 313-1 | B105: 路肩培土，压实度满足相关文件要求，土源投标单位自行考虑，含在投标报价内，结算不调整 | D105: m2 | E105: 320 | H105: =IF(ROUND(E105*G105,2)=0, " ", ROUND(E105*G105,2))
A138: 第300章 合计 | H138: =SUM(H100:H137) -> 0
F139: 清单 第 3 页 共 4 页
A140: 工程量清单表
...

Sheet 胡庄路
A1: 工程量清单表
A2: 合同段：胡庄路 | F2: 标表2
A3: 第100章 总则
A4: 子目号 | B4: 子目名称 | D4: 单位 | E4: 数量 | G4: 单价 | H4: 合价
A5: 101 | B5: 通则 | H5: =IF(ROUND(E5*G5,2)=0, " ", ROUND(E5*G5,2))
A6: 101-1 | B6: 保险费 | H6: =IF(ROUND(E6*G6,2)=0, " ", ROUND(E6*G6,2))
A7: -a | B7: 按合同条款规定，提供建筑工程一切险 | D7: 总额 | E7: 1 | H7: =IF(ROUND(E7*G7,2)=0, " ", ROUND(E7*G7,2))
A8: -b | B8: 按合同条款规定，提供第三者责任险 | D8: 总额 | E8: 1 | H8: =IF(ROUND(E8*G8,2)=0, " ", ROUND(E8*G8,2))
A9: 102 | B9: 工程管理 | H9: =IF(ROUND(E9*G9,2)=0, " ", ROUND(E9*G9,2))
A10: 102-1 | B10: 竣工文件 | D10: 总额 | E10: 1 | H10: =IF(ROUND(E10*G10,2)=0, " ", ROUND(E10*G10,2))
A11: 102-2 | B11: 施工环保费 | D11: 总额 | E11: 1 | H11: =IF(ROUND(E11*G11,2)=0, " ", ROUND(E11*G11,2))
A12: 102-3 | B12: 安全生产费（不低于最高投标限价的1.5%） | D12: 总额 | E12: 1 | G12: 2970 | H12: =IF(ROUND(E12*G12,2)=0, " ", ROUND(E12*G12,2)) -> 2970
A13: 103 | B13: 临时工程与设施 | H13: =IF(ROUND(E13*G13,2)=0, " ", ROUND(E13*G13,2))
A14: 103-2 | B14: 临时占地、临时供电、承包人驻地建设及施工驻地等 | D14: 总额 | E14: 1 | H14: =IF(ROUND(E14*G14,2)=0, " ", ROUND(E14*G14,2))
A46: 第100章 合计 | H46: =SUM(H7:H45) -> 2970
F47: 清单 第 1 页 共 5 页
A48: 工程量清单表
A49: 合同段：胡庄路 | F49: 标表2
A50: 第200章 路基
A51: 子目号 | B51: 子目名称 | D51: 单位 | E51: 数量 | G51: 单价 | H51: 合价
A52: 203 | B52: 挖方路基 | H52: =IF(ROUND(E52*G52,2)=0, " ", ROUND(E52*G52,2))
A53: 203-1 | B53: 路基挖方 | H53: =IF(ROUND(E53*G53,2)=0, " ", ROUND(E53*G53,2))
A54: -a | B54: 路基处理（清除表面杂土、杂物，现场土方开挖或回填至设计标高、多余土方需运离施工现场，土方来源自行考虑）、请各投标单位勘察现场后自行考虑、合理报价，投标人综合报价，结算不调整 | D54: m2 | E54: 2020 | H54: =IF(ROUND(E54*G54,2)=0, " ", ROUND(E54*G54,2))
A91: 第200章 合计 | H91: =SUM(H54:H90) -> 0
F92: 清单 第 2 页 共 5 页
A93: 工程量清单表
A94: 合同段：胡庄路 | F94: 标表2
A95: 第300章 路面
A96: 子目号 | B96: 子目名称 | D96: 单位 | E96: 数量 | G96: 单价 | H96: 合价
A97: 303 | B97: 石灰稳定土底基层、基层 | H97: =IF(ROUND(E97*G97,2)=0, " ", ROUND(E97*G97,2))
A98: 303-1 | B98: 石灰稳定土底基层 | H98: =IF(ROUND(E98*G98,2)=0, " ", ROUND(E98*G98,2))
A99: -a | B99: 20cm厚12%石灰土原槽拌合压实，含石灰消解等，土方来源自行考虑，请各投标单位综合考虑、合理报价 | D99: m2 | E99: 1717 | H99: =IF(ROUND(E99*G99,2)=0, " ", ROUND(E99*G99,2))
A100: 312 | B100: 水泥混凝土面板 | H100: =IF(ROUND(E100*G100,2)=0, " ", ROUND(E100*G100,2))
A101: 312-1 | B101: 水泥混凝土面板 | H101: =IF(ROUND(E101*G101,2)=0, " ", ROUND(E101*G101,2))
A102: -a | B102: 18cm厚C30商品砼路面（抗弯拉强度≥4.0Mpa），含切缝、接缝填缝、路面养生及模板等一切相关费用 | D102: m2 | E102: 1515 | H102: =IF(ROUND(E102*G102,2)=0, " ", ROUND(E102*G102,2))
A103: 313 | B103: 路肩培土、中央分隔带回填土、土路肩加固及路缘石 | H103: =IF(ROUND(E103*G103,2)=0, " ", ROUND(E103*G103,2))
A104: 313-1 | B104: 路肩培土，压实度满足相关文件要求，土源投标单位自行考虑，含在投标报价内，结算不调整 | D104: m2 | E104: 505 | H104: =IF(ROUND(E104*G104,2)=0, " ", ROUND(E104*G104,2))
A135: 第300章 合计 | H135: =SUM(H99:H134) -> 0
F136: 清单 第 3 页 共 5 页
A137: 工程量清单表
...

Sheet 许口树园路
A1: 工程量清单表
A2: 合同段：许口树园路 | F2: 标表2
A3: 第100章 总则
A4: 子目号 | B4: 子目名称 | D4: 单位 | E4: 数量 | G4: 单价 | H4: 合价
A5: 101 | B5: 通则 | H5: =IF(ROUND(E5*G5,2)=0, " ", ROUND(E5*G5,2))
A6: 101-1 | B6: 保险费 | H6: =IF(ROUND(E6*G6,2)=0, " ", ROUND(E6*G6,2))
A7: -a | B7: 按合同条款规定，提供建筑工程一切险 | D7: 总额 | E7: 1 | H7: =IF(ROUND(E7*G7,2)=0, " ", ROUND(E7*G7,2))
A8: -b | B8: 按合同条款规定，提供第三者责任险 | D8: 总额 | E8: 1 | H8: =IF(ROUND(E8*G8,2)=0, " ", ROUND(E8*G8,2))
A9: 102 | B9: 工程管理 | H9: =IF(ROUND(E9*G9,2)=0, " ", ROUND(E9*G9,2))
A10: 102-1 | B10: 竣工文件 | D10: 总额 | E10: 1 | H10: =IF(ROUND(E10*G10,2)=0, " ", ROUND(E10*G10,2))
A11: 102-2 | B11: 施工环保费 | D11: 总额 | E11: 1 | H11: =IF(ROUND(E11*G11,2)=0, " ", ROUND(E11*G11,2))
A12: 102-3 | B12: 安全生产费（不低于最高投标限价的1.5%） | D12: 总额 | E12: 1 | G12: 1740 | H12: =IF(ROUND(E12*G12,2)=0, " ", ROUND(E12*G12,2)) -> 1740
A13: 103 | B13: 临时工程与设施 | H13: =IF(ROUND(E13*G13,2)=0, " ", ROUND(E13*G13,2))
A14: 103-2 | B14: 临时占地、临时供电、承包人驻地建设及施工驻地等 | D14: 总额 | E14: 1 | H14: =IF(ROUND(E14*G14,2)=0, " ", ROUND(E14*G14,2))
A47: 第100章 合计 | H47: =SUM(H7:H46) -> 1740
F48: 清单 第 1 页 共 4 页
A49: 工程量清单表
A50: 合同段：许口树园路 | F50: 标表2
A51: 第200章 路基
A52: 子目号 | B52: 子目名称 | D52: 单位 | E52: 数量 | G52: 单价 | H52: 合价
A53: 203 | B53: 挖方路基 | H53: =IF(ROUND(E53*G53,2)=0, " ", ROUND(E53*G53,2))
A54: 203-1 | B54: 路基挖方 | H54: =IF(ROUND(E54*G54,2)=0, " ", ROUND(E54*G54,2))
A55: -a | B55: 路基处理（清除表面杂土、杂物，现场土方开挖或回填至设计标高、多余土方需运离施工现场，土方来源自行考虑）、请各投标单位勘察现场后自行考虑、合理报价，投标人综合报价，结算不调整 | D55: m2 | E55: 1200 | H55: =IF(ROUND(E55*G55,2)=0, " ", ROUND(E55*G55,2))
A94: 第200章 合计 | H94: =SUM(H55:H93) -> 0
F95: 清单 第 2 页 共 4 页
A96: 工程量清单表
A97: 合同段：许口树园路 | F97: 标表2
A98: 第300章 路面
A99: 子目号 | B99: 子目名称 | D99: 单位 | E99: 数量 | G99: 单价 | H99: 合价
A100: 303 | B100: 石灰稳定土底基层、基层 | H100: =IF(ROUND(E100*G100,2)=0, " ", ROUND(E100*G100,2))
A101: 303-1 | B101: 石灰稳定土底基层 | H101: =IF(ROUND(E101*G101,2)=0, " ", ROUND(E101*G101,2))
A102: -a | B102: 20cm厚12%石灰土原槽拌合压实，含石灰消解等，土方来源自行考虑，请各投标单位综合考虑、合理报价 | D102: m2 | E102: 1020 | H102: =IF(ROUND(E102*G102,2)=0, " ", ROUND(E102*G102,2))
A103: 312 | B103: 水泥混凝土面板 | H103: =IF(ROUND(E103*G103,2)=0, " ", ROUND(E103*G103,2))
A104: 312-1 | B104: 水泥混凝土面板 | H104: =IF(ROUND(E104*G104,2)=0, " ", ROUND(E104*G104,2))
A105: -a | B105: 18cm厚C30商品砼路面（抗弯拉强度≥4.0Mpa），含切缝、接缝填缝、路面养生及模板等一切相关费用 | D105: m2 | E105: 900 | H105: =IF(ROUND(E105*G105,2)=0, " ", ROUND(E105*G105,2))
A106: 313 | B106: 路肩培土、中央分隔带回填土、土路肩加固及路缘石 | H106: =IF(ROUND(E106*G106,2)=0, " ", ROUND(E106*G106,2))
A107: 313-1 | B107: 路肩培土，压实度满足相关文件要求，土源投标单位自行考虑，含在投标报价内，结算不调整 | D107: m2 | E107: 300 | H107: =IF(ROUND(E107*G107,2)=0, " ", ROUND(E107*G107,2))
A138: 第300章 合计 | H138: =SUM(H102:H137) -> 0
F139: 清单 第 3 页 共 4 页
A140: 工程量清单表
...

Sheet 方庄路
A1: 工程量清单表
A2: 合同段：方庄路 | F2: 标表2
A3: 第100章 总则
A4: 子目号 | B4: 子目名称 | D4: 单位 | E4: 数量 | G4: 单价 | H4: 合价
A5: 101 | B5: 通则 | H5: =IF(ROUND(E5*G5,2)=0, " ", ROUND(E5*G5,2))
A6: 101-1 | B6: 保险费 | H6: =IF(ROUND(E6*G6,2)=0, " ", ROUND(E6*G6,2))
A7: -a | B7: 按合同条款规定，提供建筑工程一切险 | D7: 总额 | E7: 1 | H7: =IF(ROUND(E7*G7,2)=0, " ", ROUND(E7*G7,2))
A8: -b | B8: 按合同条款规定，提供第三者责任险 | D8: 总额 | E8: 1 | H8: =IF(ROUND(E8*G8,2)=0, " ", ROUND(E8*G8,2))
A9: 102 | B9: 工程管理 | H9: =IF(ROUND(E9*G9,2)=0, " ", ROUND(E9*G9,2))
A10: 102-1 | B10: 竣工文件 | D10: 总额 | E10: 1 | H10: =IF(ROUND(E10*G10,2)=0, " ", ROUND(E10*G10,2))
A11: 102-2 | B11: 施工环保费 | D11: 总额 | E11: 1 | H11: =IF(ROUND(E11*G11,2)=0, " ", ROUND(E11*G11,2))
A12: 102-3 | B12: 安全生产费（不低于最高投标限价的1.5%） | D12: 总额 | E12: 1 | G12: 3480 | H12: =IF(ROUND(E12*G12,2)=0, " ", ROUND(E12*G12,2)) -> 3480
A13: 103 | B13: 临时工程与设施 | H13: =IF(ROUND(E13*G13,2)=0, " ", ROUND(E13*G13,2))
A14: 103-2 | B14: 临时占地、临时供电、承包人驻地建设及施工驻地等 | D14: 总额 | E14: 1 | H14: =IF(ROUND(E14*G14,2)=0, " ", ROUND(E14*G14,2))
A46: 第100章 合计 | H46: =SUM(H7:H45) -> 3480
F47: 清单 第 1 页 共 5 页
A48: 工程量清单表
A49: 合同段：方庄路 | F49: 标表2
A50: 第200章 路基
A51: 子目号 | B51: 子目名称 | D51: 单位 | E51: 数量 | G51: 单价 | H51: 合价
A52: 203 | B52: 挖方路基 | H52: =IF(ROUND(E52*G52,2)=0, " ", ROUND(E52*G52,2))
A53: 203-1 | B53: 路基挖方 | H53: =IF(ROUND(E53*G53,2)=0, " ", ROUND(E53*G53,2))
A54: -a | B54: 路基处理（清除表面杂土、杂物，现场土方开挖或回填至设计标高、多余土方需运离施工现场，土方来源自行考虑）、请各投标单位勘察现场后自行考虑、合理报价，投标人综合报价，结算不调整 | D54: m2 | E54: 2240 | H54: =IF(ROUND(E54*G54,2)=0, " ", ROUND(E54*G54,2))
A91: 第200章 合计 | H91: =SUM(H54:H90) -> 0
F92: 清单 第 2 页 共 5 页
A93: 工程量清单表
A94: 合同段：方庄路 | F94: 标表2
A95: 第300章 路面
A96: 子目号 | B96: 子目名称 | D96: 单位 | E96: 数量 | G96: 单价 | H96: 合价
A97: 303 | B97: 石灰稳定土底基层、基层 | H97: =IF(ROUND(E97*G97,2)=0, " ", ROUND(E97*G97,2))
A98: 303-1 | B98: 石灰稳定土底基层 | H98: =IF(ROUND(E98*G98,2)=0, " ", ROUND(E98*G98,2))
A99: -a | B99: 20cm厚12%石灰土原槽拌合压实，含石灰消解等，土方来源自行考虑，请各投标单位综合考虑、合理报价 | D99: m2 | E99: 1904 | H99: =IF(ROUND(E99*G99,2)=0, " ", ROUND(E99*G99,2))
A100: 312 | B100: 水泥混凝土面板 | H100: =IF(ROUND(E100*G100,2)=0, " ", ROUND(E100*G100,2))
A101: 312-1 | B101: 水泥混凝土面板 | H101: =IF(ROUND(E101*G101,2)=0, " ", ROUND(E101*G101,2))
A102: -a | B102: 18cm厚C30商品砼路面（抗弯拉强度≥4.0Mpa），含切缝、接缝填缝、路面养生及模板等一切相关费用 | D102: m2 | E102: 1680 | H102: =IF(ROUND(E102*G102,2)=0, " ", ROUND(E102*G102,2))
A103: 313 | B103: 路肩培土、中央分隔带回填土、土路肩加固及路缘石 | H103: =IF(ROUND(E103*G103,2)=0, " ", ROUND(E103*G103,2))
A104: 313-1 | B104: 路肩培土，压实度满足相关文件要求，土源投标单位自行考虑，含在投标报价内，结算不调整 | D104: m2 | E104: 560 | H104: =IF(ROUND(E104*G104,2)=0, " ", ROUND(E104*G104,2))
A135: 第300章 合计 | H135: =SUM(H99:H134) -> 0
F136: 清单 第 3 页 共 5 页
A137: 工程量清单表
...

Sheet 东司南北路
A1: 工程量清单表
A2: 合同段：东司南北路 | F2: 标表2
A3: 第100章 总则
A4: 子目号 | B4: 子目名称 | D4: 单位 | E4: 数量 | G4: 单价 | H4: 合价
A5: 101 | B5: 通则 | H5: =IF(ROUND(E5*G5,2)=0, " ", ROUND(E5*G5,2))
A6: 101-1 | B6: 保险费 | H6: =IF(ROUND(E6*G6,2)=0, " ", ROUND(E6*G6,2))
A7: -a | B7: 按合同条款规定，提供建筑工程一切险 | D7: 总额 | E7: 1 | H7: =IF(ROUND(E7*G7,2)=0, " ", ROUND(E7*G7,2))
A8: -b | B8: 按合同条款规定，提供第三者责任险 | D8: 总额 | E8: 1 | H8: =IF(ROUND(E8*G8,2)=0, " ", ROUND(E8*G8,2))
A9: 102 | B9: 工程管理 | H9: =IF(ROUND(E9*G9,2)=0, " ", ROUND(E9*G9,2))
A10: 102-1 | B10: 竣工文件 | D10: 总额 | E10: 1 | H10: =IF(ROUND(E10*G10,2)=0, " ", ROUND(E10*G10,2))
A11: 102-2 | B11: 施工环保费 | D11: 总额 | E11: 1 | H11: =IF(ROUND(E11*G11,2)=0, " ", ROUND(E11*G11,2))
A12: 102-3 | B12: 安全生产费（不低于最高投标限价的1.5%） | D12: 总额 | E12: 1 | G12: 2145 | H12: =IF(ROUND(E12*G12,2)=0, " ", ROUND(E12*G12,2)) -> 2145
A13: 103 | B13: 临时工程与设施 | H13: =IF(ROUND(E13*G13,2)=0, " ", ROUND(E13*G13,2))
A14: 103-2 | B14: 临时占地、临时供电、承包人驻地建设及施工驻地等 | D14: 总额 | E14: 1 | H14: =IF(ROUND(E14*G14,2)=0, " ", ROUND(E14*G14,2))
A48: 第100章 合计 | H48: =SUM(H7:H47) -> 2145
F49: 清单 第 1 页 共 4 页
A50: 工程量清单表
A51: 合同段：东司南北路 | F51: 标表2
A52: 第200章 路基
A53: 子目号 | B53: 子目名称 | D53: 单位 | E53: 数量 | G53: 单价 | H53: 合价
A54: 203 | B54: 挖方路基 | H54: =IF(ROUND(E54*G54,2)=0, " ", ROUND(E54*G54,2))
A55: 203-1 | B55: 路基挖方 | H55: =IF(ROUND(E55*G55,2)=0, " ", ROUND(E55*G55,2))
A56: -a | B56: 路基处理（清除表面杂土、杂物，现场土方开挖或回填至设计标高、多余土方需运离施工现场，土方来源自行考虑）、请各投标单位勘察现场后自行考虑、合理报价，投标人综合报价，结算不调整 | D56: m2 | E56: 1480 | H56: =IF(ROUND(E56*G56,2)=0, " ", ROUND(E56*G56,2))
A95: 第200章 合计 | H95: =SUM(H56:H94) -> 0
F96: 清单 第 2 页 共 4 页
A97: 工程量清单表
A98: 合同段：东司南北路 | F98: 标表2
A99: 第300章 路面
A100: 子目号 | B100: 子目名称 | D100: 单位 | E100: 数量 | G100: 单价 | H100: 合价
A101: 303 | B101: 石灰稳定土底基层、基层 | H101: =IF(ROUND(E101*G101,2)=0, " ", ROUND(E101*G101,2))
A102: 303-1 | B102: 石灰稳定土底基层 | H102: =IF(ROUND(E102*G102,2)=0, " ", ROUND(E102*G102,2))
A103: -a | B103: 20cm厚12%石灰土原槽拌合压实，含石灰消解等，土方来源自行考虑，请各投标单位综合考虑、合理报价 | D103: m2 | E103: 1258 | H103: =IF(ROUND(E103*G103,2)=0, " ", ROUND(E103*G103,2))
A104: 312 | B104: 水泥混凝土面板 | H104: =IF(ROUND(E104*G104,2)=0, " ", ROUND(E104*G104,2))
A105: 312-1 | B105: 水泥混凝土面板 | H105: =IF(ROUND(E105*G105,2)=0, " ", ROUND(E105*G105,2))
A106: -a | B106: 18cm厚C30商品砼路面（抗弯拉强度≥4.0Mpa），含切缝、接缝填缝、路面养生及模板等一切相关费用 | D106: m2 | E106: 1110 | H106: =IF(ROUND(E106*G106,2)=0, " ", ROUND(E106*G106,2))
A107: 313 | B107: 路肩培土、中央分隔带回填土、土路肩加固及路缘石 | H107: =IF(ROUND(E107*G107,2)=0, " ", ROUND(E107*G107,2))
A108: 313-1 | B108: 路肩培土，压实度满足相关文件要求，土源投标单位自行考虑，含在投标报价内，结算不调整 | D108: m2 | E108: 370 | H108: =IF(ROUND(E108*G108,2)=0, " ", ROUND(E108*G108,2))
A139: 第300章 合计 | H139: =SUM(H103:H138) -> 0
F140: 清单 第 3 页 共 4 页
A141: 工程量清单表
...

Sheet 村北西中路
A1: 工程量清单表
A2: 合同段：村北西中路 | F2: 标表2
A3: 第100章 总则
A4: 子目号 | B4: 子目名称 | D4: 单位 | E4: 数量 | G4: 单价 | H4: 合价
A5: 101 | B5: 通则 | H5: =IF(ROUND(E5*G5,2)=0, " ", ROUND(E5*G5,2))
A6: 101-1 | B6: 保险费 | H6: =IF(ROUND(E6*G6,2)=0, " ", ROUND(E6*G6,2))
A7: -a | B7: 按合同条款规定，提供建筑工程一切险 | D7: 总额 | E7: 1 | H7: =IF(ROUND(E7*G7,2)=0, " ", ROUND(E7*G7,2))
A8: -b | B8: 按合同条款规定，提供第三者责任险 | D8: 总额 | E8: 1 | H8: =IF(ROUND(E8*G8,2)=0, " ", ROUND(E8*G8,2))
A9: 102 | B9: 工程管理 | H9: =IF(ROUND(E9*G9,2)=0, " ", ROUND(E9*G9,2))
A10: 102-1 | B10: 竣工文件 | D10: 总额 | E10: 1 | H10: =IF(ROUND(E10*G10,2)=0, " ", ROUND(E10*G10,2))
A11: 102-2 | B11: 施工环保费 | D11: 总额 | E11: 1 | H11: =IF(ROUND(E11*G11,2)=0, " ", ROUND(E11*G11,2))
A12: 102-3 | B12: 安全生产费（不低于最高投标限价的1.5%） | D12: 总额 | E12: 1 | G12: 4575 | H12: =IF(ROUND(E12*G12,2)=0, " ", ROUND(E12*G12,2)) -> 4575
A13: 103 | B13: 临时工程与设施 | H13: =IF(ROUND(E13*G13,2)=0, " ", ROUND(E13*G13,2))
A14: 103-2 | B14: 临时占地、临时供电、承包人驻地建设及施工驻地等 | D14: 总额 | E14: 1 | H14: =IF(ROUND(E14*G14,2)=0, " ", ROUND(E14*G14,2))
A48: 第100章 合计 | H48: =SUM(H7:H47) -> 4575
F49: 清单 第 1 页 共 5 页
A50: 工程量清单表
A51: 合同段：村北西中路 | F51: 标表2
A52: 第200章 路基
A53: 子目号 | B53: 子目名称 | D53: 单位 | E53: 数量 | G53: 单价 | H53: 合价
A54: 203 | B54: 挖方路基 | H54: =IF(ROUND(E54*G54,2)=0, " ", ROUND(E54*G54,2))
A55: 203-1 | B55: 路基挖方 | H55: =IF(ROUND(E55*G55,2)=0, " ", ROUND(E55*G55,2))
A56: -a | B56: 路基处理（清除表面杂土、杂物，现场土方开挖或回填至设计标高、多余土方需运离施工现场，土方来源自行考虑）、请各投标单位勘察现场后自行考虑、合理报价，投标人综合报价，结算不调整 | D56: m2 | E56: 3150 | H56: =IF(ROUND(E56*G56,2)=0, " ", ROUND(E56*G56,2))
A95: 第200章 合计 | H95: =SUM(H56:H94) -> 0
F96: 清单 第 2 页 共 5 页
A97: 工程量清单表
A98: 合同段：村北西中路 | F98: 标表2
A99: 第300章 路面
A100: 子目号 | B100: 子目名称 | D100: 单位 | E100: 数量 | G100: 单价 | H100: 合价
A101: 303 | B101: 石灰稳定土底基层、基层 | H101: =IF(ROUND(E101*G101,2)=0, " ", ROUND(E101*G101,2))
A102: 303-1 | B102: 石灰稳定土底基层 | H102: =IF(ROUND(E102*G102,2)=0, " ", ROUND(E102*G102,2))
A103: -a | B103: 20cm厚12%石灰土原槽拌合压实，含石灰消解等，土方来源自行考虑，请各投标单位综合考虑、合理报价 | D103: m2 | E103: 2730 | H103: =IF(ROUND(E103*G103,2)=0, " ", ROUND(E103*G103,2))
A104: 312 | B104: 水泥混凝土面板 | H104: =IF(ROUND(E104*G104,2)=0, " ", ROUND(E104*G104,2))
A105: 312-1 | B105: 水泥混凝土面板 | H105: =IF(ROUND(E105*G105,2)=0, " ", ROUND(E105*G105,2))
A106: -a | B106: 18cm厚C30商品砼路面（抗弯拉强度≥4.0Mpa），含切缝、接缝填缝、路面养生及模板等一切相关费用 | D106: m2 | E106: 2450 | H106: =IF(ROUND(E106*G106,2)=0, " ", ROUND(E106*G106,2))
A107: 313 | B107: 路肩培土、中央分隔带回填土、土路肩加固及路缘石 | H107: =IF(ROUND(E107*G107,2)=0, " ", ROUND(E107*G107,2))
A108: 313-1 | B108: 路肩培土，压实度满足相关文件要求，土源投标单位自行考虑，含在投标报价内，结算不调整 | D108: m2 | E108: 700 | H108: =IF(ROUND(E108*G108,2)=0, " ", ROUND(E108*G108,2))
A141: 第300章 合计 | H141: =SUM(H103:H140) -> 0
F142: 清单 第 3 页 共 5 页
A143: 工程量清单表
...

Sheet 场林路
A1: 工程量清单表
A2: 合同段：场林路 | F2: 标表2
A3: 第100章 总则
A4: 子目号 | B4: 子目名称 | D4: 单位 | E4: 数量 | G4: 单价 | H4: 合价
A5: 101 | B5: 通则 | H5: =IF(ROUND(E5*G5,2)=0, " ", ROUND(E5*G5,2))
A6: 101-1 | B6: 保险费 | H6: =IF(ROUND(E6*G6,2)=0, " ", ROUND(E6*G6,2))
A7: -a | B7: 按合同条款规定，提供建筑工程一切险 | D7: 总额 | E7: 1 | H7: =IF(ROUND(E7*G7,2)=0, " ", ROUND(E7*G7,2))
A8: -b | B8: 按合同条款规定，提供第三者责任险 | D8: 总额 | E8: 1 | H8: =IF(ROUND(E8*G8,2)=0, " ", ROUND(E8*G8,2))
A9: 102 | B9: 工程管理 | H9: =IF(ROUND(E9*G9,2)=0, " ", ROUND(E9*G9,2))
A10: 102-1 | B10: 竣工文件 | D10: 总额 | E10: 1 | H10: =IF(ROUND(E10*G10,2)=0, " ", ROUND(E10*G10,2))
A11: 102-2 | B11: 施工环保费 | D11: 总额 | E11: 1 | H11: =IF(ROUND(E11*G11,2)=0, " ", ROUND(E11*G11,2))
A12: 102-3 | B12: 安全生产费（不低于最高投标限价的1.5%） | D12: 总额 | E12: 1 | G12: 2347.5 | H12: =IF(ROUND(E12*G12,2)=0, " ", ROUND(E12*G12,2)) -> 2347.5
A13: 103 | B13: 临时工程与设施 | H13: =IF(ROUND(E13*G13,2)=0, " ", ROUND(E13*G13,2))
A14: 103-2 | B14: 临时占地、临时供电、承包人驻地建设及施工驻地等 | D14: 总额 | E14: 1 | H14: =IF(ROUND(E14*G14,2)=0, " ", ROUND(E14*G14,2))
A48: 第100章 合计 | H48: =SUM(H7:H47) -> 2347.5
F49: 清单 第 1 页 共 4 页
A50: 工程量清单表
A51: 合同段：场林路 | F51: 标表2
A52: 第200章 路基
A53: 子目号 | B53: 子目名称 | D53: 单位 | E53: 数量 | G53: 单价 | H53: 合价
A54: 203 | B54: 挖方路基 | H54: =IF(ROUND(E54*G54,2)=0, " ", ROUND(E54*G54,2))
A55: 203-1 | B55: 路基挖方 | H55: =IF(ROUND(E55*G55,2)=0, " ", ROUND(E55*G55,2))
A56: -a | B56: 路基处理（清除表面杂土、杂物，现场土方开挖或回填至设计标高、多余土方需运离施工现场，土方来源自行考虑）、请各投标单位勘察现场后自行考虑、合理报价，投标人综合报价，结算不调整 | D56: m2 | E56: 1575 | H56: =IF(ROUND(E56*G56,2)=0, " ", ROUND(E56*G56,2))
A94: 第200章 合计 | H94: =SUM(H56:H93) -> 0
F95: 清单 第 2 页 共 4 页
A96: 工程量清单表
A97: 合同段：场林路 | F97: 标表2
A98: 第300章 路面
A99: 子目号 | B99: 子目名称 | D99: 单位 | E99: 数量 | G99: 单价 | H99: 合价
A100: 303 | B100: 石灰稳定土底基层、基层 | H100: =IF(ROUND(E100*G100,2)=0, " ", ROUND(E100*G100,2))
A101: 303-1 | B101: 石灰稳定土底基层 | H101: =IF(ROUND(E101*G101,2)=0, " ", ROUND(E101*G101,2))
A102: -a | B102: 20cm厚12%石灰土原槽拌合压实，含石灰消解等，土方来源自行考虑，请各投标单位综合考虑、合理报价 | D102: m2 | E102: 1365 | H102: =IF(ROUND(E102*G102,2)=0, " ", ROUND(E102*G102,2))
A103: 312 | B103: 水泥混凝土面板 | H103: =IF(ROUND(E103*G103,2)=0, " ", ROUND(E103*G103,2))
A104: 312-1 | B104: 水泥混凝土面板 | H104: =IF(ROUND(E104*G104,2)=0, " ", ROUND(E104*G104,2))
A105: -a | B105: 18cm厚C30商品砼路面（抗弯拉强度≥4.0Mpa），含切缝、接缝填缝、路面养生及模板等一切相关费用 | D105: m2 | E105: 1225 | H105: =IF(ROUND(E105*G105,2)=0, " ", ROUND(E105*G105,2))
A106: 313 | B106: 路肩培土、中央分隔带回填土、土路肩加固及路缘石 | H106: =IF(ROUND(E106*G106,2)=0, " ", ROUND(E106*G106,2))
A107: 313-1 | B107: 路肩培土，压实度满足相关文件要求，土源投标单位自行考虑，含在投标报价内，结算不调整 | D107: m2 | E107: 350 | H107: =IF(ROUND(E107*G107,2)=0, " ", ROUND(E107*G107,2))
A140: 第300章 合计 | H140: =SUM(H102:H139) -> 0
F141: 清单 第 3 页 共 4 页
A142: 工程量清单表
...

Sheet 东圩路
A1: 工程量清单表
A2: 合同段：东圩路 | F2: 标表2
A3: 第100章 总则
A4: 子目号 | B4: 子目名称 | D4: 单位 | E4: 数量 | G4: 单价 | H4: 合价
A5: 101 | B5: 通则 | H5: =IF(ROUND(E5*G5,2)=0, " ", ROUND(E5*G5,2))
A6: 101-1 | B6: 保险费 | H6: =IF(ROUND(E6*G6,2)=0, " ", ROUND(E6*G6,2))
A7: -a | B7: 按合同条款规定，提供建筑工程一切险 | D7: 总额 | E7: 1 | H7: =IF(ROUND(E7*G7,2)=0, " ", ROUND(E7*G7,2))
A8: -b | B8: 按合同条款规定，提供第三者责任险 | D8: 总额 | E8: 1 | H8: =IF(ROUND(E8*G8,2)=0, " ", ROUND(E8*G8,2))
A9: 102 | B9: 工程管理 | H9: =IF(ROUND(E9*G9,2)=0, " ", ROUND(E9*G9,2))
A10: 102-1 | B10: 竣工文件 | D10: 总额 | E10: 1 | H10: =IF(ROUND(E10*G10,2)=0, " ", ROUND(E10*G10,2))
A11: 102-2 | B11: 施工环保费 | D11: 总额 | E11: 1 | H11: =IF(ROUND(E11*G11,2)=0, " ", ROUND(E11*G11,2))
A12: 102-3 | B12: 安全生产费（不低于最高投标限价的1.5%） | D12: 总额 | E12: 1 | G12: 1545 | H12: =IF(ROUND(E12*G12,2)=0, " ", ROUND(E12*G12,2)) -> 1545
A13: 103 | B13: 临时工程与设施 | H13: =IF(ROUND(E13*G13,2)=0, " ", ROUND(E13*G13,2))
A14: 103-2 | B14: 临时占地、临时供电、承包人驻地建设及施工驻地等 | D14: 总额 | E14: 1 | H14: =IF(ROUND(E14*G14,2)=0, " ", ROUND(E14*G14,2))
A48: 第100章 合计 | H48: =SUM(H7:H47) -> 1545
F49: 清单 第 1 页 共 4 页
A50: 工程量清单表
A51: 合同段：东圩路 | F51: 标表2
A52: 第200章 路基
A53: 子目号 | B53: 子目名称 | D53: 单位 | E53: 数量 | G53: 单价 | H53: 合价
A54: 203 | B54: 挖方路基 | H54: =IF(ROUND(E54*G54,2)=0, " ", ROUND(E54*G54,2))
A55: 203-1 | B55: 路基挖方 | H55: =IF(ROUND(E55*G55,2)=0, " ", ROUND(E55*G55,2))
A56: -a | B56: 路基处理（清除表面杂土、杂物，现场土方开挖或回填至设计标高、多余土方需运离施工现场，土方来源自行考虑）、请各投标单位勘察现场后自行考虑、合理报价，投标人综合报价，结算不调整 | D56: m2 | E56: 1035 | H56: =IF(ROUND(E56*G56,2)=0, " ", ROUND(E56*G56,2))
A94: 第200章 合计 | H94: =SUM(H56:H93) -> 0
F95: 清单 第 2 页 共 4 页
A96: 工程量清单表
A97: 合同段：东圩路 | F97: 标表2
A98: 第300章 路面
A99: 子目号 | B99: 子目名称 | D99: 单位 | E99: 数量 | G99: 单价 | H99: 合价
A100: 303 | B100: 石灰稳定土底基层、基层 | H100: =IF(ROUND(E100*G100,2)=0, " ", ROUND(E100*G100,2))
A101: 303-1 | B101: 石灰稳定土底基层 | H101: =IF(ROUND(E101*G101,2)=0, " ", ROUND(E101*G101,2))
A102: -a | B102: 20cm厚12%石灰土原槽拌合压实，含石灰消解等，土方来源自行考虑，请各投标单位综合考虑、合理报价 | D102: m2 | E102: 897 | H102: =IF(ROUND(E102*G102,2)=0, " ", ROUND(E102*G102,2))
A103: 312 | B103: 水泥混凝土面板 | H103: =IF(ROUND(E103*G103,2)=0, " ", ROUND(E103*G103,2))
A104: 312-1 | B104: 水泥混凝土面板 | H104: =IF(ROUND(E104*G104,2)=0, " ", ROUND(E104*G104,2))
A105: -a | B105: 18cm厚C30商品砼路面（抗弯拉强度≥4.0Mpa），含切缝、接缝填缝、路面养生及模板等一切相关费用 | D105: m2 | E105: 805 | H105: =IF(ROUND(E105*G105,2)=0, " ", ROUND(E105*G105,2))
A106: 313 | B106: 路肩培土、中央分隔带回填土、土路肩加固及路缘石 | H106: =IF(ROUND(E106*G106,2)=0, " ", ROUND(E106*G106,2))
A107: 313-1 | B107: 路肩培土，压实度满足相关文件要求，土源投标单位自行考虑，含在投标报价内，结算不调整 | D107: m2 | E107: 230 | H107: =IF(ROUND(E107*G107,2)=0, " ", ROUND(E107*G107,2))
A138: 第300章 合计 | H138: =SUM(H102:H137) -> 0
F139: 清单 第 3 页 共 4 页
A140: 工程量清单表
...

Sheet 官前西路
A1: 工程量清单表
A2: 合同段：官前西路 | F2: 标表2
A3: 第100章 总则
A4: 子目号 | B4: 子目名称 | D4: 单位 | E4: 数量 | G4: 单价 | H4: 合价
A5: 101 | B5: 通则 | H5: =IF(ROUND(E5*G5,2)=0, " ", ROUND(E5*G5,2))
A6: 101-1 | B6: 保险费 | H6: =IF(ROUND(E6*G6,2)=0, " ", ROUND(E6*G6,2))
A7: -a | B7: 按合同条款规定，提供建筑工程一切险 | D7: 总额 | E7: 1 | H7: =IF(ROUND(E7*G7,2)=0, " ", ROUND(E7*G7,2))
A8: -b | B8: 按合同条款规定，提供第三者责任险 | D8: 总额 | E8: 1 | H8: =IF(ROUND(E8*G8,2)=0, " ", ROUND(E8*G8,2))
A9: 102 | B9: 工程管理 | H9: =IF(ROUND(E9*G9,2)=0, " ", ROUND(E9*G9,2))
A10: 102-1 | B10: 竣工文件 | D10: 总额 | E10: 1 | H10: =IF(ROUND(E10*G10,2)=0, " ", ROUND(E10*G10,2))
A11: 102-2 | B11: 施工环保费 | D11: 总额 | E11: 1 | H11: =IF(ROUND(E11*G11,2)=0, " ", ROUND(E11*G11,2))
A12: 102-3 | B12: 安全生产费（不低于最高投标限价的1.5%） | D12: 总额 | E12: 1 | G12: 952.5 | H12: =IF(ROUND(E12*G12,2)=0, " ", ROUND(E12*G12,2)) -> 952.5
A13: 103 | B13: 临时工程与设施 | H13: =IF(ROUND(E13*G13,2)=0, " ", ROUND(E13*G13,2))
A14: 103-2 | B14: 临时占地、临时供电、承包人驻地建设及施工驻地等 | D14: 总额 | E14: 1 | H14: =IF(ROUND(E14*G14,2)=0, " ", ROUND(E14*G14,2))
A45: 第100章 合计 | H45: =SUM(H7:H44) -> 952.5
F46: 清单 第 1 页 共 4 页
A47: 工程量清单表
A48: 合同段：官前西路 | F48: 标表2
A49: 第200章 路基
A50: 子目号 | B50: 子目名称 | D50: 单位 | E50: 数量 | G50: 单价 | H50: 合价
A51: 203 | B51: 挖方路基 | H51: =IF(ROUND(E51*G51,2)=0, " ", ROUND(E51*G51,2))
A52: 203-1 | B52: 路基挖方 | H52: =IF(ROUND(E52*G52,2)=0, " ", ROUND(E52*G52,2))
A53: -a | B53: 路基处理（清除表面杂土、杂物，现场土方开挖或回填至设计标高、多余土方需运离施工现场，土方来源自行考虑）、请各投标单位勘察现场后自行考虑、合理报价，投标人综合报价，结算不调整 | D53: m2 | E53: 630 | H53: =IF(ROUND(E53*G53,2)=0, " ", ROUND(E53*G53,2))
A92: 第200章 合计 | H92: =SUM(H53:H91) -> 0
F93: 清单 第 2 页 共 4 页
A94: 工程量清单表
A95: 合同段：官前西路 | F95: 标表2
A96: 第300章 路面
A97: 子目号 | B97: 子目名称 | D97: 单位 | E97: 数量 | G97: 单价 | H97: 合价
A98: 303 | B98: 石灰稳定土底基层、基层 | H98: =IF(ROUND(E98*G98,2)=0, " ", ROUND(E98*G98,2))
A99: 303-1 | B99: 石灰稳定土底基层 | H99: =IF(ROUND(E99*G99,2)=0, " ", ROUND(E99*G99,2))
A100: -a | B100: 20cm厚12%石灰土原槽拌合压实，含石灰消解等，土方来源自行考虑，请各投标单位综合考虑、合理报价 | D100: m2 | E100: 546 | H100: =IF(ROUND(E100*G100,2)=0, " ", ROUND(E100*G100,2))
A101: 312 | B101: 水泥混凝土面板 | H101: =IF(ROUND(E101*G101,2)=0, " ", ROUND(E101*G101,2))
A102: 312-1 | B102: 水泥混凝土面板 | H102: =IF(ROUND(E102*G102,2)=0, " ", ROUND(E102*G102,2))
A103: -a | B103: 18cm厚C30商品砼路面（抗弯拉强度≥4.0Mpa），含切缝、接缝填缝、路面养生及模板等一切相关费用 | D103: m2 | E103: 490 | H103: =IF(ROUND(E103*G103,2)=0, " ", ROUND(E103*G103,2))
A104: 313 | B104: 路肩培土、中央分隔带回填土、土路肩加固及路缘石 | H104: =IF(ROUND(E104*G104,2)=0, " ", ROUND(E104*G104,2))
A105: 313-1 | B105: 路肩培土，压实度满足相关文件要求，土源投标单位自行考虑，含在投标报价内，结算不调整 | D105: m2 | E105: 140 | H105: =IF(ROUND(E105*G105,2)=0, " ", ROUND(E105*G105,2))
A138: 第300章 合计 | H138: =SUM(H100:H137) -> 0
F139: 清单 第 3 页 共 4 页
A140: 工程量清单表
...

Sheet 官庄中环路
A1: 工程量清单表
A2: 合同段：官庄中环路 | F2: 标表2
A3: 第100章 总则
A4: 子目号 | B4: 子目名称 | D4: 单位 | E4: 数量 | G4: 单价 | H4: 合价
A5: 101 | B5: 通则 | H5: =IF(ROUND(E5*G5,2)=0, " ", ROUND(E5*G5,2))
A6: 101-1 | B6: 保险费 | H6: =IF(ROUND(E6*G6,2)=0, " ", ROUND(E6*G6,2))
A7: -a | B7: 按合同条款规定，提供建筑工程一切险 | D7: 总额 | E7: 1 | H7: =IF(ROUND(E7*G7,2)=0, " ", ROUND(E7*G7,2))
A8: -b | B8: 按合同条款规定，提供第三者责任险 | D8: 总额 | E8: 1 | H8: =IF(ROUND(E8*G8,2)=0, " ", ROUND(E8*G8,2))
A9: 102 | B9: 工程管理 | H9: =IF(ROUND(E9*G9,2)=0, " ", ROUND(E9*G9,2))
A10: 102-1 | B10: 竣工文件 | D10: 总额 | E10: 1 | H10: =IF(ROUND(E10*G10,2)=0, " ", ROUND(E10*G10,2))
A11: 102-2 | B11: 施工环保费 | D11: 总额 | E11: 1 | H11: =IF(ROUND(E11*G11,2)=0, " ", ROUND(E11*G11,2))
A12: 102-3 | B12: 安全生产费（不低于最高投标限价的1.5%） | D12: 总额 | E12: 1 | G12: 4125 | H12: =IF(ROUND(E12*G12,2)=0, " ", ROUND(E12*G12,2)) -> 4125
A13: 103 | B13: 临时工程与设施 | H13: =IF(ROUND(E13*G13,2)=0, " ", ROUND(E13*G13,2))
A14: 103-2 | B14: 临时占地、临时供电、承包人驻地建设及施工驻地等 | D14: 总额 | E14: 1 | H14: =IF(ROUND(E14*G14,2)=0, " ", ROUND(E14*G14,2))
A48: 第100章 合计 | H48: =SUM(H7:H47) -> 4125
F49: 清单 第 1 页 共 4 页
A50: 工程量清单表
A51: 合同段：官庄中环路 | F51: 标表2
A52: 第200章 路基
A53: 子目号 | B53: 子目名称 | D53: 单位 | E53: 数量 | G53: 单价 | H53: 合价
A54: 203 | B54: 挖方路基 | H54: =IF(ROUND(E54*G54,2)=0, " ", ROUND(E54*G54,2))
A55: 203-1 | B55: 路基挖方 | H55: =IF(ROUND(E55*G55,2)=0, " ", ROUND(E55*G55,2))
A56: -a | B56: 路基处理（清除表面杂土、杂物，现场土方开挖或回填至设计标高、多余土方需运离施工现场，土方来源自行考虑）、请各投标单位勘察现场后自行考虑、合理报价，投标人综合报价，结算不调整 | D56: m2 | E56: 2835 | H56: =IF(ROUND(E56*G56,2)=0, " ", ROUND(E56*G56,2))
A94: 第200章 合计 | H94: =SUM(H56:H93) -> 0
F95: 清单 第 2 页 共 4 页
A96: 工程量清单表
A97: 合同段：官庄中环路 | F97: 标表2
A98: 第300章 路面
A99: 子目号 | B99: 子目名称 | D99: 单位 | E99: 数量 | G99: 单价 | H99: 合价
A100: 303 | B100: 石灰稳定土底基层、基层 | H100: =IF(ROUND(E100*G100,2)=0, " ", ROUND(E100*G100,2))
A101: 303-1 | B101: 石灰稳定土底基层 | H101: =IF(ROUND(E101*G101,2)=0, " ", ROUND(E101*G101,2))
A102: -a | B102: 20cm厚12%石灰土原槽拌合压实，含石灰消解等，土方来源自行考虑，请各投标单位综合考虑、合理报价 | D102: m2 | E102: 2457 | H102: =IF(ROUND(E102*G102,2)=0, " ", ROUND(E102*G102,2))
A103: 312 | B103: 水泥混凝土面板 | H103: =IF(ROUND(E103*G103,2)=0, " ", ROUND(E103*G103,2))
A104: 312-1 | B104: 水泥混凝土面板 | H104: =IF(ROUND(E104*G104,2)=0, " ", ROUND(E104*G104,2))
A105: -a | B105: 18cm厚C30商品砼路面（抗弯拉强度≥4.0Mpa），含切缝、接缝填缝、路面养生及模板等一切相关费用 | D105: m2 | E105: 2205 | H105: =IF(ROUND(E105*G105,2)=0, " ", ROUND(E105*G105,2))
A106: 313 | B106: 路肩培土、中央分隔带回填土、土路肩加固及路缘石 | H106: =IF(ROUND(E106*G106,2)=0, " ", ROUND(E106*G106,2))
A107: 313-1 | B107: 路肩培土，压实度满足相关文件要求，土源投标单位自行考虑，含在投标报价内，结算不调整 | D107: m2 | E107: 630 | H107: =IF(ROUND(E107*G107,2)=0, " ", ROUND(E107*G107,2))
A140: 第300章 合计 | H140: =SUM(H102:H139) -> 0
F141: 清单 第 3 页 共 4 页
A142: 工程量清单表
...

Sheet 李西路
A1: 工程量清单表
A2: 合同段：李西路 | F2: 标表2
A3: 第100章 总则
A4: 子目号 | B4: 子目名称 | D4: 单位 | E4: 数量 | G4: 单价 | H4: 合价
A5: 101 | B5: 通则 | H5: =IF(ROUND(E5*G5,2)=0, " ", ROUND(E5*G5,2))
A6: 101-1 | B6: 保险费 | H6: =IF(ROUND(E6*G6,2)=0, " ", ROUND(E6*G6,2))
A7: -a | B7: 按合同条款规定，提供建筑工程一切险 | D7: 总额 | E7: 1 | H7: =IF(ROUND(E7*G7,2)=0, " ", ROUND(E7*G7,2))
A8: -b | B8: 按合同条款规定，提供第三者责任险 | D8: 总额 | E8: 1 | H8: =IF(ROUND(E8*G8,2)=0, " ", ROUND(E8*G8,2))
A9: 102 | B9: 工程管理 | H9: =IF(ROUND(E9*G9,2)=0, " ", ROUND(E9*G9,2))
A10: 102-1 | B10: 竣工文件 | D10: 总额 | E10: 1 | H10: =IF(ROUND(E10*G10,2)=0, " ", ROUND(E10*G10,2))
A11: 102-2 | B11: 施工环保费 | D11: 总额 | E11: 1 | H11: =IF(ROUND(E11*G11,2)=0, " ", ROUND(E11*G11,2))
A12: 102-3 | B12: 安全生产费（不低于最高投标限价的1.5%） | D12: 总额 | E12: 1 | G12: 2025 | H12: =IF(ROUND(E12*G12,2)=0, " ", ROUND(E12*G12,2)) -> 2025
A13: 103 | B13: 临时工程与设施 | H13: =IF(ROUND(E13*G13,2)=0, " ", ROUND(E13*G13,2))
A14: 103-2 | B14: 临时占地、临时供电、承包人驻地建设及施工驻地等 | D14: 总额 | E14: 1 | H14: =IF(ROUND(E14*G14,2)=0, " ", ROUND(E14*G14,2))
A48: 第100章 合计 | H48: =SUM(H7:H47) -> 2025
F49: 清单 第 1 页 共 4 页
A50: 工程量清单表
A51: 合同段：李西路 | F51: 标表2
A52: 第200章 路基
A53: 子目号 | B53: 子目名称 | D53: 单位 | E53: 数量 | G53: 单价 | H53: 合价
A54: 203 | B54: 挖方路基 | H54: =IF(ROUND(E54*G54,2)=0, " ", ROUND(E54*G54,2))
A55: 203-1 | B55: 路基挖方 | H55: =IF(ROUND(E55*G55,2)=0, " ", ROUND(E55*G55,2))
A56: -a | B56: 路基处理（清除表面杂土、杂物，现场土方开挖或回填至设计标高、多余土方需运离施工现场，土方来源自行考虑）、请各投标单位勘察现场后自行考虑、合理报价，投标人综合报价，结算不调整 | D56: m2 | E56: 1400 | H56: =IF(ROUND(E56*G56,2)=0, " ", ROUND(E56*G56,2))
A96: ="第200章 合计 " -> 第200章 合计 | H96: =SUM(H56:H95) -> 0
F97: 清单 第 2 页 共 4 页
A98: 工程量清单表
A99: 合同段：李西路 | F99: 标表2
A100: 第300章 路面
A101: 子目号 | B101: 子目名称 | D101: 单位 | E101: 数量 | G101: 单价 | H101: 合价
A102: 303 | B102: 石灰稳定土底基层、基层 | H102: =IF(ROUND(E102*G102,2)=0, " ", ROUND(E102*G102,2))
A103: 303-1 | B103: 石灰稳定土底基层 | H103: =IF(ROUND(E103*G103,2)=0, " ", ROUND(E103*G103,2))
A104: -a | B104: 20cm厚12%石灰土原槽拌合压实，含石灰消解等，土方来源自行考虑，请各投标单位综合考虑、合理报价 | D104: m2 | E104: 1190 | H104: =IF(ROUND(E104*G104,2)=0, " ", ROUND(E104*G104,2))
A105: 312 | B105: 水泥混凝土面板 | H105: =IF(ROUND(E105*G105,2)=0, " ", ROUND(E105*G105,2))
A106: 312-1 | B106: 水泥混凝土面板 | H106: =IF(ROUND(E106*G106,2)=0, " ", ROUND(E106*G106,2))
A107: -a | B107: 18cm厚C30商品砼路面（抗弯拉强度≥4.0Mpa），含切缝、接缝填缝、路面养生及模板等一切相关费用 | D107: m2 | E107: 1050 | H107: =IF(ROUND(E107*G107,2)=0, " ", ROUND(E107*G107,2))
A108: 313 | B108: 路肩培土、中央分隔带回填土、土路肩加固及路缘石 | H108: =IF(ROUND(E108*G108,2)=0, " ", ROUND(E108*G108,2))
A109: 313-1 | B109: 路肩培土，压实度满足相关文件要求，土源投标单位自行考虑，含在投标报价内，结算不调整 | D109: m2 | E109: 350 | H109: =IF(ROUND(E109*G109,2)=0, " ", ROUND(E109*G109,2))
A139: ="第300章 合计" -> 第300章 合计 | H139: =SUM(H104:H138) -> 0
F140: 清单 第 3 页 共 4 页
A141: 工程量清单表
...
