Workbook

Sheet 扉-3 投标总价扉页
B1: 沭阳县庙头镇2026年度村级公益事业一事一议财政奖补项目 | F1: 工程
A2: 投 标 报 价
A3: 招 标 人：
A4: 工 程 名 称：
A5: 投 标 报 价 | B5: （小写）：
B6: （大写）：
A7: 投标人：
B8: (单位盖章)
A9: 法定代表人 或其授权人：
B10: (签字或盖章)
A11: 编 制 人：
B12: （造价人员签字盖专用章）
A13: 编制时间：
F14: 扉-3

Sheet 【】全标段投标报价汇总表
A1: 全标段招标报价汇总表
A2: 工程名称：沭阳县庙头镇2026年度村级公益事业一事一议财政奖补项目 | K2: 第 1 页 共 1 页
A3: 项次 | B3: 章次 | C3: 工程或费用名称 | D3: 合计 | E3: 招标金额（元）
E4: 后圩村堆房二组东西路 | G4: 后圩村圩庄四组东西中心路 | H4: 后圩村圩庄八组中心东西路 | I4: 庙头社区五组庄里道路 | J4: 探驾村探驾街东南北水泥路 | L4: 吕庄村一、二组中心路 | M4: 赶埠村四五组中心路 | N4: 长探村庄后路
A5: 1 | B5: 100 | C5: 第100章 总则 | D5: =SUM(E5:N5) -> 20614.928 | E5: =后圩村堆房二组东西路!H49 -> 2095.6568 | G5: =后圩村圩庄四组东西中心路!H49 -> 813.33675 | H5: =后圩村圩庄八组中心东西路!H49 -> 2326.5212 | I5: =庙头社区五组庄里道路!H49 -> 950.0919 | J5: =探驾村探驾街东南北水泥路!H49 -> 1176.6177 | L5: ='吕庄村一、二组中心路'!H49 -> 2570.0242 | M5: =赶埠村四五组中心路!H49 -> 2280.6914 | N5: =长探村庄后路!H49 -> 8401.9885
A6: 2 | B6: 200 | C6: 第200章 路基 | D6: =SUM(E6:N6) -> 0 | E6: =后圩村堆房二组东西路!H96 -> 0 | G6: =后圩村圩庄四组东西中心路!H96 -> 0 | H6: =后圩村圩庄八组中心东西路!H96 -> 0 | I6: =庙头社区五组庄里道路!H94 -> 0 | J6: =探驾村探驾街东南北水泥路!H96 -> 0 | L6: ='吕庄村一、二组中心路'!H96 -> 0 | M6: =赶埠村四五组中心路!H96 -> 0 | N6: =长探村庄后路!H96 -> 0
A7: 3 | B7: 300 | C7: 第300章 路面 | D7: =SUM(E7:N7) -> 0 | E7: =后圩村堆房二组东西路!H143 -> 0 | G7: =后圩村圩庄四组东西中心路!H143 -> 0 | H7: =后圩村圩庄八组中心东西路!H143 -> 0 | I7: =庙头社区五组庄里道路!H141 -> 0 | J7: =探驾村探驾街东南北水泥路!H143 -> 0 | L7: ='吕庄村一、二组中心路'!H143 -> 0 | M7: =赶埠村四五组中心路!H143 -> 0 | N7: =长探村庄后路!H143 -> 0
A8: 4 | B8: 600 | C8: 第600章 安全设施及预埋管线 | D8: =SUM(E8:N8) -> 0 | E8: =后圩村堆房二组东西路!H186 -> 0 | G8: =后圩村圩庄四组东西中心路!H186 -> 0 | H8: =后圩村圩庄八组中心东西路!H186 -> 0 | I8: =庙头社区五组庄里道路!H184 -> 0 | J8: =探驾村探驾街东南北水泥路!H186 -> 0 | L8: ='吕庄村一、二组中心路'!H186 -> 0 | M8: =赶埠村四五组中心路!H186 -> 0 | N8: =长探村庄后路!H186 -> 0
A9: 5 | B9: 第100章至第700章合计 | D9: =SUM(E9:N9) -> 20614.928 | E9: =SUM(E5:F8) -> 2095.6568 | G9: =SUM(G5:G8) -> 813.33675 | H9: =SUM(H5:H8) -> 2326.5212 | I9: =SUM(I5:I8) -> 950.0919 | J9: =SUM(J5:K8) -> 1176.6177 | L9: =SUM(L5:L8) -> 2570.0242 | M9: =SUM(M5:M8) -> 2280.6914 | N9: =SUM(N5:N8) -> 8401.9885
A10: 6 | B10: 已包含在清单合计中的材料、工程设备、专业工程暂估价合计
A11: 7 | B11: 清单合计减去材料、工程设备、专业工程暂估价合计 | D11: =SUM(E11:N11) -> 20614.928 | E11: =E9 -> 2095.6568 | G11: =G9 -> 813.33675 | H11: =H9 -> 2326.5212 | I11: =I9 -> 950.0919 | J11: =J9 -> 1176.6177 | L11: =L9 -> 2570.0242 | M11: =M9 -> 2280.6914 | N11: =N9 -> 8401.9885
A12: 8 | B12: 计日工合计
A13: 9 | B13: 暂列金额（不含计日工总额）
A14: 10 | B14: 投标报价 | D14: =SUM(E14:N14) -> 20614.928 | E14: =E9 -> 2095.6568 | G14: =G9 -> 813.33675 | H14: =H9 -> 2326.5212 | I14: =I9 -> 950.0919 | J14: =J9 -> 1176.6177 | L14: =L9 -> 2570.0242 | M14: =M9 -> 2280.6914 | N14: =N9 -> 8401.9885

Sheet 后圩村堆房二组东西路
A1: 工程量清单表（招标）
A2: 合同段：后圩村堆房二组东西路 | F2: 标表2
A3: 清单 第100章 总则
A4: 子目号 | B4: 子目名称 | D4: 单位 | E4: 数量 | G4: 单价 | H4: 合价
A5: 101 | B5: 通则
A6: 101-1 | B6: 保险费
A7: -a | B7: 按合同条款规定，提供建筑工程一切险 | D7: 总额 | E7: 1 | H7: =G7*E7 -> 0
A8: -b | B8: 按合同条款规定，提供第三者责任险 | D8: 总额 | E8: 1 | H8: =G8*E8 -> 0
A9: 102 | B9: 工程管理
A10: 102-1 | B10: 竣工文件 | D10: 总额 | E10: 1 | H10: =G10*E10 -> 0
A11: 102-2 | B11: 施工环保费 | D11: 总额 | E11: 1 | H11: =G11*E11 -> 0
A12: 102-3 | B12: 安全生产费（投标按最高投标限价的1.5%计算） | D12: 总额 | E12: 1 | G12: =139710.45*0.015 -> 2095.6568 | H12: =G12*E12 -> 2095.6568
A13: 104 | B13: 承包人驻地建设
A14: 104-1 | B14: 承包人驻地建设 | D14: 总额 | E14: 1 | H14: =G14*E14 -> 0
A49: 清单 第100章 合计 | H49: =SUM(H7:H14) -> 2095.6568
F50: 清单 第 1 页 共 4 页
A51: 工程量清单表（招标）
A52: 合同段：后圩村堆房二组东西路 | F52: 标表2
A53: 清单 第200章 路基
A54: 子目号 | B54: 子目名称 | D54: 单位 | E54: 数量 | G54: 单价 | H54: 合价
A55: 202 | B55: 场地清理
A56: 202-1 | B56: 清理与掘除
A57: -a | B57: 清表，包含原道路表层所有内容的清理，含垃圾外运 | D57: m2 | E57: 1395 | H57: =G57*E57 -> 0
A58: -b | B58: 挖土方 原路面泥土、渣土、碎砖杂土等所有障碍物，部分路段需利用旧方回填等，包含可利用方现场堆方及场内转运，多余土方外运，路基整平等。施工单位自行勘探现场，综合考虑外运距离及利旧土方回填的费用。 | D58: m3 | E58: 459.42 | H58: =G58*E58 -> 0
A96: 清单 第200章 合计 | H96: =SUM(H57:H95) -> 0
F97: 清单 第 2 页 共 4 页
A98: 工程量清单表（招标）
A99: 合同段：后圩村堆房二组东西路 | F99: 标表2
A100: 清单 第300章 路面
A101: 子目号 | B101: 子目名称 | D101: 单位 | E101: 数量 | G101: 单价 | H101: 合价
A102: 302 | B102: 垫层
A103: 302-4 | B103: 石灰稳定土垫层
A104: -a | B104: 12%石灰稳定土基层，20cm厚，压实度≥92%，包含石灰消解、洒水养护的费用 | D104: m2 | E104: 1209 | H104: =G104*E104 -> 0
A105: 312 | B105: 水泥混凝土面板
A106: 312-1 | B106: 水泥混凝土面层（含模板、伸缩缝、养护、刻痕等所有费用）
A107: -a | B107: 18cm厚C30（抗弯拉强度≥4.0MPA）商品砼路面，道路长每4米锯缝一道，深6cm；道路每100米长做涨缝一道，宽6cm，缝内均用沥青填实，含模板、压纹、路面养生等 | D107: m2 | E107: 1085 | H107: =G107*E107 -> 0
A108: 313 | B108: 路肩培土回填土、土路肩加固
A109: 313-1 | B109: 路肩培土回填土、土路肩加固，每侧0.5m | D109: m3 | E109: 155 | H109: =G109*E109 -> 0
A143: 清单 第300章 合计 | H143: =SUM(H104:H109) -> 0
F144: 清单 第 3 页 共 4 页
...

Sheet 后圩村圩庄四组东西中心路
A1: 工程量清单表（招标）
A2: 合同段：后圩村圩庄四组东西中心路 | F2: 标表2
A3: 清单 第100章 总则
A4: 子目号 | B4: 子目名称 | D4: 单位 | E4: 数量 | G4: 单价 | H4: 合价
A5: 101 | B5: 通则
A6: 101-1 | B6: 保险费
A7: -a | B7: 按合同条款规定，提供建筑工程一切险 | D7: 总额 | E7: 1 | H7: =G7*E7 -> 0
A8: -b | B8: 按合同条款规定，提供第三者责任险 | D8: 总额 | E8: 1 | H8: =G8*E8 -> 0
A9: 102 | B9: 工程管理
A10: 102-1 | B10: 竣工文件 | D10: 总额 | E10: 1 | H10: =G10*E10 -> 0
A11: 102-2 | B11: 施工环保费 | D11: 总额 | E11: 1 | H11: =G11*E11 -> 0
A12: 102-3 | B12: 安全生产费（投标按最高投标限价的1.5%计算） | D12: 总额 | E12: 1 | G12: =54222.45*0.015 -> 813.33675 | H12: =G12*E12 -> 813.33675
A13: 104 | B13: 承包人驻地建设
A14: 104-1 | B14: 承包人驻地建设 | D14: 总额 | E14: 1 | H14: =G14*E14 -> 0
A49: 清单 第100章 合计 | H49: =SUM(H7:H14) -> 813.33675
F50: 清单 第 1 页 共 4 页
A51: 工程量清单表（招标）
A52: 合同段：后圩村圩庄四组东西中心路 | F52: 标表2
A53: 清单 第200章 路基
A54: 子目号 | B54: 子目名称 | D54: 单位 | E54: 数量 | G54: 单价 | H54: 合价
A55: 202 | B55: 场地清理
A56: 202-1 | B56: 清理与掘除
A57: -a | B57: 清表，包含原道路表层所有内容的清理，含垃圾外运 | D57: m2 | E57: 517.5 | H57: =G57*E57 -> 0
A58: -b | B58: 挖土方 原路面泥土、渣土、碎砖杂土等所有障碍物，部分路段需利用旧方回填等，包含可利用方现场堆方及场内转运，多余土方外运，路基整平等。施工单位自行勘探现场，综合考虑外运距离及利旧土方回填的费用。 | D58: m3 | E58: 170.43 | H58: =G58*E58 -> 0
A96: 清单 第200章 合计 | H96: =SUM(H57:H58) -> 0
F97: 清单 第 2 页 共 4 页
A98: 工程量清单表（招标）
A99: 合同段：后圩村圩庄四组东西中心路 | F99: 标表2
A100: 清单 第300章 路面
A101: 子目号 | B101: 子目名称 | D101: 单位 | E101: 数量 | G101: 单价 | H101: 合价
A102: 302 | B102: 垫层
A103: 302-4 | B103: 石灰稳定土垫层
A104: -a | B104: 12%石灰稳定土基层，20cm厚，压实度≥92%，包含石灰消解、洒水养护的费用 | D104: m2 | E104: 448.5 | H104: =G104*E104 -> 0
A105: 312 | B105: 水泥混凝土面板
A106: 312-1 | B106: 水泥混凝土面层（含模板、伸缩缝、养护、刻痕等所有费用）
A107: -a | B107: 18cm厚C30（抗弯拉强度≥4.0MPA）商品砼路面，道路长每4米锯缝一道，深6cm；道路每100米长做涨缝一道，宽6cm，缝内均用沥青填实，含模板、压纹、路面养生等 | D107: m2 | E107: 402.5 | H107: =G107*E107 -> 0
A108: 313 | B108: 路肩培土回填土、土路肩加固
A109: 313-1 | B109: 路肩培土回填土、土路肩加固，每侧0.5m | D109: m3 | E109: 57.5 | H109: =G109*E109 -> 0
A143: 清单 第300章 合计 | H143: =SUM(H104:H109) -> 0
F144: 清单 第 3 页 共 4 页
...

Sheet 后圩村圩庄八组中心东西路
A1: 工程量清单表（招标）
A2: 合同段：后圩村圩庄八组中心东西路 | F2: 标表2
A3: 清单 第100章 总则
A4: 子目号 | B4: 子目名称 | D4: 单位 | E4: 数量 | G4: 单价 | H4: 合价
A5: 101 | B5: 通则
A6: 101-1 | B6: 保险费
A7: -a | B7: 按合同条款规定，提供建筑工程一切险 | D7: 总额 | E7: 1 | H7: =E7*G7 -> 0
A8: -b | B8: 按合同条款规定，提供第三者责任险 | D8: 总额 | E8: 1
A9: 102 | B9: 工程管理
A10: 102-1 | B10: 竣工文件 | D10: 总额 | E10: 1 | H10: =E10*G10 -> 0
A11: 102-2 | B11: 施工环保费 | D11: 总额 | E11: 1 | H11: =E11*G11 -> 0
A12: 102-3 | B12: 安全生产费（投标按最高投标限价的1.5%计算） | D12: 总额 | E12: 1 | G12: =155101.41*0.015 -> 2326.5212 | H12: =E12*G12 -> 2326.5212
A13: 104 | B13: 承包人驻地建设
A14: 104-1 | B14: 承包人驻地建设 | D14: 总额 | E14: 1 | H14: =E14*G14 -> 0
A49: 清单 第100章 合计 | H49: =SUM(H7:H14) -> 2326.5212
F50: 清单 第 1 页 共 4 页
A51: 工程量清单表（招标）
A52: 合同段：后圩村圩庄八组中心东西路 | F52: 标表2
A53: 清单 第200章 路基
A54: 子目号 | B54: 子目名称 | D54: 单位 | E54: 数量 | G54: 单价 | H54: 合价
A55: 202 | B55: 场地清理
A56: 202-1 | B56: 清理与掘除
A57: -a | B57: 清表，包含原道路表层所有内容的清理，含垃圾外运 | D57: m2 | E57: 1552.5 | H57: =E57*G57 -> 0
A58: -b | B58: 挖土方 原路面泥土、渣土、碎砖杂土等所有障碍物，部分路段需利用旧方回填等，包含可利用方现场堆方及场内转运，多余土方外运，路基整平等。施工单位自行勘探现场，综合考虑外运距离及利旧土方回填的费用。 | D58: m3 | E58: 511.29 | H58: =E58*G58 -> 0
A96: 清单 第200章 合计 | H96: =SUM(H57:H58) -> 0
F97: 清单 第 2 页 共 4 页
A98: 工程量清单表（招标）
A99: 合同段：后圩村圩庄八组中心东西路 | F99: 标表2
A100: 清单 第300章 路面
A101: 子目号 | B101: 子目名称 | D101: 单位 | E101: 数量 | G101: 单价 | H101: 合价
A102: 302 | B102: 垫层
A103: 302-4 | B103: 石灰稳定土垫层
A104: -a | B104: 12%石灰稳定土基层，20cm厚，压实度≥92%，包含石灰消解、洒水养护的费用 | D104: m2 | E104: 1345.5 | H104: =E104*G104 -> 0
A105: 312 | B105: 水泥混凝土面板
A106: 312-1 | B106: 水泥混凝土面层（含模板、伸缩缝、养护、刻痕等所有费用）
A107: -a | B107: 18cm厚C30（抗弯拉强度≥4.0MPA）商品砼路面，道路长每4米锯缝一道，深6cm；道路每100米长做涨缝一道，宽6cm，缝内均用沥青填实，含模板、压纹、路面养生等 | D107: m2 | E107: 1207.5 | H107: =E107*G107 -> 0
A108: 313 | B108: 路肩培土回填土、土路肩加固
A109: 313-1 | B109: 路肩培土回填土、土路肩加固，每侧0.5m | D109: m3 | E109: 172.5 | H109: =E109*G109 -> 0
A143: 清单 第300章 合计 | H143: =SUM(H104:H109) -> 0
F144: 清单 第 3 页 共 4 页
...

Sheet 庙头社区五组庄里道路
A1: 工程量清单表（招标）
A2: 合同段：庙头社区五组庄里道路 | F2: 标表2
A3: 清单 第100章 总则
A4: 子目号 | B4: 子目名称 | D4: 单位 | E4: 数量 | G4: 单价 | H4: 合价
A5: 101 | B5: 通则
A6: 101-1 | B6: 保险费
A7: -a | B7: 按合同条款规定，提供建筑工程一切险 | D7: 总额 | E7: 1 | H7: =G7*E7 -> 0
A8: -b | B8: 按合同条款规定，提供第三者责任险 | D8: 总额 | E8: 1 | H8: =G8*E8 -> 0
A9: 102 | B9: 工程管理
A10: 102-1 | B10: 竣工文件 | D10: 总额 | E10: 1 | H10: =G10*E10 -> 0
A11: 102-2 | B11: 施工环保费 | D11: 总额 | E11: 1 | H11: =G11*E11 -> 0
A12: 102-3 | B12: 安全生产费（投标按最高投标限价的1.5%计算） | D12: 总额 | E12: 1 | G12: =63339.46*0.015 -> 950.0919 | H12: =G12*E12 -> 950.0919
A13: 104 | B13: 承包人驻地建设
A14: 104-1 | B14: 承包人驻地建设 | D14: 总额 | E14: 1 | H14: =G14*E14 -> 0
A49: 清单 第100章 合计 | H49: =SUM(H7:H14) -> 950.0919
F50: 清单 第 1 页 共 4 页
A51: 工程量清单表（招标）
A52: 合同段：庙头社区五组庄里道路 | F52: 标表2
A53: 清单 第200章 路基
A54: 子目号 | B54: 子目名称 | D54: 单位 | E54: 数量 | G54: 单价 | H54: 合价
A55: 202 | B55: 场地清理
A56: 202-1 | B56: 清理与掘除
A57: -a | B57: 原损坏道路挖除挖除 含原损坏路面切缝、拆除、碎砖杂土等所有障碍物，包括拆除完成后路基整平等所有内容，施工单位自行勘探现场，综合考虑外运距离以及残值抵扣的费用。 | D57: m2 | E57: 488 | H57: =G57*E57 -> 0
A58: -b | B58: 挖土方 原路面泥土、渣土、碎砖杂土等所有障碍物，部分路段需利用旧方回填等，包含可利用方现场堆方及场内转运，多余土方外运，路基整平等。施工单位自行勘探现场，综合考虑外运距离及利旧土方回填的费用。 | D58: m3 | E58: 97.6 | H58: =G58*E58 -> 0
A94: 清单 第200章 合计 | H94: =SUM(H57:H58) -> 0
F95: 清单 第 2 页 共 4 页
A96: 工程量清单表（招标）
A97: 合同段：庙头社区五组庄里道路 | F97: 标表2
A98: 清单 第300章 路面
A99: 子目号 | B99: 子目名称 | D99: 单位 | E99: 数量 | G99: 单价 | H99: 合价
A100: 302 | B100: 垫层
A101: 302-4 | B101: 石灰稳定土垫层
A102: -a | B102: 12%石灰稳定土基层，20cm厚，压实度≥92%，包含石灰消解、洒水养护的费用 | D102: m2 | E102: 488 | H102: =G102*E102 -> 0
A103: 312 | B103: 水泥混凝土面板
A104: 312-1 | B104: 水泥混凝土面层（含模板、伸缩缝、养护、刻痕等所有费用）
A105: -a | B105: 18cm厚C30（抗弯拉强度≥4.0MPA）商品砼路面，道路长每4米锯缝一道，深6cm；道路每100米长做涨缝一道，宽6cm，缝内均用沥青填实，含模板、压纹、路面养生等 | D105: m2 | E105: 488 | H105: =G105*E105 -> 0
A106: 313 | B106: 路肩培土回填土、土路肩加固
A107: 313-1 | B107: 路肩培土回填土、土路肩加固，每侧0.5m | D107: m3 | E107: 61 | H107: =G107*E107 -> 0
A141: 清单 第300章 合计 | H141: =SUM(H102:H107) -> 0
F142: 清单 第 3 页 共 4 页
...

Sheet 探驾村探驾街东南北水泥路
A1: 工程量清单表（招标）
A2: 合同段：探驾村探驾街东南北水泥路 | F2: 标表2
A3: 清单 第100章 总则
A4: 子目号 | B4: 子目名称 | D4: 单位 | E4: 数量 | G4: 单价 | H4: 合价
A5: 101 | B5: 通则
A6: 101-1 | B6: 保险费
A7: -a | B7: 按合同条款规定，提供建筑工程一切险 | D7: 总额 | E7: 1 | H7: =G7*E7 -> 0
A8: -b | B8: 按合同条款规定，提供第三者责任险 | D8: 总额 | E8: 1 | H8: =G8*E8 -> 0
A9: 102 | B9: 工程管理
A10: 102-1 | B10: 竣工文件 | D10: 总额 | E10: 1 | H10: =G10*E10 -> 0
A11: 102-2 | B11: 施工环保费 | D11: 总额 | E11: 1 | H11: =G11*E11 -> 0
A12: 102-3 | B12: 安全生产费（投标按最高投标限价的1.5%计算） | D12: 总额 | E12: 1 | G12: =78441.18*0.015 -> 1176.6177 | H12: =G12*E12 -> 1176.6177
A13: 104 | B13: 承包人驻地建设
A14: 104-1 | B14: 承包人驻地建设 | D14: 总额 | E14: 1 | H14: =G14*E14 -> 0
A49: 清单 第100章 合计 | H49: =SUM(H7:H14) -> 1176.6177
F50: 清单 第 1 页 共 4 页
A51: 工程量清单表（招标）
A52: 合同段：探驾村探驾街东南北水泥路 | F52: 标表2
A53: 清单 第200章 路基
A54: 子目号 | B54: 子目名称 | D54: 单位 | E54: 数量 | G54: 单价 | H54: 合价
A55: 202 | B55: 场地清理
A56: 202-1 | B56: 清理与掘除
A57: -a | B57: 清表，包含原道路表层所有内容的清理，含垃圾外运 | D57: m2 | E57: 750 | H57: =G57*E57 -> 0
A58: -b | B58: 挖土方 原路面泥土、渣土、碎砖杂土等所有障碍物，部分路段需利用旧方回填等，包含可利用方现场堆方及场内转运，多余土方外运，路基整平等。施工单位自行勘探现场，综合考虑外运距离及利旧土方回填的费用。 | D58: m3 | E58: 250.8 | H58: =G58*E58 -> 0
A96: 清单 第200章 合计 | H96: =SUM(H57:H58) -> 0
F97: 清单 第 2 页 共 4 页
A98: 工程量清单表（招标）
A99: 合同段：探驾村探驾街东南北水泥路 | F99: 标表2
A100: 清单 第300章 路面
A101: 子目号 | B101: 子目名称 | D101: 单位 | E101: 数量 | G101: 单价 | H101: 合价
A102: 302 | B102: 垫层
A103: 302-4 | B103: 石灰稳定土垫层
A104: -a | B104: 12%石灰稳定土基层，20cm厚，压实度≥92%，包含石灰消解、洒水养护的费用 | D104: m2 | E104: 660 | H104: =G104*E104 -> 0
A105: 312 | B105: 水泥混凝土面板
A106: 312-1 | B106: 水泥混凝土面层（含模板、伸缩缝、养护、刻痕等所有费用）
A107: -a | B107: 18cm厚C30（抗弯拉强度≥4.0MPA）商品砼路面，道路长每4米锯缝一道，深6cm；道路每100米长做涨缝一道，宽6cm，缝内均用沥青填实，含模板、压纹、路面养生等 | D107: m2 | E107: 600 | H107: =G107*E107 -> 0
A108: 313 | B108: 路肩培土回填土、土路肩加固
A109: 313-1 | B109: 路肩培土回填土、土路肩加固，每侧0.5m | D109: m3 | E109: 75 | H109: =G109*E109 -> 0
A143: 清单 第300章 合计 | H143: =SUM(H104:H109) -> 0
F144: 清单 第 3 页 共 4 页
...

Sheet 吕庄村一、二组中心路
A1: 工程量清单表（招标）
A2: 合同段：吕庄村一、二组中心路 | F2: 标表2
A3: 清单 第100章 总则
A4: 子目号 | B4: 子目名称 | D4: 单位 | E4: 数量 | G4: 单价 | H4: 合价
A5: 101 | B5: 通则
A6: 101-1 | B6: 保险费
A7: -a | B7: 按合同条款规定，提供建筑工程一切险 | D7: 总额 | E7: 1 | H7: =G7*E7 -> 0
A8: -b | B8: 按合同条款规定，提供第三者责任险 | D8: 总额 | E8: 1 | H8: =G8*E8 -> 0
A9: 102 | B9: 工程管理
A10: 102-1 | B10: 竣工文件 | D10: 总额 | E10: 1 | H10: =G10*E10 -> 0
A11: 102-2 | B11: 施工环保费 | D11: 总额 | E11: 1 | H11: =G11*E11 -> 0
A12: 102-3 | B12: 安全生产费（投标按最高投标限价的1.5%计算） | D12: 总额 | E12: 1 | G12: =171334.95*0.015 -> 2570.0242 | H12: =G12*E12 -> 2570.0242
A13: 104 | B13: 承包人驻地建设
A14: 104-1 | B14: 承包人驻地建设 | D14: 总额 | E14: 1 | H14: =G14*E14 -> 0
A49: 清单 第100章 合计 | H49: =SUM(H7:H14) -> 2570.0242
F50: 清单 第 1 页 共 4 页
A51: 工程量清单表（招标）
A52: 合同段：吕庄村一、二组中心路 | F52: 标表2
A53: 清单 第200章 路基
A54: 子目号 | B54: 子目名称 | D54: 单位 | E54: 数量 | G54: 单价 | H54: 合价
A55: 202 | B55: 场地清理
A56: 202-1 | B56: 清理与掘除
A57: -a | B57: 清表，包含原道路表层所有内容的清理，含垃圾外运 | D57: m2 | E57: 1768 | H57: =G57*E57 -> 0
A58: -b | B58: 挖土方 原路面泥土、渣土、碎砖杂土等所有障碍物，部分路段需利用旧方回填等，包含可利用方现场堆方及场内转运，多余土方外运，路基整平等。施工单位自行勘探现场，综合考虑外运距离及利旧土方回填的费用。 | D58: m3 | E58: 571.064 | H58: =G58*E58 -> 0
A96: 清单 第200章 合计 | H96: =SUM(H57:H58) -> 0
F97: 清单 第 2 页 共 4 页
A98: 工程量清单表（招标）
A99: 合同段：吕庄村一、二组中心路 | F99: 标表2
A100: 清单 第300章 路面
A101: 子目号 | B101: 子目名称 | D101: 单位 | E101: 数量 | G101: 单价 | H101: 合价
A102: 302 | B102: 垫层
A103: 302-4 | B103: 石灰稳定土垫层
A104: -a | B104: 12%石灰稳定土基层，20cm厚，压实度≥92%，包含石灰消解、洒水养护的费用 | D104: m2 | E104: 1502.8 | H104: =G104*E104 -> 0
A105: 312 | B105: 水泥混凝土面板
A106: 312-1 | B106: 水泥混凝土面层（含模板、伸缩缝、养护、刻痕等所有费用）
A107: -a | B107: 18cm厚C30（抗弯拉强度≥4.0MPA）商品砼路面，道路长每4米锯缝一道，深6cm；道路每100米长做涨缝一道，宽6cm，缝内均用沥青填实，含模板、压纹、路面养生等 | D107: m2 | E107: 1326 | H107: =G107*E107 -> 0
A108: 313 | B108: 路肩培土回填土、土路肩加固
A109: 313-1 | B109: 路肩培土回填土、土路肩加固，每侧0.5m | D109: m3 | E109: 221 | H109: =G109*E109 -> 0
A143: 清单 第300章 合计 | H143: =SUM(H104:H109) -> 0
F144: 清单 第 3 页 共 4 页
...

Sheet 赶埠村四五组中心路
A1: 工程量清单表（招标）
A2: 合同段：赶埠村四五组中心路 | F2: 标表2
A3: 清单 第100章 总则
A4: 子目号 | B4: 子目名称 | D4: 单位 | E4: 数量 | G4: 单价 | H4: 合价
A5: 101 | B5: 通则
A6: 101-1 | B6: 保险费
A7: -a | B7: 按合同条款规定，提供建筑工程一切险 | D7: 总额 | E7: 1 | H7: =G7*E7 -> 0
A8: -b | B8: 按合同条款规定，提供第三者责任险 | D8: 总额 | E8: 1 | H8: =G8*E8 -> 0
A9: 102 | B9: 工程管理
A10: 102-1 | B10: 竣工文件 | D10: 总额 | E10: 1 | H10: =G10*E10 -> 0
A11: 102-2 | B11: 施工环保费 | D11: 总额 | E11: 1 | H11: =G11*E11 -> 0
A12: 102-3 | B12: 安全生产费（投标按最高投标限价的1.5%计算） | D12: 总额 | E12: 1 | G12: =152046.09*0.015 -> 2280.6914 | H12: =G12*E12 -> 2280.6914
A13: 104 | B13: 承包人驻地建设
A14: 104-1 | B14: 承包人驻地建设 | D14: 总额 | E14: 1 | H14: =G14*E14 -> 0
A49: 清单 第100章 合计 | H49: =SUM(H7:H14) -> 2280.6914
F50: 清单 第 1 页 共 4 页
A51: 工程量清单表（招标）
A52: 合同段：赶埠村四五组中心路 | F52: 标表2
A53: 清单 第200章 路基
A54: 子目号 | B54: 子目名称 | D54: 单位 | E54: 数量 | G54: 单价 | H54: 合价
A55: 202 | B55: 场地清理
A56: 202-1 | B56: 清理与掘除
A57: -a | B57: 清表，包含原道路表层所有内容的清理，含垃圾外运 | D57: m2 | E57: 1521 | H57: =G57*E57 -> 0
A58: -b | B58: 挖土方 原路面泥土、渣土、碎砖杂土等所有障碍物，部分路段需利用旧方回填等，包含可利用方现场堆方及场内转运，多余土方外运，路基整平等。施工单位自行勘探现场，综合考虑外运距离及利旧土方回填的费用。 | D58: m3 | E58: 500.916 | H58: =G58*E58 -> 0
A96: 清单 第200章 合计 | H96: =SUM(H57:H58) -> 0
F97: 清单 第 2 页 共 4 页
A98: 工程量清单表（招标）
A99: 合同段：赶埠村四五组中心路 | F99: 标表2
A100: 清单 第300章 路面
A101: 子目号 | B101: 子目名称 | D101: 单位 | E101: 数量 | G101: 单价 | H101: 合价
A102: 302 | B102: 垫层
A103: 302-4 | B103: 石灰稳定土垫层
A104: -a | B104: 12%石灰稳定土基层，20cm厚，压实度≥92%，包含石灰消解、洒水养护的费用 | D104: m2 | E104: 1318.2 | H104: =G104*E104 -> 0
A105: 312 | B105: 水泥混凝土面板
A106: 312-1 | B106: 水泥混凝土面层（含模板、伸缩缝、养护、刻痕等所有费用）
A107: -a | B107: 18cm厚C30（抗弯拉强度≥4.0MPA）商品砼路面，道路长每4米锯缝一道，深6cm；道路每100米长做涨缝一道，宽6cm，缝内均用沥青填实，含模板、压纹、路面养生等 | D107: m2 | E107: 1183 | H107: =G107*E107 -> 0
A108: 313 | B108: 路肩培土回填土、土路肩加固
A109: 313-1 | B109: 路肩培土回填土、土路肩加固，每侧0.5m | D109: m3 | E109: 169 | H109: =G109*E109 -> 0
A143: 清单 第300章 合计 | H143: =SUM(H104:H109) -> 0
F144: 清单 第 3 页 共 4 页
...

Sheet 长探村庄后路
A1: 工程量清单表（招标）
A2: 合同段：长探村庄后路 | F2: 标表2
A3: 清单 第100章 总则
A4: 子目号 | B4: 子目名称 | D4: 单位 | E4: 数量 | G4: 单价 | H4: 合价
A5: 101 | B5: 通则
A6: 101-1 | B6: 保险费
A7: -a | B7: 按合同条款规定，提供建筑工程一切险 | D7: 总额 | E7: 1 | H7: =G7*E7 -> 0
A8: -b | B8: 按合同条款规定，提供第三者责任险 | D8: 总额 | E8: 1 | H8: =G8*E8 -> 0
A9: 102 | B9: 工程管理
A10: 102-1 | B10: 竣工文件 | D10: 总额 | E10: 1 | H10: =G10*E10 -> 0
A11: 102-2 | B11: 施工环保费 | D11: 总额 | E11: 1 | H11: =G11*E11 -> 0
A12: 102-3 | B12: 安全生产费（投标按最高投标限价的1.5%计算） | D12: 总额 | E12: 1 | G12: =560132.57*0.015 -> 8401.9885 | H12: =G12*E12 -> 8401.9885
A13: 104 | B13: 承包人驻地建设
A14: 104-1 | B14: 承包人驻地建设 | D14: 总额 | E14: 1 | H14: =G14*E14 -> 0
A49: 清单 第100章 合计 | H49: =SUM(H7:H14) -> 8401.9885
F50: 清单 第 1 页 共 4 页
A51: 工程量清单表（招标）
A52: 合同段：长探村庄后路 | F52: 标表2
A53: 清单 第200章 路基
A54: 子目号 | B54: 子目名称 | D54: 单位 | E54: 数量 | G54: 单价 | H54: 合价
A55: 202 | B55: 场地清理
A56: 202-1 | B56: 清理与掘除
A57: -a | B57: 清表，包含原道路表层所有内容的清理，含垃圾外运 | D57: m2 | E57: 5580 | H57: =G57*E57 -> 0
A58: -b | B58: 挖土方 原路面泥土、渣土、碎砖杂土等所有障碍物，部分路段需利用旧方回填等，包含可利用方现场堆方及场内转运，多余土方外运，路基整平等。施工单位自行勘探现场，综合考虑外运距离及利旧土方回填的费用。 | D58: m3 | E58: 1865.952 | H58: =G58*E58 -> 0
A96: 清单 第200章 合计 | H96: =SUM(H57:H58) -> 0
F97: 清单 第 2 页 共 4 页
A98: 工程量清单表（招标）
A99: 合同段：长探村庄后路 | F99: 标表2
A100: 清单 第300章 路面
A101: 子目号 | B101: 子目名称 | D101: 单位 | E101: 数量 | G101: 单价 | H101: 合价
A102: 302 | B102: 垫层
A103: 302-4 | B103: 石灰稳定土垫层
A104: -a | B104: 12%石灰稳定土基层，20cm厚，压实度≥92%，包含石灰消解、洒水养护的费用 | D104: m2 | E104: 4910.4 | H104: =G104*E104 -> 0
A105: 312 | B105: 水泥混凝土面板
A106: 312-1 | B106: 水泥混凝土面层（含模板、伸缩缝、养护、刻痕等所有费用）
A107: -a | B107: 18cm厚C30（抗弯拉强度≥4.0MPA）商品砼路面，道路长每4米锯缝一道，深6cm；道路每100米长做涨缝一道，宽6cm，缝内均用沥青填实，含模板、压纹、路面养生等 | D107: m2 | E107: 4464 | H107: =G107*E107 -> 0
A108: 313 | B108: 路肩培土回填土、土路肩加固
A109: 313-1 | B109: 路肩培土回填土、土路肩加固，每侧0.5m | D109: m3 | E109: 558 | H109: =G109*E109 -> 0
A143: 清单 第300章 合计 | H143: =SUM(H104:H109) -> 0
F144: 清单 第 3 页 共 4 页
...
