Workbook

Sheet 表C.3.1 投标总价扉页
A2: 工程名称： | D2: =编制说明1!A2 -> 沭阳县耿圩镇2026年度村级公益事业一事一议财政奖补项目分包二
B3: 投标总价
B4: 投标总价（小写）： | E4: ='【标表1】投标报价汇总表_(2018范本)（招标）'!F41 -> 15044.37
B5: （大写）： | E5: =E4 -> 15044.37
B7: 投 标 人 | C7: ： | F7: (盖章）
B8: 法定代表人 或其授权人 | C8: ： | F8: (签字或盖章）
B9: 编 制 人 | C9: ： | F9: (签字及盖章)
B10: 编 制 时 间 | C10: ：

Sheet 编制说明1
A1: 编制说明
A2: 沭阳县耿圩镇2026年度村级公益事业一事一议财政奖补项目分包二
A3: 一、工程概况： 本项目位于沭阳县耿圩镇，具体内容详见工程量清单。 二、编制依据： 1、招标文件、建设单位的相关计算口径要求。 2、交办公路[2016]66号文件、苏交建[2019]22号文件、业主要求及现场踏勘情况。 3、2018公路定额及相关计价规范及其他相关造价文件。 4、2026年第8期《宿迁工程造价管理》信息价及市场价。 5、本工程常规的施工组织设计、与本工程有关的其他相关规定规范。 三、工程量清单说明： 1、本工程量清单是根据招标文件中包括的、工程量清单的国家标准、行业标准、合同条款中约定的工程量计算规则编制。约定计量规则中没有的子目，其工程量按照有合同约束力的图纸所标示尺寸的理论净量计算。计量采用中华人民共和国法定计量单位。 2、本工程量清单应与招标文件中的投标人须知、通用合同条款、专用合同条款、技术规范及图纸等一起阅读和理解。 3、本工程量清单中所列工程数量是估算的或设计的预计数量，仅作为投标报价的共同基础，不能作为最终结算与支付的依据。实际支付应按实际完成的工程量，由承包人按技术规范规定的计量方法，以监理人认可的尺寸、断面计量，按本工程量清单的单价和总额价计算支付金额。 4、工程量清单各章是按“交公路发［2017］51号文件”中各章“技术规范”的相应章次编号的，因此，工程量清单中各章的工程子目的范围与计量等应与“技术规范”相应章节的范围、计量与支付条款结合起来理解或解释。 5、对作业和材料的—般说明或规定，未重复写入工程量清单内，在给工程量清单各子目标价前，应参阅“交公路发［2017］51号文件”中第七章“技术规范”的有关内容。 6、工程量清单中所列工程量的变动，丝毫不会降低或影响合同条款的效力，也不免除承包人按规定的标准进行施工和修复缺陷的责任。 四、工程量清单投标报价说明： 1、工程量清单中标价的单价或金额，应包括所需人工费、材料费、施工机械使用费、其他费（运杂费、质检费、安装费、缺陷修复费、保险费、以及合同明示或暗示的风险、责任、义务等），以及管理费、利润、税金等； 2、工程量清单中的每一子目须填入单价或价格，且只允许有一个报价； 3、除非合同另有规定，工程量清单中有标价的单价和总额价均已包括了为实施和完成合同工程所需的劳务、材料、机械、管理、税费、利润、其他（质检（自检）、安装、缺陷修复、保险等费用，以及合同明示或暗示的所有责任、义务和一般风险）； 4、工程量清单中投标人没有填入单价或价格的子目，其费用视为己分摊在工程量清单中其他相关子目的单价或价格之中。承包人必须按监理人指令完成工程 5、符合合同条款规定的全部费用应认为已被计入有标价的工程量清单所列各子目之中，未列子目不予计量的工作，其费用应视为已分摊在本合同工程的有关子目的单价或总额价之中；

Sheet 【标表1】投标报价汇总表_(2018范本)（招标）
A1: 投标报价汇总表
A2: 合同段：沭阳县耿圩镇2026年度村级公益事业一事一议财政奖补项目分包二 | E2: 标表1
A3: 序号 | B3: 章次 | C3: 科目名称 | F3: 金额（元）
A4: 1 | B4: 100 | C4: 总则 | F4: ='【标表2-1】工程量清单表（招标）'!H46 -> 15044.37
A5: 2 | B5: 200 | C5: 路基（管桥村管一二路） | F5: ='【标表2-1】工程量清单表（招标）'!H90 -> 0
A6: 3 | B6: 200 | C6: 路基（管桥村管二路） | F6: ='【标表2-1】工程量清单表（招标）'!H134 -> 0
A7: 4 | B7: 200 | C7: 路基（管桥村管中路） | F7: ='【标表2-1】工程量清单表（招标）'!H178 -> 0
A8: 5 | B8: 200 | C8: 路基（管桥村缪李路） | F8: ='【标表2-1】工程量清单表（招标）'!H222 -> 0
A9: 6 | B9: 200 | C9: 路基（管桥村许庄路） | F9: ='【标表2-1】工程量清单表（招标）'!H266 -> 0
A10: 7 | B10: 200 | C10: 路基（管桥村小街路） | F10: ='【标表2-1】工程量清单表（招标）'!H310 -> 0
A11: 8 | B11: 200 | C11: 路基 （周庙村郑庄东西路） | F11: ='【标表2-1】工程量清单表（招标）'!H354 -> 0
A12: 9 | B12: 200 | C12: 路基 （周庙村金庄路延伸） | F12: ='【标表2-1】工程量清单表（招标）'!H398 -> 0
A13: 10 | B13: 300 | C13: 路面（管桥村管一二路） | F13: ='【标表2-1】工程量清单表（招标）'!H442 -> 0
A14: 11 | B14: 300 | C14: 路面（管桥村管二路） | F14: ='【标表2-1】工程量清单表（招标）'!H486 -> 0
A15: 12 | B15: 300 | C15: 路面（管桥村管中路） | F15: ='【标表2-1】工程量清单表（招标）'!H530 -> 0
A16: 13 | B16: 300 | C16: 路面（管桥村缪李路） | F16: ='【标表2-1】工程量清单表（招标）'!H574 -> 0
A17: 14 | B17: 300 | C17: 路面（管桥村许庄路） | F17: ='【标表2-1】工程量清单表（招标）'!H618 -> 0
A18: 15 | B18: 300 | C18: 路面（管桥村小街路） | F18: ='【标表2-1】工程量清单表（招标）'!H662 -> 0
A19: 16 | B19: 300 | C19: 路面 （周庙村郑庄东西路） | F19: ='【标表2-1】工程量清单表（招标）'!H706 -> 0
A20: 17 | B20: 300 | C20: 路面 （周庙村金庄路延伸） | F20: ='【标表2-1】工程量清单表（招标）'!H750 -> 0
A21: 18 | B21: 400 | C21: 桥梁、涵洞（管桥村管一二路） | F21: ='【标表2-1】工程量清单表（招标）'!H795 -> 0
A22: 19 | B22: 400 | C22: 桥梁、涵洞（管桥村管二路） | F22: ='【标表2-1】工程量清单表（招标）'!H840 -> 0
A23: 20 | B23: 400 | C23: 桥梁、涵洞（管桥村管中路） | F23: ='【标表2-1】工程量清单表（招标）'!H881 -> 0
A24: 21 | B24: 400 | C24: 桥梁、涵洞（管桥村缪李路） | F24: ='【标表2-1】工程量清单表（招标）'!H918 -> 0
A25: 22 | B25: 400 | C25: 桥梁、涵洞（管桥村许庄路） | F25: ='【标表2-1】工程量清单表（招标）'!H963 -> 0
A26: 23 | B26: 400 | C26: 桥梁、涵洞（管桥村小街路） | F26: ='【标表2-1】工程量清单表（招标）'!H1008 -> 0
A27: 24 | B27: 400 | C27: 桥梁、涵洞（周庙村郑庄路） | F27: ='【标表2-1】工程量清单表（招标）'!H1049 -> 0
A28: 25 | B28: 600 | C28: 安全设施及预埋管线（管桥村管一二路） | F28: ='【标表2-1】工程量清单表（招标）'!H1094 -> 0
A29: 26 | B29: 600 | C29: 安全设施及预埋管线（管桥村管二路） | F29: ='【标表2-1】工程量清单表（招标）'!H1139 -> 0
A30: 27 | B30: 600 | C30: 安全设施及预埋管线（管桥村管中路） | F30: ='【标表2-1】工程量清单表（招标）'!H1184 -> 0
A31: 28 | B31: 600 | C31: 安全设施及预埋管线（管桥村缪李路） | F31: ='【标表2-1】工程量清单表（招标）'!H1229 -> 0
A32: 29 | B32: 600 | C32: 安全设施及预埋管线（管桥村许庄路） | F32: ='【标表2-1】工程量清单表（招标）'!H1274 -> 0
A33: 30 | B33: 600 | C33: 安全设施及预埋管线 （管桥村小街路） | F33: ='【标表2-1】工程量清单表（招标）'!H1319 -> 0
A34: 31 | B34: 600 | C34: 安全设施及预埋管线（周庙村郑庄东西路） | F34: ='【标表2-1】工程量清单表（招标）'!H1364 -> 0
A35: 32 | B35: 600 | C35: 安全设施及预埋管线 （周庙村金庄路延伸） | F35: ='【标表2-1】工程量清单表（招标）'!H1409 -> 0
A36: 33 | B36: 第100章至第700章合计 | F36: =SUM(F4:F35) -> 15044.37
A37: 34 | B37: 已包含在清单合计中的材料、工程设备、专业工程暂估价合计
A38: 35 | B38: 清单合计减去材料、工程设备、专业工程暂估价合计
A39: 36 | B39: 计日工合计
A40: 37 | B40: 暂列金额（不含计日工总额）
...

Sheet 【标表2-1】工程量清单表（招标）
A1: 工程量清单表
A2: 合同段：沭阳县耿圩镇2026年度村级公益事业一事一议财政奖补项目分包二 | F2: 标表2
A3: 第100章 总则
A4: 子目号 | B4: 子目名称 | D4: 单位 | E4: 数量 | G4: 单价 | H4: 合价
A5: 101 | B5: 通则
A6: 101-1 | B6: 保险费
A7: -a | B7: 按合同条款规定，提供建筑工程一切险 | D7: 总额 | E7: 1 | H7: =E7*G7 -> 0
A8: -b | B8: 按合同条款规定，提供第三者责任险 | D8: 总额 | E8: 1 | H8: =E8*G8 -> 0
A9: 102 | B9: 工程管理
A10: 102-1 | B10: 竣工文件 | D10: 总额 | E10: 1 | H10: =E10*G10 -> 0
A11: 102-2 | B11: 施工环保费(含扬尘污染防治费) | D11: 总额 | E11: 1 | H11: =E11*G11 -> 0
A12: 102-3 | B12: 安全生产费（不低于最高投标限价的1.5%） | D12: 总额 | E12: 1 | G12: 15044.37 | H12: =E12*G12 -> 15044.37
A13: 104 | B13: 承包人驻地建设
A14: 104-1 | B14: 承包人驻地建设 | D14: 总额 | E14: 1 | H14: =E14*G14 -> 0
A46: 第100章 合计 人民币 元 | H46: =SUM(H7:H45) -> 15044.37
F47: 清单 第 1 页 共 32 页
A48: 工程量清单表
A49: 合同段：沭阳县耿圩镇2026年度村级公益事业一事一议财政奖补项目分包二 | F49: 标表2
A50: 第200章 路基（管桥村管一二路）
A51: 子目号 | B51: 子目名称 | D51: 单位 | E51: 数量 | G51: 单价 | H51: 合价
A52: 202 | B52: 场地清理
A53: 202-1 | B53: 清理与掘除
A54: -a | B54: 清理现场（清除现场原有路面表土20cm以内，场地整平、树根及杂草、原砼路面拆除，渣土石子等老路面挖除，碍障物移处，按业主要求，清理垃圾并外运，运距自行考虑，确保路面完成标高与搭接路面平顺连接，投标人自行勘查现场综合考虑报价） | D54: m2 | E54: 1665 | H54: =E54*G54 -> 0
A90: 第200章 合计 人民币 元 | H90: =SUM(H54:H89) -> 0
F91: 清单 第 2 页 共 32 页
A92: 工程量清单表
A93: 合同段：沭阳县耿圩镇2026年度村级公益事业一事一议财政奖补项目分包二 | F93: 标表2
A94: 第200章 路基（管桥村管二路）
A95: 子目号 | B95: 子目名称 | D95: 单位 | E95: 数量 | G95: 单价 | H95: 合价
A96: 202 | B96: 场地清理
A97: 202-1 | B97: 清理与掘除
A98: -a | B98: 清理现场（清除现场原有路面表土20cm以内，场地整平、树根及杂草、原砼路面拆除，渣土石子等老路面挖除，碍障物移处，按业主要求，清理垃圾并外运，运距自行考虑，确保路面完成标高与搭接路面平顺连接，投标人自行勘查现场综合考虑报价） | D98: m2 | E98: 720 | H98: =E98*G98 -> 0
A134: 第200章 合计 人民币 元 | H134: =SUM(H98:H133) -> 0
F135: 清单 第 3 页 共 32 页
A136: 工程量清单表
A137: 合同段：沭阳县耿圩镇2026年度村级公益事业一事一议财政奖补项目分包二 | F137: 标表2
A138: 第200章 路基（管桥村管中路）
A139: 子目号 | B139: 子目名称 | D139: 单位 | E139: 数量 | G139: 单价 | H139: 合价
A140: 202 | B140: 场地清理
A141: 202-1 | B141: 清理与掘除
...
