Workbook

Sheet 包一 实验室一般设备
A1: 洛社实验初级中学实验室及相关专用教室设备添置采购项目
A2: 包一：实验室一般设备采购清单汇总表
A3: 序号 | B3: 位置 | C3: 名称 | D3: 单位 | E3: 数量
A4: 1 | B4: 教学楼 一层 | C4: =一层!D2 -> 1.通风化学实验室 | D4: 间 | E4: 2
A5: 2 | C5: =一层!D26 -> 2.生化智慧云实验室 | D5: 间 | E5: 1
A6: 3 | C6: =一层!D67 -> 3.化学创新实验室 | D6: 间 | E6: 1
A7: 4 | C7: =一层!A105 -> 4.化学准备室 | D7: 间 | E7: 1
A8: 5 | C8: =一层!A119 -> 5.化学药品室 | D8: 间 | E8: 1
A9: 6 | C9: =一层!A130 -> 6.化学危化品室 | D9: 间 | E9: 1
A10: 7 | C10: =一层!A148 -> 7.化学仪器室 | D10: 间 | E10: 1
A11: 8 | B11: 教学楼 二层 | C11: =二层!A3 -> 8.生物实验室1 | D11: 间 | E11: 1
A12: 9 | C12: =二层!A10 -> 9.生物实验室2 | D12: 间 | E12: 1
A13: 10 | C13: =二层!A17 -> 10.生物创新实验室1 | D13: 间 | E13: 1
A14: 11 | C14: =二层!A45 -> 11.生物创新实验室2 | D14: 间 | E14: 1
A15: 12 | C15: =二层!A73 -> 12.生物准备室 | D15: 间 | E15: 1
A16: 13 | C16: =二层!A79 -> 13.生物仪器室 | D16: 间 | E16: 1
A17: 14 | C17: =二层!A81 -> 14.物理创新实验室1 | D17: 间 | E17: 1
A18: 15 | C18: =二层!A98 -> 15.物理准备室1 | D18: 间 | E18: 1
A19: 16 | B19: 三层 | C19: =三层!A3 -> 16.物理创新实验室2 | D19: 间 | E19: 1
A20: 17 | C20: =三层!A20 -> 17.物理力学实验室 | D20: 间 | E20: 1
A21: 18 | C21: =三层!A26 -> 18.物理电学实验室 | D21: 间 | E21: 1
A22: 19 | C22: =三层!A32 -> 19.物理智慧云实验室（兼数字化探究实验室） | D22: 间 | E22: 1
A23: 20 | C23: =三层!A51 -> 20.物理准备室2 | D23: 间 | E23: 1
A24: 21 | C24: =三层!A59 -> 21.物理仪器室 | D24: 间 | E24: 1
A25: 22 | B25: 四层 | C25: =[1]四层!A3 -> 22.科创中心 | D25: 间 | E25: 1
A26: 23 | C26: =[1]四层!A44 -> 23.STEAM创客中心 | D26: 间 | E26: 1
A27: 24 | C27: =[1]四层!A72 -> 24.史地教室 | D27: 间 | E27: 1
A28: 25 | C28: =[1]四层!A130 -> 25.器材储藏室 | D28: 间 | E28: 1
A29: 26 | B29: 五层 | C29: =五层!A3 -> 26.音乐教室1 | D29: 间 | E29: 1
A30: 27 | C30: =五层!A6 -> 27.音乐教室2 | D30: 间 | E30: 1
A31: 28 | C31: =五层!A9 -> 28.音乐教室3 | D31: 间 | E31: 1
A32: 29 | C32: =五层!A12 -> 29.音乐器材室 | D32: 间 | E32: 1
A33: 30 | C33: =五层!A14 -> 30.美术教室1 | D33: 间 | E33: 1
A34: 31 | C34: =五层!A19 -> 31.美术教室2 | D34: 间 | E34: 1
A35: 32 | C35: =五层!A24 -> 32.书法教室 | D35: 间 | E35: 1
A36: 33 | C36: =五层!A29 -> 33.美术准备室 | D36: 间 | E36: 1
A37: 34 | B37: 1~5层 | C37: 系统调试 | D37: 项 | E37: 1
A38: 35 | B38: 1~5层 | C38: 耗材及附件 | D38: 项 | E38: 1
A39: 注：（1）本项目清单所列产品凡依据相关法规及行业标准须具备3C认证或节能产品认证的，不论表格备注栏是否标注相关要求，投标供应商均须在投标文件中自行填报并提交完整有效的认证材料。 （2）如本项目所投整机产品不在《强制性产品认证目录》范围内，则无需提供整机3C认证证书；但针对其组成部件中属于3C认证目录范围内的外购配件，投标供应商须在投标时提供承诺函，承诺在项目履约验收前，向采购人提供所有涉及3C认证零部件的有效3C认证证书，确保所有部件符合国家强制性安全标准，满足出厂、上市销售的条件。若中标供应商的所投产品最终无法满足出厂、上市销售的条件，将不予通过验收，采购人将追究其违约责任。 （3）采购清单中列明的“规格/mm”根据本项目的采购需求拟定，投标供应商提供的产品如有尺寸偏差，需满足GB/T 24820-2024《实验室家具通用技术条件》的相应规定；其中学生实验桌、教师实验台叠加执行 T/ZZB 1860—2025《中小学实验桌》的相应规定；金属柜体、木质柜体分别匹配 GB/T 3324-2024《木家具通用技术条件》、GB/T 3325-2024《金属家具通用技术条件》的相应规定。 （4）本采购包中提供的符合本国产品标准的产品成本之和占该采购包提供的全部产品成本之和的比例为 %

Sheet 一层
A1: 编号 | B1: 名称 | C1: 尺寸规格 | D1: 技术参数 | E1: 单位 | F1: 数量 | G1: 单价 | H1: 合计 | I1: 所投品牌
D2: 1.通风化学实验室
A3: 1 | B3: ◆教师演示讲台 | C3: 2400×700×850mm | D3: 1.规格：2400mm×700mm×850mm 2.台面：采用厚度≥12.7mm实心理化板台面。 3.柜体：采用厚度为0.8—1.0mm冷轧钢板，采用二氧化碳保护焊焊接，边缘打磨处理，表面经酸洗、磷化及环氧树脂户外粉静电喷涂，具备较强的耐酸碱防护能力；整体讲台由多个独立的柜体组合而成，柜体中预留教师主控电源、电脑键盘、水槽安装等位置；中间三个柜体为正面单开门，两侧柜子为侧面双开门，优化物品摆放空间。 4.拉手：在柜门或抽屉正面上方处一体折弯而成，外观整体流畅，造型独特美观； 5.防撞胶垫：装于抽屉及门板内侧，减缓碰撞，保护柜体； 6.门板及抽面：采用双层钢板，必须两层组装式设计，保证两层双面都经过喷涂处理，保证门板和抽面具备较强硬度，不轻易出现凹陷； 7.铰链：采用具有缓冲功能的耐腐蚀铰链，开合十万次不变形。 8.滑轨：三节重型滚珠滑轨，承重性强，滑动性能良好，无噪音； 9.固定桌脚：采用柜体内置可调PP塑料调整脚，保证调整脚前后都可以调节高低。 10.▲依据GB/T 1741-2020《漆膜耐霉菌测定法》检测耐霉菌性能：黑曲霉、黄曲霉、宛氏拟青霉、出芽短梗霉、绿色木霉检测均为不低于2级； 11.▲依据QB/T 4371-2012《家具抗菌性能的评价》检测大肠埃希氏菌（大肠杆菌）、金黄色葡萄球菌，两种菌种抑菌率均≥90%； 12.▲依据GB/T 17657-2022《人造板及饰面人造板理化性能试验方法》表面耐划痕性能：2.0N载荷下仅存在不连续划痕、轻微划痕痕迹或未见划痕，4.0N载荷出现≥90%连续双圈清晰划痕，耐划痕等级达到3级。 | E3: 张 | F3: =1*2 -> 2
A4: 2 | B4: 实验室专用水槽 | C4: 440×330×190mm | D4: 1.规格：440mm×330mm×190mm 2.采用实验室专用高密度PP一体化成型水槽。 | E4: 只 | F4: =1*2 -> 2
A5: 3 | B5: 三联高低位龙头 | C5: 三联 | D5: 1.高教三联水嘴，高度670mm。 2.材质：主体采用ø22mm×2.3mm的59-1及以上黄铜制造。进水管采用ø22mm×1.3mm管径的304及以上不锈钢制造；出水管采用ø15mm×1mm管径的304及以上不锈钢制造。 3.涂层：涂层经亚光环氧树脂耐酸碱粉末涂料热固处理，耐腐蚀、耐热，防紫外线辐射。 4.陶瓷阀芯：可90°旋转，使用寿命开关要求达到20万次，静态最大耐压10bar，符合GB18145-2014标准。 5.开关旋钮：采用高密度PP，人体工学设计，手感舒适。 | E5: 套 | F5: =1*2 -> 2
A6: 4 | B6: 实验室专用洗眼器 | C6: 单眼 | D6: 洗眼喷头：采用不助燃材质模铸一体成形制作，具有过滤泡棉及防尘功能，可降低突然打开时短暂的高水压，避免冲伤眼睛。 | E6: 付 | F6: =1*2 -> 2
A7: 5 | B7: ◆学生实验桌 | C7: 1200×600×780mm | D7: 1.尺寸：1200mm×600mm×780mm 2.台面材料：采用厚度≥20mm陶瓷台面 3.采用新型塑铝结构，整体桌脚呈Z字造型，倾斜式桌腿立柱设计，学生位镂空式设计，符合人体工程学设计。书包斗采用整体PP塑料一次性注塑成型，规格440mm×260mm×160mm，书包斗带有横竖向加强筋整体加厚设计，并且带有横竖向透气孔，中间设挂凳卡，挂凳处加厚设计防止实验凳掉落损坏桌斗。两个书包斗中间设有一个翻盖式电源盒，电源盒尺寸为300mm×285mm×150mm。电源盒采用ABS工程塑料注塑成型，耐老化不导电，电源盒采用三副注塑模具组合而成，盒子内部后方预留电线走线孔位。 4.桌脚采用三段式高强度铝合金结构，上部铸铝脚尺寸为570mm×55mm×95mm，下部铸铝脚尺寸为545mm×57mm×125mm，中立柱采用100mm×46mm×1.5mm厚承重型铝合金型材，采用倾斜式设计，立柱外侧配有装饰线条增加美观性。上下脚采用铝合金一次压铸成型，上下脚的壁厚度≥2.5mm，连接处壁厚加强至4mm；采用高强度螺丝连接桌腿与立柱，铸铝下脚背部采用横竖向加强筋连接保持桌子脚更加稳固；桌子上脚后部装有支撑杆，支撑杆采用ABS一次注塑成型，尺寸270mm×26mm×41mm，一头嵌入上桌架，另一头固定在立柱上，呈三角形结构，使整体结构更稳固。下桌脚设有专用孔位可以与地面固定，设计可以安装调整脚的孔位，并配有ABS脚套装饰盖。外观流线型设计，简洁美观，易碰撞处全部采用倒圆角，产品款式要求整体设计美观、合理、安全、牢固、耐用。金属表面经环氧树脂粉末喷涂高温固化处理。 5.桌面下方通过三条专用金属材料和塑料连接件连接实验桌两侧的桌脚和立柱，三条金属材料尺寸为30mm×30mm横截面积，采用高强度螺丝连接，桌斗下部一条横梁为横截面积85mm×14mm铝合金型材，用高强度螺丝固定在两侧桌脚的立柱上，外观流线型设计，简洁美观。 6.考虑到实验室电线预埋可能存在偏差，功能走线柱有可能无法遮挡盖住电线，实验桌脚和立柱设计电源走线孔位，必要时电源线可从桌脚底部穿过立柱从桌子一侧与学生电源线连接。 7.▲依据T/CIQA10-2020《实验室家具用陶瓷台面技术要求与试验方法》检测承载性能：样品上施加400kg缓慢均布载荷，保载不低于24h，样品未被破坏。 8.▲依据T/CIQA10-2020《实验室家具用陶瓷台面技术要求与试验方法》检测耐高温性能：升温至1000°C，保持1h，取出后迅速放置在样品表面，常温下1h后检查样品表面变化。样品表面无开裂、无变色。 | E7: 张 | F7: =28*2 -> 56
A8: 6 | B8: 水槽柜（带有滴水架） | C8: 490×595×870mm | D8: 1.尺寸：490mm×595mm×870mm，水槽前面呈现坡度式圆弧造型，后端自带与水槽整体一次注塑成型滴水架设计，滴水架带有6个滴水棒方便储存玻璃仪器。 2.柜体左右两侧分别带有一次注塑成型扣手方便搬运，柜体部分采用全新ABS塑料原料，经注塑模一次注塑成型；柜体由上下座、侧板和柜门部件组成，各部件采用卯榫结构连接，螺丝加固确保柜体结构稳固不扭曲变形；上下座和其他部件采用不同颜色套色拼装使整个水槽台有层次感；柜体后面有一个带锁的检修门，方便日后维修；柜体四角做圆角处理，无安全隐患。 3.水槽自带滴水架一次注塑成型设计，滴水架高度低于100mm防止过高影响学生视线。采用全新耐腐蚀PP材料一次注塑成型，带有防溢水孔，水槽两侧预留安装洗眼器和皂液器安装孔，方便各科室不同需求。槽体内空尺寸420mm×330mm×190mm，以下水口为底点四周均有坡度防止积水；下水口为大口径直排孔配有不锈钢滤网和PP材质水塞。 4.水槽台柜门打开后带有二层置物层板，方便储存实验仪器，层板采用注塑一体成型，防水防潮并且支撑柜体防止变形。水槽部分安置在柜体上面，需在柜体内侧使用螺丝加固连接，防止在使用过程中脱离；所有加固螺丝均采用304及以上不锈钢材质，并处在柜体内侧暗处，安装完成后外表无可见螺丝。柜体底部带有注塑成型底座美观大方，不同配色增加层次感。 5.▲PP水槽、ABS柜体塑料部件防霉性能：依据GB/T 24128-2018《塑料 塑料防霉剂的防霉效果评估》，防霉等级应不低于2级。 | E8: 套 | F8: =14*2 -> 28
A9: 7 | B9: 三联高低位龙头 | C9: 大号 | D9: 1.高教三联水嘴，高度670mm。 2.材质：主体采用ø22mm×2.3mm的59-1及以上黄铜制造。进水管采用ø22mm×1.3mm管径的304及以上不锈钢制造；出水管采用ø15mm×1mm管径的304及以上不锈钢制造。 3.涂层：涂层经亚光环氧树脂耐酸碱粉末涂料热固处理，耐腐蚀、耐热，防紫外线辐射。 4.陶瓷阀芯：可90°旋转，使用寿命开关要求达到20万次，静态最大耐压10bar，符合GB18145-2014标准。 5.开关旋钮：采用高密度PP，人体工学设计，手感舒适。 | E9: 套 | F9: =14*2 -> 28
A10: 8 | B10: 上下水装置 | D10: 1.用于连接地面水管及水龙头，上水管两端接头采用201及以上不锈钢螺帽铜芯，外管是304及以上不锈钢钢丝+尼龙丝混编的、内管采用三元内管、角阀是钻石轮（塑料包铁）、阀芯和阀体均为铜质， 2.下水管规格：直径35mm×长度500mm水槽专配型排水管，不锈钢卡扣连接，安装方便不渗漏。 | E10: 套 | F10: =14*2 -> 28
A11: 9 | B11: 多功能柱 | C11: 344×263×752mm | D11: 1.规格：344mm×263mm×752mm，采用PP塑料一次注塑成型，具有耐化学性、耐热性、电绝缘性等性能，以齿合槽配以螺丝连接。 2.功能柱正面和反面均带有注塑成型的检修门，方便安装和日后维修，电缆线、通风管等管线均布置于箱体内部，避免管线外露，检修口上面带有闪电标志，以便于警示学生注意用电安全，确保使用的安全。 3.功能柱配有装饰底座，底座为ABS注塑材质，预留有膨胀螺丝固定口位置。 4.▲依据 GB-T 39822-2021《塑料 黄色指数及其变化值的测定》检测黄色指数，黄色指数（YI）≤5 | E11: 套 | F11: =28*2 -> 56
A12: 10 | B12: 实验凳 | C12: Φ315×420—470mm | D12: 1.规格：凳面直径315mm，高度420—470mm（高度可调）； 2.凳面：采用环保型ABS改性塑料一次性注塑成型，表面细纹咬花，防滑不发光3.脚钢架：采用20mm×40mm×1.5mm的椭圆形无缝钢管经全圆满焊接而成，结构牢固，经高温粉体烤漆处理，长时间使用也不会产生表面烤漆剥落现象 3.脚垫：采用PP加耐磨纤维质塑料，实心倒钩式一体射出成型，凳子胶垫为倒刺状设计，不易脱落。 4.凳面可通过旋转螺杆来升降凳子高度，可调高度5cm | E12: 张 | F12: =56*2 -> 112
A13: 11 | B13: 电气布线（地面以上部分） | C13: 国标 | D13: 阻燃线管；国标线材，符合国家标准。 | E13: 套 | F13: =1*2 -> 2
A14: 12 | B14: 给、排水系统（地面以上部分） | C14: 国标 | D14: 排水管选用国标管。模块化设计，每组模块间采用活接式连接。 | E14: 套 | F14: =1*2 -> 2
A15: 通风系统部分
A16: 1 | B16: 吸风装置 | C16: PP | D16: ABS工程注塑，隐藏伸缩型。吸风口是柱形、隐蔽式高低左右可调整，最高可调450mm，最低150mm | E16: 套 | F16: =29*2 -> 58
A17: 2 | B17: PP离心风机 | C17: 5.5kW | D17: 风量：≥7100m³/h，压头：≥756Pa，转速：≥1440转/分 | E17: 台 | F17: =1*2 -> 2
A18: 3 | B18: 风帽 | C18: PP | D18: PP材质，具有防雨功能，风阻小。 | E18: 只 | F18: =1*2 -> 2
A19: 4 | B19: 进风口软接头 | C19: PVC | D19: 软质PVC | E19: 只 | F19: =1*2 -> 2
A20: 5 | B20: 消音器 | C20: PP | D20: 双层PP材质，内部填充环玻璃纤维吸音棉 | E20: 台 | F20: =1*2 -> 2
A21: 6 | B21: 消音器底架 | C21: 40×40×2mm | D21: 尺寸：40mm×40mm×2mm；材质：采用镀锌C型钢 | E21: 式 | F21: =1*2 -> 2
A22: 7 | B22: 防火阀 | C22: 500×250mm | D22: 尺寸：500mm×250mm，材质：采用304及以上不锈钢 | E22: 只 | F22: =1*2 -> 2
A23: 8 | B23: 室内行程通风管道 | C23: PP | D23: 室内管道，采用防腐蚀PP材质，各支管风速≥8m/s | E23: 项 | F23: =1*2 -> 2
A24: 9 | B24: 室外行程通风管道 | C24: PP | D24: 室外管道，采用防腐蚀PP材质，各主管风速≥12m/s | E24: 项 | F24: =1*2 -> 2
A25: 10 | B25: 防静电地板 | C25: 定制 | D25: 全室安装防静电地板，陶瓷材质。 1.底板及面板材料采用冷轧钢板，内部填充材料选用水泥、发泡剂、纤维、石英砂等填充密实，填充材料在减轻地板自重的同时，使地板承载能力加强， 2.地板规格为600mm×600mm×40mm，荷载类型为CQ型，挠度≤2mm； 3.地板为四角支承式（镀锌），高度根据现场使用需要可订制设计，高度有可调节范围，可调范围大于±15mm。 4.支撑体系支座轴向承载大于30KN，（特别高的高度需要带斜撑加固） 5.面层采用高端抛光釉面瓷砖面层，厚度不小于10.0mm，表层耐磨转数≥2000转. 6.燃烧性能≥A1级 7.底部四周边条加宽处理，上有直条压筋以增加强度 8.支架：表面镀锌处理，上托厚度≥2.0mm下托厚度≥1.2mm 9.横梁：表面镀锌处理，22mm×26mm×570mm，管壁厚度≥0.8mm | E25: 项 | F25: =1*2 -> 2
D26: 2.生化智慧云实验室
D27: 教师演示控制
A28: 1 | B28: ◆教师演示讲台 | C28: 2400×700×850mm | D28: 1.规格：2400mm×700mm×850mm 2.台面：采用厚度≥12.7mm实心理化板台面。 3.柜体：采用厚度为0.8—1.0mm冷轧钢板，采用二氧化碳保护焊焊接，边缘打磨处理，表面经酸洗、磷化及环氧树脂户外粉静电喷涂，具备较强的耐酸碱防护能力；整体讲台由多个独立的柜体组合而成，柜体中预留教师主控电源、电脑键盘、水槽安装等位置；中间三个柜体为正面单开门，两侧柜子为侧面双开门，优化物品摆放空间。 4.拉手：在柜门或抽屉正面上方处一体折弯而成，外观整体流畅，造型独特美观； 5.防撞胶垫：装于抽屉及门板内侧，减缓碰撞，保护柜体； 6.门板及抽面：采用双层钢板，必须两层组装式设计，保证两层双面都经过喷涂处理，保证门板和抽面具备较强硬度，不轻易出现凹陷； 7.铰链：采用具有缓冲功能的耐腐蚀铰链，开合十万次不变形。 8.滑轨：三节重型滚珠滑轨，承重性强，滑动性能良好，无噪音； 9.固定桌脚：采用柜体内置可调PP塑料调整脚，保证调整脚前后都可以调节高低。 10.▲依据GB/T 1741-2020《漆膜耐霉菌测定法》检测耐霉菌性能：黑曲霉、黄曲霉、宛氏拟青霉、出芽短梗霉、绿色木霉检测均为不低于2级； 11.▲依据QB/T 4371-2012《家具抗菌性能的评价》检测大肠埃希氏菌（大肠杆菌）、金黄色葡萄球菌，两种菌种抑菌率均≥90%； 12.▲依据GB/T 17657-2022《人造板及饰面人造板理化性能试验方法》表面耐划痕性能：2.0N载荷下仅存在不连续划痕、轻微划痕痕迹或未见划痕，4.0N载荷出现≥90%连续双圈清晰划痕，耐划痕等级达到3级。 | E28: 张 | F28: 1
A29: 2 | B29: 实验室专用水槽 | C29: 440×330×190mm | D29: 1.规格：440mm×330mm×190mm 2.采用实验室专用高密度PP一体化成型水槽。 | E29: 只 | F29: 1
A30: 3 | B30: 三联高低位龙头 | C30: 三联 | D30: 1.高教三联水嘴，高度670mm。 2.材质：主体采用ø22mm×2.3mm的59-1及以上黄铜制造。进水管采用ø22mm×1.3mm管径的304及以上不锈钢制造；出水管采用ø15mm×1mm管径的304及以上不锈钢制造。 3.涂层：涂层经亚光环氧树脂耐酸碱粉末涂料热固处理，耐腐蚀、耐热，防紫外线辐射。 4.陶瓷阀芯：可90°旋转，使用寿命开关要求达到20万次，静态最大耐压10bar，符合GB18145-2014标准。 5.开关旋钮：采用高密度PP，人体工学设计，手感舒适。 | E30: 套 | F30: 1
A31: 4 | B31: 实验室专用洗眼器 | C31: 单眼 | D31: 洗眼喷头：采用不助燃材质模铸一体成形制作，具有过滤泡棉及防尘功能，可降低突然打开时短暂的高水压，避免冲伤眼睛。 | E31: 付 | F31: 1
A32: 学生实验操作及学习区
A33: 1 | B33: ◆学生实验桌 | C33: 1200×600×780mm | D33: 1.尺寸：1200mm×600mm×780mm 2.台面材料：采用厚度≥20mm陶瓷台面 3.采用新型塑铝结构，整体桌脚呈Z字造型，倾斜式桌腿立柱设计，学生位镂空式设计，符合人体工程学设计。书包斗采用整体PP塑料一次性注塑成型，规格440mm×260mm×160mm，书包斗带有横竖向加强筋整体加厚设计，并且带有横竖向透气孔，中间设挂凳卡，挂凳处加厚设计防止实验凳掉落损坏桌斗。两个书包斗中间设有一个翻盖式电源盒，电源盒尺寸为300mm×285mm×150mm。电源盒采用ABS工程塑料注塑成型，耐老化不导电，电源盒采用三副注塑模具组合而成，盒子内部后方预留电线走线孔位。 4.桌脚采用三段式高强度铝合金结构，上部铸铝脚尺寸为570mm×55mm×95mm，下部铸铝脚尺寸为545mm×57mm×125mm，中立柱采用100mm×46mm×1.5mm厚承重型铝合金型材，采用倾斜式设计，立柱外侧配有装饰线条增加美观性。上下脚采用铝合金一次压铸成型，上下脚的壁厚度≥2.5mm，连接处壁厚加强至4mm；采用高强度螺丝连接桌腿与立柱，铸铝下脚背部采用横竖向加强筋连接保持桌子脚更加稳固；桌子上脚后部装有支撑杆，支撑杆采用ABS一次注塑成型，尺寸270mm×26mm×41mm，一头嵌入上桌架，另一头固定在立柱上，呈三角形结构，使整体结构更稳固。下桌脚设有专用孔位可以与地面固定，设计可以安装调整脚的孔位，并配有ABS脚套装饰盖。外观流线型设计，简洁美观，易碰撞处全部采用倒圆角，产品款式要求整体设计美观、合理、安全、牢固、耐用。金属表面经环氧树脂粉末喷涂高温固化处理。 5.桌面下方通过三条专用金属材料和塑料连接件连接实验桌两侧的桌脚和立柱，三条金属材料尺寸为30mm×30mm横截面积，采用高强度螺丝连接，桌斗下部一条横梁为横截面积85mm×14mm铝合金型材，用高强度螺丝固定在两侧桌脚的立柱上，外观流线型设计，简洁美观。 6.考虑到实验室电线预埋可能存在偏差，功能走线柱有可能无法遮挡盖住电线，实验桌脚和立柱设计电源走线孔位，必要时电源线可从桌脚底部穿过立柱从桌子一侧与学生电源线连接。 7.▲依据T/CIQA10-2020《实验室家具用陶瓷台面技术要求与试验方法》检测承载性能：样品上施加400kg缓慢均布载荷，保载不低于24h，样品未被破坏。 8.▲依据T/CIQA10-2020《实验室家具用陶瓷台面技术要求与试验方法》检测耐高温性能：升温至1000°C，保持1h，取出后迅速放置在样品表面，常温下1h后检查样品表面变化。样品表面无开裂、无变色。 | E33: 张 | F33: 28
A34: 2 | B34: 实验凳 | C34: Φ315×420—470mm | D34: 1.规格：凳面直径315mm，高度420—470mm（高度可调）； 2.凳面：采用环保型ABS改性塑料一次性注塑成型，表面细纹咬花，防滑不发光3.脚钢架：采用20mm×40mm×1.5mm的椭圆形无缝钢管经全圆满焊接而成，结构牢固，经高温粉体烤漆处理，长时间使用也不会产生表面烤漆剥落现象 3.脚垫：采用PP加耐磨纤维质塑料，实心倒钩式一体射出成型，凳子胶垫为倒刺状设计，不易脱落。 4.凳面可通过旋转螺杆来升降凳子高度，可调高度5cm | E34: 张 | F34: 56
A35: 控制系统
A36: 1 | B36: 顶装智能系统总控柜 | C36: 556×210×700mm(±5mm) | D36: 1.结构参数：系统总控柜（挂壁式）“三部分”结构设计，整体规格556mm×210mm×700mm（±5mm）；箱体厚度为1mm(±0.2mm)SPCC冷轧钢板，表面光滑，不易变形，强度高等特点，钣金折弯成型，所有金属表面经环氧树脂粉末喷涂高温固化处理和耐酸碱、耐腐蚀。 2技术要求： （1）柜右侧上端为电气设备安装层，右侧下柜配有显示屏操作窗口，规格275mm×150mm（±5mm），呈45°上斜坡式，操作视角，左侧配有紧急停开关、启、停开关。 （2）控制箱内配置导轨式接线端子、电源总开关、导轨五孔插座2组、漏保漏电断路器2组、单片机控制器及功能扩展模块1套，安全系统长时间不操作自动切断总电源。 （3）箱内配置风机变频器控制器1个；功率5.5KW，输入额定电压三相380V（±15%），教师端可根据教学所需，控制风量大小。 | E36: 台 | F36: 1
A37: 2 | B37: 顶装智能控制平台 | C37: 10.1寸 | D37: 1.结构参数 智能控制平台操作显示屏采用10.1寸智能触摸屏；彩色24位显示；双8051单芯片驱动方案；GUI核运行，向内镶入式安装位；呈45°视角上斜坡，契合使用者的操作视角界面清晰， 2.技术参数智能电源管理系统要求如下： （1）界面显示：可显示当前北京时间、中文星期和温湿度。 （2）交流输出：可进行单台或统一控制学生交流电源输出，输出范围0-30V，分辨率1V。 （3）直流输出：可进行单台或统一控制学生直流电源输出，输出范围0-30V，分辨率0.1V。 （4）学生锁定：由老师控制，开启后学生电源不能自行调节，只能由老师进行控制使用。 （5）学生插座：由老师控制，默认电源关闭。 （6）▲学生举手： ①提问辅助功能：系统启用后，当实验过程中学生触发举手键，教师可通过可视化界面快速定位求助学生，实现精准教学指导。 ②课堂抢答功能：系统启用后，教师端启动抢答模式，系统将构建实时应答通道。学生终端抢答功能自动激活，学生触发举手键后，教师终端将同步显示应答者实验台编号，动态更新应答顺序队列。 （7）教师端语音播报功能：系统为教师端配备智能语音辅助系统，提供实时操作引导，功能触发时自动播报。 （8）电源升降控制：对学生终端的电源模块升降状态进行控制，可进行单选及全选操作。 （9）整点报时：系统配备时钟系统，提供智能化报时服务。标准普通话语音整点自动播报。 （10）定时关机：系统配备智能化电源管理系统，提供精准的定时关机服务，可设定范围为0-720分钟，并在可视化显示屏上显示倒计时。 （11）▲自动关机提醒：系统配备多重关机保护机制，确保实验数据安全。设有预警提示机制，关机前5分钟启动预警流程，每间隔1分钟语音播报剩余时间。 （12）系统设置：该界面可设置教师编号、关机时间、开机验证方式以及语音播报是否开启。多样性的修改选项，包括但不限于设备参数、出厂设置、密码更改和时间设置等。 （13）硬件信息：系统配备精准的硬件运行监测模块，提供全面的设备使用数据，累计使用时长精确到小时。 （14）一键关机：点击后可对全室吊装设备进行断电关机操作。 | E37: 套 | F37: 1
A38: 3 | B38: APP吊装控制系统 | C38: 定制 | D38: 1.支持APP登录操作。能实现电源、照明、给排水、摇臂、排风系统等控制。 2.互联模式采用内建局域网，在一定范围内发射无线信号，外部设备输入正确密码后，连接Wi-Fi与控制柜进行互联，实现远程控制。 3.APP吊装控制系统操作界面和顶装智能控制平台操作界面布局和功能完全一致，方便教师在授课时，进行双设备切换。 4.温湿度显示：连接控制柜检测环境中实时的温度、湿度并以数值的形式显示。 5.电源控制：可任意控制单组或集中控制220V的学生插座的开与关。可控制学生电源的交、直流电压切换以及电压值调节。当学生电源被锁定，教师给与学生端指定电压值，学生端学生电源无法私自修改电压数值。 | E38: 套 | F38: 1
A39: 4 | B39: 环境检测实时监视 | C39: 定制 | D39: 1.内置七合一传感器模块，灵敏度高，数据稳定。 （1）数字串口输出，采用485/UART输出模式，集CO2，甲醛，TVOC，激光粉尘PM2.5,PM10颗粒物，温度，湿度于一体。 （2）每2秒自动通过485/UART信号输出七组传感器监测数据。 （3）温度精确到0.1℃，湿度精确到0.1%。 （4）工作电压：5.0±0.2VDC；工作电流：≤80mA；工作温度：0℃～50℃；工作湿度：≤95％RH。 2.在中控屏幕上方显示日期、时间。 | E39: 项 | F39: 1
A40: 通风系统
...

Sheet 二层
A1: 二层
B2: 名称 | C2: 尺寸规格 | D2: 技术参数 | E2: 单位 | F2: 数量 | G2: 单价 | H2: 合计 | I2: 所投品牌
A3: 8.生物实验室1
A4: 1 | B4: 教师演示台 | C4: 2400×700×850mm | D4: 1.规格：2400mm×700mm×850mm 2.台面：采用厚度≥12.7mm实心理化板台面。 3.柜体：采用厚度≥0.8mm优质冷轧钢板，采用二氧化碳保护焊焊接，边缘打磨处理，表面经酸洗、磷化及环氧树脂户外粉静电喷涂，具备较强的耐酸碱防护能力；整体讲台由多个独立的柜体组合而成，柜体中预留教师主控电源、电脑键盘、水槽安装等位置；中间三个柜体为正面单开门，两侧柜子为侧面双开门，优化物品摆放空间。 4.拉手：在柜门或抽屉正面上方处一体折弯而成，外观整体流畅，造型独特美观； 5.防撞胶垫：装于抽屉及门板内侧，减缓碰撞，保护柜体； 6.门板及抽面：采用双层钢板，必须两层组装式设计，保证两层双面都经过喷涂处理，保证门板和抽面具备较强硬度，不轻易出现凹陷； 7.铰链：采用具有缓冲功能的耐腐蚀铰链，开合十万次不变形。 8.滑轨：三节重型滚珠滑轨，承重性强，滑动性能良好，无噪音； 9.固定桌脚：采用柜体内置可调PP塑料调整脚，保证调整脚前后都可以调节高低。 | E4: 张 | F4: 1
A5: 2 | B5: ◆学生实验桌 | C5: 1200×600×780mm | D5: 1.尺寸：1200mm×600mm×780mm 2.台面材料：采用厚度≥20mm陶瓷台面 3.采用新型塑铝结构，整体桌脚呈Z字造型，倾斜式桌腿立柱设计，学生位镂空式设计，符合人体工程学设计。书包斗采用整体PP塑料一次性注塑成型，规格440mm×260mm×160mm，书包斗带有横竖向加强筋整体加厚设计，并且带有横竖向透气孔，中间设挂凳卡，挂凳处加厚设计防止实验凳掉落损坏桌斗。两个书包斗中间设有一个翻盖式电源盒，电源盒尺寸为300mm×285mm×150mm。电源盒采用ABS工程塑料注塑成型，耐老化不导电，电源盒采用三副注塑模具组合而成，盒子内部后方预留电线走线孔位。 4.桌脚采用三段式高强度铝合金结构，上部铸铝脚尺寸为570mm×55mm×95mm，下部铸铝脚尺寸为545mm×57mm×125mm，中立柱采用100mm×46mm×1.5mm厚承重型铝合金型材，采用倾斜式设计，立柱外侧配有装饰线条增加美观性。上下脚采用铝合金一次压铸成型，上下脚的壁厚度≥2.5mm，连接处壁厚加强至4mm；采用高强度螺丝连接桌腿与立柱，铸铝下脚背部采用横竖向加强筋连接保持桌子脚更加稳固；桌子上脚后部装有支撑杆，支撑杆采用ABS一次注塑成型，尺寸270mm×26mm×41mm，一头嵌入上桌架，另一头固定在立柱上，呈三角形结构，使整体结构更稳固。下桌脚设有专用孔位可以与地面固定，设计可以安装调整脚的孔位，并配有ABS脚套装饰盖。外观流线型设计，简洁美观，易碰撞处全部采用倒圆角，产品款式要求整体设计美观、合理、安全、牢固、耐用。金属表面经环氧树脂粉末喷涂高温固化处理。 5.桌面下方通过三条专用金属材料和塑料连接件连接实验桌两侧的桌脚和立柱，三条金属材料尺寸为30mm×30mm横截面积，采用高强度螺丝连接，桌斗下部一条横梁为横截面积85mm×14mm铝合金型材，用高强度螺丝固定在两侧桌脚的立柱上，外观流线型设计，简洁美观。 6.考虑到实验室电线预埋可能存在偏差，功能走线柱有可能无法遮挡盖住电线，实验桌脚和立柱设计电源走线孔位，必要时电源线可从桌脚底部穿过立柱从桌子一侧与学生电源线连接。 7.▲依据T/CIQA10-2020《实验室家具用陶瓷台面技术要求与试验方法》检测承载性能：样品上施加400kg缓慢均布载荷，保载不低于24h，样品未被破坏。 8.▲依据T/CIQA10-2020《实验室家具用陶瓷台面技术要求与试验方法》检测耐高温性能：升温至1000°C，保持1h，取出后迅速放置在样品表面，常温下1h后检查样品表面变化。样品表面无开裂、无变色。 | E5: 张 | F5: 28
A6: 3 | B6: 实验凳 | C6: Φ315×420—470mm | D6: 1.规格：凳面直径315mm，高度420—470mm（高度可调）； 2.凳面：采用环保型ABS改性塑料一次性注塑成型，表面细纹咬花，防滑不发光3.脚钢架：采用20mm×40mm×1.5mm的椭圆形无缝钢管经全圆满焊接而成，结构牢固，经高温粉体烤漆处理，长时间使用也不会产生表面烤漆剥落现象 3.脚垫：采用PP加耐磨纤维质塑料，实心倒钩式一体射出成型，凳子胶垫为倒刺状设计，不易脱落。 4.凳面可通过旋转螺杆来升降凳子高度，可调高度5cm | E6: 张 | F6: 56
A7: 4 | B7: 水槽柜（带出水装置） | C7: 490×595×870mm | D7: 1.尺寸：490mm×595mm×870mm，水槽前面呈现坡度式圆弧造型，后端自带与水槽整体一次注塑成型滴水架设计，滴水架带有6个滴水棒方便储存玻璃仪器。 2.柜体左右两侧分别带有一次注塑成型扣手方便搬运，柜体部分采用全新ABS塑料原料，经注塑模一次注塑成型；柜体由上下座、侧板和柜门部件组成，各部件采用卯榫结构连接，螺丝加固确保柜体结构稳固不扭曲变形；上下座和其他部件采用不同颜色套色拼装使整个水槽台有层次感；柜体后面有一个带锁的检修门，方便日后维修；柜体四角做圆角处理，无安全隐患。 3.水槽自带滴水架一次注塑成型设计，滴水架高度低于100mm防止过高影响学生视线。采用全新耐腐蚀PP材料一次注塑成型，带有防溢水孔，水槽两侧预留安装洗眼器和皂液器安装孔，方便各科室不同需求。槽体内空尺寸420mm×330mm×190mm，以下水口为底点四周均有坡度防止积水；下水口为大口径直排孔配有不锈钢滤网和PP材质水塞。 4.水槽台柜门打开后带有二层置物层板，方便储存实验仪器，层板采用注塑一体成型，防水防潮并且支撑柜体防止变形。水槽部分安置在柜体上面，需在柜体内侧使用螺丝加固连接，防止在使用过程中脱离；所有加固螺丝均采用304及以上不锈钢材质，并处在柜体内侧暗处，安装完成后外表无可见螺丝。柜体底部带有注塑成型底座美观大方，不同配色增加层次感。 5.▲PP水槽、ABS柜体塑料部件防霉性能：依据GB/T 24128-2018《塑料 塑料防霉剂的防霉效果评估》，防霉等级应不低于2级。 | E7: 个 | F7: 15
A8: 5 | B8: 电气布线（地面以上部分） | C8: 国标 | D8: 阻燃线管；国标线材，符合国家标准。 | E8: 套 | F8: 1
A9: 6 | B9: 给、排水系统（地面以上部分） | C9: 国标 | D9: 排水管选用国标管。模块化设计，每组模块间采用活接式连接。 | E9: 套 | F9: 1
A10: 9.生物实验室2
A11: 1 | B11: 教师演示台 | C11: 2400×700×850mm | D11: 1.规格：2400mm×700mm×850mm 2.台面：采用厚度≥12.7mm实心理化板台面。 3.柜体：采用厚度≥0.8mm优质冷轧钢板，采用二氧化碳保护焊焊接，边缘打磨处理，表面经酸洗、磷化及环氧树脂户外粉静电喷涂，具备较强的耐酸碱防护能力；整体讲台由多个独立的柜体组合而成，柜体中预留教师主控电源、电脑键盘、水槽安装等位置；中间三个柜体为正面单开门，两侧柜子为侧面双开门，优化物品摆放空间。 4.拉手：在柜门或抽屉正面上方处一体折弯而成，外观整体流畅，造型独特美观； 5.防撞胶垫：装于抽屉及门板内侧，减缓碰撞，保护柜体； 6.门板及抽面：采用双层钢板，必须两层组装式设计，保证两层双面都经过喷涂处理，保证门板和抽面具备较强硬度，不轻易出现凹陷； 7.铰链：采用具有缓冲功能的耐腐蚀铰链，开合十万次不变形。 8.滑轨：三节重型滚珠滑轨，承重性强，滑动性能良好，无噪音； 9.固定桌脚：采用柜体内置可调PP塑料调整脚，保证调整脚前后都可以调节高低。 | E11: 张 | F11: 1
A12: 2 | B12: ◆学生实验桌 | C12: 1200×600×780mm | D12: 1.尺寸：1200mm×600mm×780mm 2.台面材料：采用厚度≥20mm陶瓷台面 3.采用新型塑铝结构，整体桌脚呈Z字造型，倾斜式桌腿立柱设计，学生位镂空式设计，符合人体工程学设计。书包斗采用整体PP塑料一次性注塑成型，规格440mm×260mm×160mm，书包斗带有横竖向加强筋整体加厚设计，并且带有横竖向透气孔，中间设挂凳卡，挂凳处加厚设计防止实验凳掉落损坏桌斗。两个书包斗中间设有一个翻盖式电源盒，电源盒尺寸为300mm×285mm×150mm。电源盒采用ABS工程塑料注塑成型，耐老化不导电，电源盒采用三副注塑模具组合而成，盒子内部后方预留电线走线孔位。 4.桌脚采用三段式高强度铝合金结构，上部铸铝脚尺寸为570mm×55mm×95mm，下部铸铝脚尺寸为545mm×57mm×125mm，中立柱采用100mm×46mm×1.5mm厚承重型铝合金型材，采用倾斜式设计，立柱外侧配有装饰线条增加美观性。上下脚采用铝合金一次压铸成型，上下脚的壁厚度≥2.5mm，连接处壁厚加强至4mm；采用高强度螺丝连接桌腿与立柱，铸铝下脚背部采用横竖向加强筋连接保持桌子脚更加稳固；桌子上脚后部装有支撑杆，支撑杆采用ABS一次注塑成型，尺寸270mm×26mm×41mm，一头嵌入上桌架，另一头固定在立柱上，呈三角形结构，使整体结构更稳固。下桌脚设有专用孔位可以与地面固定，设计可以安装调整脚的孔位，并配有ABS脚套装饰盖。外观流线型设计，简洁美观，易碰撞处全部采用倒圆角，产品款式要求整体设计美观、合理、安全、牢固、耐用。金属表面经环氧树脂粉末喷涂高温固化处理。 5.桌面下方通过三条专用金属材料和塑料连接件连接实验桌两侧的桌脚和立柱，三条金属材料尺寸为30mm×30mm横截面积，采用高强度螺丝连接，桌斗下部一条横梁为横截面积85mm×14mm铝合金型材，用高强度螺丝固定在两侧桌脚的立柱上，外观流线型设计，简洁美观。 6.考虑到实验室电线预埋可能存在偏差，功能走线柱有可能无法遮挡盖住电线，实验桌脚和立柱设计电源走线孔位，必要时电源线可从桌脚底部穿过立柱从桌子一侧与学生电源线连接。 7.▲依据T/CIQA10-2020《实验室家具用陶瓷台面技术要求与试验方法》检测承载性能：样品上施加400kg缓慢均布载荷，保载不低于24h，样品未被破坏。 8.▲依据T/CIQA10-2020《实验室家具用陶瓷台面技术要求与试验方法》检测耐高温性能：升温至1000°C，保持1h，取出后迅速放置在样品表面，常温下1h后检查样品表面变化。样品表面无开裂、无变色。 | E12: 张 | F12: 28
A13: 3 | B13: 实验凳 | C13: Φ315×420—470mm | D13: 1.规格：凳面直径315mm，高度420—470mm（高度可调）； 2.凳面：采用环保型ABS改性塑料一次性注塑成型，表面细纹咬花，防滑不发光3.脚钢架：采用20mm×40mm×1.5mm的椭圆形无缝钢管经全圆满焊接而成，结构牢固，经高温粉体烤漆处理，长时间使用也不会产生表面烤漆剥落现象 3.脚垫：采用PP加耐磨纤维质塑料，实心倒钩式一体射出成型，凳子胶垫为倒刺状设计，不易脱落。 4.凳面可通过旋转螺杆来升降凳子高度，可调高度5cm | E13: 张 | F13: 56
A14: 4 | B14: 水槽柜（带出水装置） | C14: 490×595×870mm | D14: 1.尺寸：490mm×595mm×870mm，水槽前面呈现坡度式圆弧造型，后端自带与水槽整体一次注塑成型滴水架设计，滴水架带有6个滴水棒方便储存玻璃仪器。 2.柜体左右两侧分别带有一次注塑成型扣手方便搬运，柜体部分采用全新ABS塑料原料，经注塑模一次注塑成型；柜体由上下座、侧板和柜门部件组成，各部件采用卯榫结构连接，螺丝加固确保柜体结构稳固不扭曲变形；上下座和其他部件采用不同颜色套色拼装使整个水槽台有层次感；柜体后面有一个带锁的检修门，方便日后维修；柜体四角做圆角处理，无安全隐患。 3.水槽自带滴水架一次注塑成型设计，滴水架高度低于100mm防止过高影响学生视线。采用全新耐腐蚀PP材料一次注塑成型，带有防溢水孔，水槽两侧预留安装洗眼器和皂液器安装孔，方便各科室不同需求。槽体内空尺寸420mm×330mm×190mm，以下水口为底点四周均有坡度防止积水；下水口为大口径直排孔配有不锈钢滤网和PP材质水塞。 4.水槽台柜门打开后带有二层置物层板，方便储存实验仪器，层板采用注塑一体成型，防水防潮并且支撑柜体防止变形。水槽部分安置在柜体上面，需在柜体内侧使用螺丝加固连接，防止在使用过程中脱离；所有加固螺丝均采用304及以上不锈钢材质，并处在柜体内侧暗处，安装完成后外表无可见螺丝。柜体底部带有注塑成型底座美观大方，不同配色增加层次感。 5.▲PP水槽、ABS柜体塑料部件防霉性能：依据GB/T 24128-2018《塑料 塑料防霉剂的防霉效果评估》，防霉等级应不低于2级。 | E14: 个 | F14: 15
A15: 5 | B15: 电气布线（地面以上部分） | C15: 国标 | D15: 阻燃线管；国标线材，符合国家标准。 | E15: 套 | F15: 1
A16: 6 | B16: 给、排水系统（地面以上部分） | C16: 国标 | D16: 排水管选用国标管。模块化设计，每组模块间采用活接式连接。 | E16: 套 | F16: 1
A17: 10.生物创新实验室1
A18: 1 | B18: 教师演示讲台（全钢） | C18: 2400×700×850mm | D18: 1.全钢结构；规格：2400mm×700mm×850mm 2.台面：采用厚度≥12.7mm双面膜耐腐蚀实芯理化板制作，四角倒圆角；预留电脑主机、键盘托、实物展台、教师电源位置。 3.采用不锈钢拉手；配有防撞胶垫； 4.门板及抽面：采用双层钢板，两层组装式设计，保证两层双面都喷涂处理，中间采用隔音材料，保证关门减少噪音； 5.连接件：采用ABS专用连接组装件； 6.合页：采用不锈钢模具一体成型。 7滑轨：三节重型滚珠滑轨，承重性强，滑动性能良好，无噪音； 8.固定桌脚：采用柜体内置可调整脚，保证调整脚前后都可以调节高低。 | E18: 张 | F18: 1
A19: 2 | B19: 实验室专用水槽 | C19: 440×330×190mm | D19: 1.规格：440mm×330mm×190mm 2.采用实验室专用高密度PP一体化成型水槽。 | E19: 只 | F19: 1
A20: 3 | B20: 三联高低位龙头 | C20: 三联 | D20: 1.高教三联水嘴，高度670mm。 2.材质：主体采用ø22mm×2.3mm的59-1及以上黄铜制造。进水管采用ø22mm×1.3mm管径的304及以上不锈钢制造；出水管采用ø15mm×1mm管径的304及以上不锈钢制造。 3.涂层：涂层经亚光环氧树脂耐酸碱粉末涂料热固处理，耐腐蚀、耐热，防紫外线辐射。 4.陶瓷阀芯：可90°旋转，使用寿命开关要求达到20万次，静态最大耐压10bar，符合GB18145-2014标准。 5.开关旋钮：采用高密度PP，人体工学设计，手感舒适。 | E20: 套 | F20: 1
A21: 学生实验操作及学习区
A22: 1 | B22: ◆学生实验桌 | C22: 1200×600×780mm | D22: 1.尺寸：1200mm×600mm×780mm 2.台面材料：采用厚度≥20mm陶瓷台面 3.采用新型塑铝结构，整体桌脚呈Z字造型，倾斜式桌腿立柱设计，学生位镂空式设计，符合人体工程学设计。书包斗采用整体PP塑料一次性注塑成型，规格440mm×260mm×160mm，书包斗带有横竖向加强筋整体加厚设计，并且带有横竖向透气孔，中间设挂凳卡，挂凳处加厚设计防止实验凳掉落损坏桌斗。两个书包斗中间设有一个翻盖式电源盒，电源盒尺寸为300mm×285mm×150mm。电源盒采用ABS工程塑料注塑成型，耐老化不导电，电源盒采用三副注塑模具组合而成，盒子内部后方预留电线走线孔位。 4.桌脚采用三段式高强度铝合金结构，上部铸铝脚尺寸为570mm×55mm×95mm，下部铸铝脚尺寸为545mm×57mm×125mm，中立柱采用100mm×46mm×1.5mm厚承重型铝合金型材，采用倾斜式设计，立柱外侧配有装饰线条增加美观性。上下脚采用铝合金一次压铸成型，上下脚的壁厚度≥2.5mm，连接处壁厚加强至4mm；采用高强度螺丝连接桌腿与立柱，铸铝下脚背部采用横竖向加强筋连接保持桌子脚更加稳固；桌子上脚后部装有支撑杆，支撑杆采用ABS一次注塑成型，尺寸270mm×26mm×41mm，一头嵌入上桌架，另一头固定在立柱上，呈三角形结构，使整体结构更稳固。下桌脚设有专用孔位可以与地面固定，设计可以安装调整脚的孔位，并配有ABS脚套装饰盖。外观流线型设计，简洁美观，易碰撞处全部采用倒圆角，产品款式要求整体设计美观、合理、安全、牢固、耐用。金属表面经环氧树脂粉末喷涂高温固化处理。 5.桌面下方通过三条专用金属材料和塑料连接件连接实验桌两侧的桌脚和立柱，三条金属材料尺寸为30mm×30mm横截面积，采用高强度螺丝连接，桌斗下部一条横梁为横截面积85mm×14mm铝合金型材，用高强度螺丝固定在两侧桌脚的立柱上，外观流线型设计，简洁美观。 6.考虑到实验室电线预埋可能存在偏差，功能走线柱有可能无法遮挡盖住电线，实验桌脚和立柱设计电源走线孔位，必要时电源线可从桌脚底部穿过立柱从桌子一侧与学生电源线连接。 7.▲依据T/CIQA10-2020《实验室家具用陶瓷台面技术要求与试验方法》检测承载性能：样品上施加400kg缓慢均布载荷，保载不低于24h，样品未被破坏。 8.▲依据T/CIQA10-2020《实验室家具用陶瓷台面技术要求与试验方法》检测耐高温性能：升温至1000°C，保持1h，取出后迅速放置在样品表面，常温下1h后检查样品表面变化。样品表面无开裂、无变色。 | E22: 张 | F22: 28
A23: 2 | B23: 实验凳 | C23: Φ315×420—470mm | D23: 1.规格：凳面直径315mm，高度420—470mm（高度可调）； 2.凳面：采用环保型ABS改性塑料一次性注塑成型，表面细纹咬花，防滑不发光3.脚钢架：采用20mm×40mm×1.5mm的椭圆形无缝钢管经全圆满焊接而成，结构牢固，经高温粉体烤漆处理，长时间使用也不会产生表面烤漆剥落现象 3.脚垫：采用PP加耐磨纤维质塑料，实心倒钩式一体射出成型，凳子胶垫为倒刺状设计，不易脱落。 4.凳面可通过旋转螺杆来升降凳子高度，可调高度5cm | E23: 张 | F23: 56
A24: 控制系统
A25: 1 | B25: 顶装智能系统总控柜 | C25: 400×150×600mm(±5mm) | D25: 1.结构参数：系统总控柜（挂壁式）“三部分”结构设计，整体规格400mm×150mm×600mm（±5mm）；箱体厚度为1mm(±0.2mm)SPCC冷轧钢板，表面光滑，不易变形，强度高等特点，钣金折弯成型，所有金属表面经环氧树脂粉末喷涂高温固化处理和耐酸碱、耐腐蚀。 2技术要求： 2.技术要求： （1）柜右侧上端为电气设备安装层，右侧下柜配有显示屏操作窗口，规格275mm×150mm（±5mm），呈45°上斜坡式，操作视角，左侧配有紧急停开关、启、停开关。 （2）控制箱内配置导轨式接线端子、电源总开关、导轨五孔插座2组、漏保漏电断路器2组、单片机控制器及功能扩展模块1套，安全系统长时间不操作自动切断总电源。 | E25: 台 | F25: 1
A26: 2 | B26: 顶装智能控制平台 | C26: 10.1寸 | D26: 1.结构参数 智能控制平台操作显示屏采用10.1寸智能触摸屏；彩色24位显示；双8051单芯片驱动方案；GUI核运行，向内镶入式安装位；呈45°视角上斜坡，契合使用者的操作视角界面清晰， 2.技术参数智能电源管理系统要求如下： （1）界面显示：可显示当前北京时间、中文星期和温湿度。 （2）交流输出：可进行单台或统一控制学生交流电源输出，输出范围0-30V，分辨率1V。 （3）直流输出：可进行单台或统一控制学生直流电源输出，输出范围0-30V，分辨率0.1V。 （4）学生锁定：由老师控制，开启后学生电源不能自行调节，只能由老师进行控制使用。 （5）学生插座：由老师控制，默认电源关闭。 （6）▲学生举手： ①提问辅助功能：系统启用后，当实验过程中学生触发举手键，教师可通过可视化界面快速定位求助学生，实现精准教学指导。 ②课堂抢答功能：系统启用后，教师端启动抢答模式，系统将构建实时应答通道。学生终端抢答功能自动激活，学生触发举手键后，教师终端将同步显示应答者实验台编号，动态更新应答顺序队列。 （7）教师端语音播报功能：系统为教师端配备智能语音辅助系统，提供实时操作引导，功能触发时自动播报。 （8）电源升降控制：对学生终端的电源模块升降状态进行控制，可进行单选及全选操作。 （9）整点报时：系统配备时钟系统，提供智能化报时服务。标准普通话语音整点自动播报。 （10）定时关机：系统配备智能化电源管理系统，提供精准的定时关机服务，可设定范围为0-720分钟，并在可视化显示屏上显示倒计时。 （11）▲自动关机提醒：系统配备多重关机保护机制，确保实验数据安全。设有预警提示机制，关机前5分钟启动预警流程，每间隔1分钟语音播报剩余时间。 （12）系统设置：该界面可设置教师编号、关机时间、开机验证方式以及语音播报是否开启。多样性的修改选项，包括但不限于设备参数、出厂设置、密码更改和时间设置等。 （13）硬件信息：系统配备精准的硬件运行监测模块，提供全面的设备使用数据，累计使用时长精确到小时。 （14）一键关机：点击后可对全室吊装设备进行断电关机操作。 | E26: 3 | F26: 1
A27: 3 | B27: APP吊装控制系统 | C27: 定制 | D27: 1.支持APP登录操作。能实现电源、照明、给排水、摇臂、排风系统等控制。 2.互联模式采用内建局域网，在一定范围内发射无线信号，外部设备输入正确密码后，连接Wi-Fi与控制柜进行互联，实现远程控制。 3.APP吊装控制系统操作界面和顶装智能控制平台操作界面布局和功能完全一致，方便教师在授课时，进行双设备切换。 4.温湿度显示：连接控制柜检测环境中实时的温度、湿度并以数值的形式显示。 5.电源控制：可任意控制单组或集中控制220V的学生插座的开与关。可控制学生电源的交、直流电压切换以及电压值调节。当学生电源被锁定，教师给与学生端指定电压值，学生端学生电源无法私自修改电压数值。 | E27: 套 | F27: 1
A28: 4 | B28: 环境检测实时监视 | C28: 定制 | D28: 1.内置七合一传感器模块，灵敏度高，数据稳定。 （1）数字串口输出，采用485/UART输出模式，集CO2，甲醛，TVOC，激光粉尘PM2.5,PM10颗粒物，温度，湿度于一体。 （2）每2秒自动通过485/UART信号输出七组传感器监测数据。 （3）温度精确到0.1℃，湿度精确到0.1%。 （4）工作电压：5.0±0.2VDC；工作电流：≤80mA；工作温度：0℃～50℃；工作湿度：≤95％RH。 2.在中控屏幕上方显示日期、时间。 | E28: 项 | F28: 1
A29: 吊装式综合供给系统
A30: 1 | B30: 顶装主体框架 | C30: 1340×550×170mm(±5mm) | D30: 1.承重骨架规格：1340mm×550mm×170mm(±5mm），承重骨架采用工业级高强度铝型材经CNC精加工成型，质量轻、强度高、耐腐蚀、结构稳定。 2.内胆箱体规格：1548mm×355mm×280mm(±5mm），动力底座采用厚度≥15mm高强度铝铜合金板经CNC精加工成型，动力轴采用SUS304及以上不锈钢棒材经CNC及数控车床加工成型。承重性能强和耐酸碱、耐腐蚀。 3.动力选用了超静音安全低压直流24V低压电机动力，摇臂采用规格为直径65mm，厚度≥1.5mm铝合金挤压成型，摇臂连接座采用铝合金模具压铸经CNC加工成型，动力装置和主体结构模块化组合，安装维护便捷，运行无噪音。 | E30: 套 | F30: 8
A31: 2 | B31: 顶装主体架外壳 | C31: 1730×680×300mm(±5mm) | D31: 1.整体外腔体规格：1730mm×680mm×300mm(±5mm）；厚度≥4mm， 2.材质：采用国际新型复合材料，经高温模压工艺一次成型，表面光滑，环保无毒、生产工艺采取四面模块化组合，模块化安装、安装简单、维修更换便捷。 3.特点：具有优良的电气绝缘性、耐腐蚀性、机械性能、优异的耐紫外线抗老化性能及阻燃性可达到FVO级，使用寿命长，永不变色之特性。能有效保护主体内结构部件供应系统的安全。 | E31: 套 | F31: 8
A32: 3 | B32: 吊装安装支架 | D32: 1.采用双槽钢横梁吊装方式，减少楼板承重，防止左右晃动，可进行上下、左右的平衡调节，实验功能板离地2m左右。 2.主要辅件有：槽钢、三角构件、直角座、龙骨架连接件、吊装挂件、安装连接板等或根据教室现场实际情况对吊装支架进行调整。 | E32: 套 | F32: 16
A33: 4 | B33: 顶装固定支架护罩 | C33: 428×100×580mm(±5mm) | D33: 1.规格428×100×580mm（±5mm），厚度1mm（±0.2mm）。采用冷轧钢板成型表面光滑，环保无毒，生产工艺采取模块组合，便于安装，高温固化处理，耐腐蚀。 2.结构特点：每个实验室高度不同，安装时可调整法兰圈紧贴天花板，不留空隙。 | E33: 套 | F33: 16
A34: 5 | B34: 智能摇臂升降系统 | D34: 1.结构参数：顶装摇臂动力装置底座采用锌合金材料，经压铸一次成型。底座连接推杆电机，推杆行程端配有鱼眼轴承，扣装在传动机构上，带动升降臂杆。动力机构在接收到控制系统信号后开始工作，升降驱动静音工作、运行稳定、牢固耐用。 2.技术要求：推杆动力电源，24V直流低压稳定运作，行程为250mm。升降臂杆采用铝合金型材，管内水、电隔离设计。臂杆规格φ65mm，厚度1.5mm。臂杆表面和管内经环氧树脂粉末静电喷涂，高效节能、环保耐用、防腐耐磨。摇臂联动学生多功能电源盒，实现二者同时升降，亦可收纳进吊装舱体内。摇臂具有防夹功能，在升降过程中，若受到外部持续性阻力，摇臂将自动结束当前升降动作，需等待教师二次检查。 | E34: 套 | F34: 14
A35: 6 | B35: 学生电源单元交换机 | D35: 1.通讯控制单元：由通讯总线接收总控单元的各种命令，来执行各种动作。 2.摇臂控制单元：采用闭环控制由上、下限检测开关控制。 3.低压供电单元：直流电源采用硬件，软件双重保护。交流电源采用隔离检测保护电路。 4.高压供电单元：漏电保护，急停停止电路。 5.供水控制单元：水位检测来控制电机启停，实时排水。 6.照明控制单元：远程开启关闭。 7.内置独立140VA隔离电源变压器，分组控制学生端低压输出，带分组接线口。 8.状态指示单元：各种状态指示，便于安装调试，维修。 9.语音提示：教师可自由设置是否有语音播报。播报内容包括但不限于以下提示：电压设置、照明状态、风速信息、摇臂信息等提示信息。当即将到达定时关机时间时，会有语音提示。并预留给教师时间处理断电前的数据保存与整理工作，防止计算机或电脑断电导致数据丢失。 | E35: 套 | F35: 14
A36: 7 | B36: 学生多功能电源模块 | C36: 230×96×250mm(±5mm) | D36: 1.结构参数：采用阻燃级ABS材质，模具一体成型，表面光滑无瑕疵，环保无毒，模具注塑一次性加工成型， 2.规格：230mm×96mm×250mm(±5mm），模块内部采用双层设计，模块内部采用双舱体设计，相互不干扰，保证设备安全可靠性。模块内预留高压、低压、网络、上下水接口位置。 3.学生电源采用耐磨、耐腐蚀、耐高温的PC亮光薄膜面板，控制采用功能按钮，数字键盘输入，可以随意设置电压，准确、快捷，操作界面规格：170mm×145mm（±2mm）生产工艺采用模块化组合。 4.双界面操作，规格：145mm×170mm(±2mm），采用耐磨、耐腐蚀、耐高温，耐冲击的厚度≥2.7mm的PC板材激光切割触摸面板工艺制造，界面上有交直流电源切换键、复位键、电压控制键、信息显示模块、交直流输出接线插口，二组国标五孔220V市电插座，保险过载保护。 5.学生电源信息显示屏，采用≥1.8寸彩色TFT，配合高速MCU可流畅显示GUI，四路多功能轻触开关为控制主体，在不同状态下实现不同功能，具体详细参数如下： （1）交流电源：输出0-30V交流，分辨率为1V，电流实时显示，显示分辨率为0.01A，具备过流短路保护。 （2）直流电源：输出0-30V直流，分辨率为0.1V，电流实时显示，显示分辨率为0.01A，具备过流短路保护。 （3）过载保护：当低压电源有过流或短路时，电路实现过载保护功能，此时界面提示过载，且有声音提示，随后应检查实验电路或负载是否正确，排除问题后可按任意按键实现电源复位。 （4）锁定功能：电源可以由学生自行单独操作，也可由老师电源独立控制。当老师锁定学生电源后，界面提示锁定，此时学生按键设计电压功能都将失效，且有声音提示，表示电源已被锁定，只能由教师电源控制，解锁时按键功能恢复正常。 （5）电子举手：当老师有提问时，界面可显示老师提问状态，可选择性举手，老师可在主控端实时显示学生举手状态及位置。 （6）壳侧面配有：一个总电源保险装置和一个急停旋钮。 （7）外一个急停旋钮：蘑菇按键头φ31mm，材料铝氧化红色；外壳为304不锈钢材质，耐腐蚀、耐温、阻燃、长寿命；高机械寿命，防止在操作实验过程中水、电系统出现故障时紧急制动及摇臂升降过程紧急制动，确保操作安全可靠性。 （8）操作端前后面各设有：两组新国标五孔多功能220V安全插座，插口带保护门，额定电流10A。交直流低压电源输出插口各一组，两个USB接口和四个功能按钮。 （9）外壳底部配有不少于两组RJ45网络模块接口。 （10）外壳底部集成一对给排水快速接口和上排水系统的供电接口。二次保护：当摇臂升起时，电源盒上还有未断开的线路或水管时，将会有语音提示播报，等待线路或水管拔除后，摇臂将再次自动升起，教师端无需二次操作。 （11）自由编号：可自行按教室划分编号，编号可独立使用，也可统一，独立使用时教师端可进行每台的单独控制而不影响其他电源的使用 | E36: 套 | F36: 14
A37: 8 | B37: 智能照明控制装置 | C37: 545×72mm | D37: 1.规格：545mm×72mm 2.≥2个LED吸顶模，每组内置2条功率24V标准LED灯带，外罩由铝合金挤压型材，表面经环氧树脂粉末喷涂高温固化处理。 3.灯板采用厚度≥2.0mm的PC光扩散板，扩大了发光面，使光线变得柔和，达到匀光而又透光，同时满足各种雾度值和透光率的需求。即在保证高透光率，降低光衰的情况下，有着良好的光源遮蔽效果，符合视觉工效学原则及室内工作场所照明。 4.模块化安装，维修便捷。所有灯光模组由独立控制软件系统控制，可以根据实际照明需求进行2个模组单个关闭及开启功能。 | E37: 套 | F37: 32
A38: 9 | B38: 给排水快接系统 | D38: 1.给排水接头采用PVC材质，具有耐酸碱，拔插轻松，不生锈；即插即用，带自动锁紧插功能带自动止水功能，即使在供水排水工作时，随时拔掉接口不会有任何滴漏现象。 2.给排水管采用金属包塑编织风暴软管，管外部由PVC包塑，中层有8股304及以上不锈钢丝抱箍，内管加厚三元乙丙橡胶材料，抗老化、防爆裂、防生锈、经久耐用。 | E38: 套 | F38: 14
A39: 10 | B39: 实验室水槽柜（带滴水架） | C39: 490×595×870mm | D39: 1.尺寸：490mm×595mm×870mm，水槽前面呈现坡度式圆弧造型，后端自带与水槽整体一次注塑成型滴水架设计，滴水架带有6个滴水棒方便储存玻璃仪器。 2.柜体左右两侧分别带有一次注塑成型扣手方便搬运，柜体部分采用全新ABS塑料原料，经注塑模一次注塑成型；柜体由上下座、侧板和柜门部件组成，各部件采用卯榫结构连接，螺丝加固确保柜体结构稳固不扭曲变形；上下座和其他部件采用不同颜色套色拼装使整个水槽台有层次感；柜体后面有一个带锁的检修门，方便日后维修；柜体四角做圆角处理，无安全隐患。 3.水槽自带滴水架一次注塑成型设计，滴水架高度低于100mm防止过高影响学生视线。采用全新耐腐蚀PP材料一次注塑成型，带有防溢水孔，水槽两侧预留安装洗眼器和皂液器安装孔，方便各科室不同需求。槽体内空尺寸420mm×330mm×190mm，以下水口为底点四周均有坡度防止积水；下水口为大口径直排孔配有不锈钢滤网和PP材质水塞。 4.水槽台柜门打开后带有二层置物层板，方便储存实验仪器，层板采用注塑一体成型，防水防潮并且支撑柜体防止变形。水槽部分安置在柜体上面，需在柜体内侧使用螺丝加固连接，防止在使用过程中脱离；所有加固螺丝均采用304及以上不锈钢材质，并处在柜体内侧暗处，安装完成后外表无可见螺丝。柜体底部带有注塑成型底座美观大方，不同配色增加层次感。 5.▲PP水槽、ABS柜体塑料部件防霉性能：依据GB/T 24128-2018《塑料 塑料防霉剂的防霉效果评估》，防霉等级应不低于2级。 | E39: 套 | F39: 14
A40: 11 | B40: 三联水嘴 | D40: 1.高教三联水嘴，高度670mm。 2.材质：主体采用Ф22mm×2.3mm的59-1及以上黄铜制造。进水管采用ø22mm×1.3mm管径的304及以上不锈钢制造；出水管采用ø15mm×1mm管径的304及以上不锈钢制造。 3.涂层：涂层经亚光环氧树脂耐酸碱粉末涂料热固处理，耐腐蚀、耐热，防紫外线辐射。 4.陶瓷阀芯：可90°旋转，使用寿命开关要求达到20万次，静态最大耐压10bar，符合GB18145-2014标准。 5.开关旋钮：采用高密度PP，人体工学设计，手感舒适。 | E40: 付 | F40: 14
...

Sheet 三层
A1: 三层
A2: 序号 | B2: 名称 | C2: 尺寸规格 | D2: 技术参数 | E2: 单位 | F2: 数量 | G2: 单价 | H2: 合计 | I2: 所投品牌
A3: 16.物理创新实验室2
A4: 1 | B4: ◆教师演示讲台 | C4: 2400×700×850mm | D4: 1.规格：2400mm×700mm×850mm 2.台面：采用厚度≥12.7mm实心理化板台面。 3.柜体：采用厚度为0.8—1.0mm冷轧钢板，采用二氧化碳保护焊焊接，边缘打磨处理，表面经酸洗、磷化及环氧树脂户外粉静电喷涂，具备较强的耐酸碱防护能力；整体讲台由多个独立的柜体组合而成，柜体中预留教师主控电源、电脑键盘、水槽安装等位置；中间三个柜体为正面单开门，两侧柜子为侧面双开门，优化物品摆放空间。 4.拉手：在柜门或抽屉正面上方处一体折弯而成，外观整体流畅，造型独特美观； 5.防撞胶垫：装于抽屉及门板内侧，减缓碰撞，保护柜体； 6.门板及抽面：采用双层钢板，必须两层组装式设计，保证两层双面都经过喷涂处理，保证门板和抽面具备较强硬度，不轻易出现凹陷； 7.铰链：采用具有缓冲功能的耐腐蚀铰链，开合十万次不变形。 8.滑轨：三节重型滚珠滑轨，承重性强，滑动性能良好，无噪音； 9.固定桌脚：采用柜体内置可调PP塑料调整脚，保证调整脚前后都可以调节高低。 10.▲依据GB/T 1741-2020《漆膜耐霉菌测定法》检测耐霉菌性能：黑曲霉、黄曲霉、宛氏拟青霉、出芽短梗霉、绿色木霉检测均为不低于2级； 11.▲依据QB/T 4371-2012《家具抗菌性能的评价》检测大肠埃希氏菌（大肠杆菌）、金黄色葡萄球菌，两种菌种抑菌率均≥90%； 12.▲依据GB/T 17657-2022《人造板及饰面人造板理化性能试验方法》表面耐划痕性能：2.0N载荷下仅存在不连续划痕、轻微划痕痕迹或未见划痕，4.0N载荷出现≥90%连续双圈清晰划痕，耐划痕等级达到3级。 | E4: 张 | F4: 1
A5: 2 | B5: 实验室专用水槽 | C5: 440×330×190mm | D5: 1.规格：440mm×330mm×190mm 2.采用实验室专用高密度PP一体化成型水槽。 | E5: 只 | F5: 1
A6: 3 | B6: 三联高低位龙头 | C6: 三联 | D6: 1.高教三联水嘴，高度670mm。 2.材质：主体采用ø22mm×2.3mm的59-1及以上黄铜制造。进水管采用ø22mm×1.3mm管径的304及以上不锈钢制造；出水管采用ø15mm×1mm管径的304及以上不锈钢制造。 3.涂层：涂层经亚光环氧树脂耐酸碱粉末涂料热固处理，耐腐蚀、耐热，防紫外线辐射。 4.陶瓷阀芯：可90°旋转，使用寿命开关要求达到20万次，静态最大耐压10bar，符合GB18145-2014标准。 5.开关旋钮：采用高密度PP，人体工学设计，手感舒适。 | E6: 套 | F6: 1
A7: 4 | B7: ◆学生实验桌 | C7: 1200×600×780mm | D7: 1.尺寸：1200mm×600mm×780mm 2.台面材料：采用厚度≥20mm陶瓷台面 3.采用新型塑铝结构，整体桌脚呈Z字造型，倾斜式桌腿立柱设计，学生位镂空式设计，符合人体工程学设计。书包斗采用整体PP塑料一次性注塑成型，规格440mm×260mm×160mm，书包斗带有横竖向加强筋整体加厚设计，并且带有横竖向透气孔，中间设挂凳卡，挂凳处加厚设计防止实验凳掉落损坏桌斗。两个书包斗中间设有一个翻盖式电源盒，电源盒尺寸为300mm×285mm×150mm。电源盒采用ABS工程塑料注塑成型，耐老化不导电，电源盒采用三副注塑模具组合而成，盒子内部后方预留电线走线孔位。 4.桌脚采用三段式高强度铝合金结构，上部铸铝脚尺寸为570mm×55mm×95mm，下部铸铝脚尺寸为545mm×57mm×125mm，中立柱采用100mm×46mm×1.5mm厚承重型铝合金型材，采用倾斜式设计，立柱外侧配有装饰线条增加美观性。上下脚采用铝合金一次压铸成型，上下脚的壁厚度≥2.5mm，连接处壁厚加强至4mm；采用高强度螺丝连接桌腿与立柱，铸铝下脚背部采用横竖向加强筋连接保持桌子脚更加稳固；桌子上脚后部装有支撑杆，支撑杆采用ABS一次注塑成型，尺寸270mm×26mm×41mm，一头嵌入上桌架，另一头固定在立柱上，呈三角形结构，使整体结构更稳固。下桌脚设有专用孔位可以与地面固定，设计可以安装调整脚的孔位，并配有ABS脚套装饰盖。外观流线型设计，简洁美观，易碰撞处全部采用倒圆角，产品款式要求整体设计美观、合理、安全、牢固、耐用。金属表面经环氧树脂粉末喷涂高温固化处理。 5.桌面下方通过三条专用金属材料和塑料连接件连接实验桌两侧的桌脚和立柱，三条金属材料尺寸为30mm×30mm横截面积，采用高强度螺丝连接，桌斗下部一条横梁为横截面积85mm×14mm铝合金型材，用高强度螺丝固定在两侧桌脚的立柱上，外观流线型设计，简洁美观。 6.考虑到实验室电线预埋可能存在偏差，功能走线柱有可能无法遮挡盖住电线，实验桌脚和立柱设计电源走线孔位，必要时电源线可从桌脚底部穿过立柱从桌子一侧与学生电源线连接。 7.▲依据T/CIQA10-2020《实验室家具用陶瓷台面技术要求与试验方法》检测承载性能：样品上施加400kg缓慢均布载荷，保载不低于24h，样品未被破坏。 8.▲依据T/CIQA10-2020《实验室家具用陶瓷台面技术要求与试验方法》检测耐高温性能：升温至1000°C，保持1h，取出后迅速放置在样品表面，常温下1h后检查样品表面变化。样品表面无开裂、无变色。 | E7: 张 | F7: 28
A8: 5 | B8: 实验凳 | C8: Φ315×420—470mm | D8: 1.规格：凳面直径315mm，高度420—470mm（高度可调）； 2.凳面：采用环保型ABS改性塑料一次性注塑成型，表面细纹咬花，防滑不发光3.脚钢架：采用20mm×40mm×1.5mm的椭圆形无缝钢管经全圆满焊接而成，结构牢固，经高温粉体烤漆处理，长时间使用也不会产生表面烤漆剥落现象 3.脚垫：采用PP加耐磨纤维质塑料，实心倒钩式一体射出成型，凳子胶垫为倒刺状设计，不易脱落。 4.凳面可通过旋转螺杆来升降凳子高度，可调高度5cm | E8: 张 | F8: 56
A9: 智能吊装系统
A10: 1 | B10: 智能系统控制柜 | C10: 400×150×600mm(±5mm) | D10: 1.结构参数：系统总控柜（挂壁式）“三部分”结构设计，整体规格400mm×150mm×600mm（±5mm）；箱体厚度为1mm(±0.2mm)SPCC冷轧钢板，表面光滑，不易变形，强度高等特点，钣金折弯成型，所有金属表面经环氧树脂粉末喷涂高温固化处理和耐酸碱、耐腐蚀。 2.技术要求： （1）柜右侧上端为电气设备安装层，右侧下柜配有显示屏操作窗口，规格275mm×150mm（±5mm），呈45°上斜坡式，操作视角，左侧配有紧急停开关、启、停开关。 （2）控制箱内配置导轨式接线端子、电源总开关、导轨五孔插座2组、漏保漏电断路器2组、单片机控制器及功能扩展模块1套，安全系统长时间不操作自动切断总电源。 | E10: 台 | F10: 1
A11: 2 | B11: 智能升降机构系统 | C11: 530×235×500mm（±10mm） | D11: 1.整体尺寸：530mm×235mm×500mm（±10mm）。 2.箱体外壳：采用厚度≥1mm的冷轧钢板，经激光切割折弯成型，表面经酸洗磷化处理，静电喷涂环保粉末高温处理工艺，表面光滑，不易变形，强度高等特点，无有害物质，具有防腐性高。 3.升降传动机构：绕线旋转线槽模块采用汽车轮毂式，规格φ490mm，材质采用ABS工程塑料模具注塑一次成型，传动轴、底座轴承，减速电机DC24V，空载功率15W。 | E11: 个 | F11: 1
A12: 3 | B12: 电源储藏模块装置 | C12: 400×400×150mm（±5mm） | D12: 1.采用内外双层结构设计，外壳规格400mm×400mm×150mm（±5mm），内胆规格φ285mm×160mm（±5mm） 2.材质：采用ABS工程塑料模具注塑一次成型，有效提高光源的聚光性和产品的牢固性。 3.四周氛围灯：储藏模块内四周氛围LED光源，高亮度光源和隔离驱动器，灯罩采用双面磨砂厚度≥1.5mmPC散光板。 | E12: 个 | F12: 14
A13: 4 | B13: 顶部电源供应装置模块 | C13: 220×220×180mm(±5mm) | D13: 1.外形整体规格220mm×220mm×180mm（±5mm）， 2.材质：采用ABS工程塑料模具注塑一次成型。 3.供应装置模块顶部配有固定电缆线防水接头，四周预留了高、低压电源位置，底部中间配有一个限位开关，底部有四个软胶落地脚。 | E13: 个 | F13: =F12 -> 14
A14: 5 | B14: 学生多功能电源模块 | D14: 1.结构参数：学生多功能电源模块壳体由上外壳，底座、四面电源面板组成，采用改性ABS材料，各部件模具注塑一次成型，电源面板基材是绝缘ABS注塑一次成型；面纸采用耐磨、耐腐蚀、PC薄膜面板；界面文字清晰美观， 2.内置配有一个120VA工频隔离电源变压器。 3.学生电源信息显示：采用≥1.8寸彩色TFT为显示界面，配合高速MCU可流畅显示GUI，四路多功能轻触开关为控制主体，在不同状态下实现不同功能，具体详细参数如下： （1）交流电源：输出0-30V交流，分辨率为1V，电流实时显示，显示分辨率为0.01A，具备过流短路保护。 （2）直流电源：输出0-30V直流，分辨率为0.1V，电流实时显示，显示分辨率为0.01A，具备过流短路保护。 （3）过载保护：当低压电源有过流或短路时，电路实现过载保护功能，此时界面提示过载，且有声音提示，随后应检查实验电路或负载是否正确，排除问题后可按任意按键实现电源复位。 （4）锁定功能：电源可以由学生自行单独操作，也可由老师电源独立控制。当老师锁定学生电源后，界面提示锁定，此时学生按键设计电压功能都将失效，且有声音提示，表示电源已被锁定，只能由教师电源控制，解锁时按键功能恢复正常。 （5）锁电子举手：当老师有提问时，界面可显示老师提问状态，可选择性举手，老师可在主控端实时显示学生举手状态及位置。 4.学生多功能电源模块底部，设有压力传感器，当电源降至桌面时，传感器反馈压力，学生电源模块将自动停止下降。学生在实验操作过程中，获得教师的允许，可在学生多功能电源模块降至适合位置时，自行触碰底部压力感受器，真正实现因人而异，高度自由。 5.当教学过程中，出现不明原因，导致学生多功能电源模块无法正常下降时，可长按底部压力感受器，电源模块将自动下降。 | E14: 套 | F14: 14
A15: 6 | B15: 高压电源模块 | D15: 1.学生电源操作界面基材工程阻燃ABS塑料；面纸加贴PC膜加贴；界面文字清晰美观。 2.高压电源由教师电源统一供给，新国标五孔多功能220V安全插座四组；插口带保护门；额定电流10A。 3.高压电源保险管；USB插座四组，RJ45网络接口二组。 | E15: 组 | F15: 14
A16: 7 | B16: 吊装安装支架 | C16: 130×38×740mm(±5mm) | D16: 1.规格：130mm×38mm×740mm(±5mm) 2.采用冷轧钢板经激光切割、数控冲压、数控折弯成型，生产工艺采取模块组合，便于安装，外观流线型设计，简洁美观 3.表面经环氧树脂粉末静电喷涂、高温固化处理，耐腐蚀。 | E16: 套 | F16: 14
A17: 8 | B17: 综合布线 | C17: 国标 | D17: 国标 | E17: 项 | F17: 1
A18: 9 | B18: 安装支架 | C18: 定制 | D18: 环氧树脂喷涂金属吊杆 | E18: 式 | F18: 1
A19: 10 | B19: 安装辅件 | C19: 定制 | D19: 国标五金件 | E19: 式 | F19: 1
A20: 17.物理力学实验室
A21: 1 | B21: ◆教师演示讲台 | C21: 2400×700×850mm | D21: 1.规格：2400mm×700mm×850mm 2.台面：采用厚度≥12.7mm实心理化板台面。 3.柜体：采用厚度为0.8—1.0mm冷轧钢板，采用二氧化碳保护焊焊接，边缘打磨处理，表面经酸洗、磷化及环氧树脂户外粉静电喷涂，具备较强的耐酸碱防护能力；整体讲台由多个独立的柜体组合而成，柜体中预留教师主控电源、电脑键盘、水槽安装等位置；中间三个柜体为正面单开门，两侧柜子为侧面双开门，优化物品摆放空间。 4.拉手：在柜门或抽屉正面上方处一体折弯而成，外观整体流畅，造型独特美观； 5.防撞胶垫：装于抽屉及门板内侧，减缓碰撞，保护柜体； 6.门板及抽面：采用双层钢板，必须两层组装式设计，保证两层双面都经过喷涂处理，保证门板和抽面具备较强硬度，不轻易出现凹陷； 7.铰链：采用具有缓冲功能的耐腐蚀铰链，开合十万次不变形。 8.滑轨：三节重型滚珠滑轨，承重性强，滑动性能良好，无噪音； 9.固定桌脚：采用柜体内置可调PP塑料调整脚，保证调整脚前后都可以调节高低。 10.▲依据GB/T 1741-2020《漆膜耐霉菌测定法》检测耐霉菌性能：黑曲霉、黄曲霉、宛氏拟青霉、出芽短梗霉、绿色木霉检测均为不低于2级； 11.▲依据QB/T 4371-2012《家具抗菌性能的评价》检测大肠埃希氏菌（大肠杆菌）、金黄色葡萄球菌，两种菌种抑菌率均≥90%； 12.▲依据GB/T 17657-2022《人造板及饰面人造板理化性能试验方法》表面耐划痕性能：2.0N载荷下仅存在不连续划痕、轻微划痕痕迹或未见划痕，4.0N载荷出现≥90%连续双圈清晰划痕，耐划痕等级达到3级。 | E21: 张 | F21: 1
A22: 2 | B22: ◆学生实验桌 | C22: 1200×600×780mm | D22: 1.尺寸：1200mm×600mm×780mm 2.台面材料：采用厚度≥20mm陶瓷台面 3.采用新型塑铝结构，整体桌脚呈Z字造型，倾斜式桌腿立柱设计，学生位镂空式设计，符合人体工程学设计。书包斗采用整体PP塑料一次性注塑成型，规格440mm×260mm×160mm，书包斗带有横竖向加强筋整体加厚设计，并且带有横竖向透气孔，中间设挂凳卡，挂凳处加厚设计防止实验凳掉落损坏桌斗。两个书包斗中间设有一个翻盖式电源盒，电源盒尺寸为300mm×285mm×150mm。电源盒采用ABS工程塑料注塑成型，耐老化不导电，电源盒采用三副注塑模具组合而成，盒子内部后方预留电线走线孔位。 4.桌脚采用三段式高强度铝合金结构，上部铸铝脚尺寸为570mm×55mm×95mm，下部铸铝脚尺寸为545mm×57mm×125mm，中立柱采用100mm×46mm×1.5mm厚承重型铝合金型材，采用倾斜式设计，立柱外侧配有装饰线条增加美观性。上下脚采用铝合金一次压铸成型，上下脚的壁厚度≥2.5mm，连接处壁厚加强至4mm；采用高强度螺丝连接桌腿与立柱，铸铝下脚背部采用横竖向加强筋连接保持桌子脚更加稳固；桌子上脚后部装有支撑杆，支撑杆采用ABS一次注塑成型，尺寸270mm×26mm×41mm，一头嵌入上桌架，另一头固定在立柱上，呈三角形结构，使整体结构更稳固。下桌脚设有专用孔位可以与地面固定，设计可以安装调整脚的孔位，并配有ABS脚套装饰盖。外观流线型设计，简洁美观，易碰撞处全部采用倒圆角，产品款式要求整体设计美观、合理、安全、牢固、耐用。金属表面经环氧树脂粉末喷涂高温固化处理。 5.桌面下方通过三条专用金属材料和塑料连接件连接实验桌两侧的桌脚和立柱，三条金属材料尺寸为30mm×30mm横截面积，采用高强度螺丝连接，桌斗下部一条横梁为横截面积85mm×14mm铝合金型材，用高强度螺丝固定在两侧桌脚的立柱上，外观流线型设计，简洁美观。 6.考虑到实验室电线预埋可能存在偏差，功能走线柱有可能无法遮挡盖住电线，实验桌脚和立柱设计电源走线孔位，必要时电源线可从桌脚底部穿过立柱从桌子一侧与学生电源线连接。 7.▲依据T/CIQA10-2020《实验室家具用陶瓷台面技术要求与试验方法》检测承载性能：样品上施加400kg缓慢均布载荷，保载不低于24h，样品未被破坏。 8.▲依据T/CIQA10-2020《实验室家具用陶瓷台面技术要求与试验方法》检测耐高温性能：升温至1000°C，保持1h，取出后迅速放置在样品表面，常温下1h后检查样品表面变化。样品表面无开裂、无变色。 | E22: 张 | F22: 28
A23: 3 | B23: 实验凳 | C23: Φ315×420—470mm | D23: 1.规格：凳面直径315mm，高度420—470mm（高度可调）； 2.凳面：采用环保型ABS改性塑料一次性注塑成型，表面细纹咬花，防滑不发光3.脚钢架：采用20mm×40mm×1.5mm的椭圆形无缝钢管经全圆满焊接而成，结构牢固，经高温粉体烤漆处理，长时间使用也不会产生表面烤漆剥落现象 3.脚垫：采用PP加耐磨纤维质塑料，实心倒钩式一体射出成型，凳子胶垫为倒刺状设计，不易脱落。 4.凳面可通过旋转螺杆来升降凳子高度，可调高度5cm | E23: 张 | F23: 56
A24: 4 | B24: 水槽柜（带出水装置） | C24: 490×595×870mm | D24: 1.尺寸：490mm×595mm×870mm，水槽前面呈现坡度式圆弧造型，后端自带与水槽整体一次注塑成型滴水架设计，滴水架带有6个滴水棒方便储存玻璃仪器。 2.柜体左右两侧分别带有一次注塑成型扣手方便搬运，柜体部分采用全新ABS塑料原料，经注塑模一次注塑成型；柜体由上下座、侧板和柜门部件组成，各部件采用卯榫结构连接，螺丝加固确保柜体结构稳固不扭曲变形；上下座和其他部件采用不同颜色套色拼装使整个水槽台有层次感；柜体后面有一个带锁的检修门，方便日后维修；柜体四角做圆角处理，无安全隐患。 3.水槽自带滴水架一次注塑成型设计，滴水架高度低于100mm防止过高影响学生视线。采用全新耐腐蚀PP材料一次注塑成型，带有防溢水孔，水槽两侧预留安装洗眼器和皂液器安装孔，方便各科室不同需求。槽体内空尺寸420mm×330mm×190mm，以下水口为底点四周均有坡度防止积水；下水口为大口径直排孔配有不锈钢滤网和PP材质水塞。 4.水槽台柜门打开后带有二层置物层板，方便储存实验仪器，层板采用注塑一体成型，防水防潮并且支撑柜体防止变形。水槽部分安置在柜体上面，需在柜体内侧使用螺丝加固连接，防止在使用过程中脱离；所有加固螺丝均采用304及以上不锈钢材质，并处在柜体内侧暗处，安装完成后外表无可见螺丝。柜体底部带有注塑成型底座美观大方，不同配色增加层次感。 5.▲PP水槽、ABS柜体塑料部件防霉性能：依据GB/T 24128-2018《塑料 塑料防霉剂的防霉效果评估》，防霉等级应不低于2级。 | E24: 个 | F24: 1
A25: 5 | B25: 电气布线（地面以上部分） | C25: 国标 | D25: 阻燃线管；国标线材，符合国家标准。 | E25: 套 | F25: 1
A26: 18.物理电学实验室
A27: 1 | B27: ◆教师演示讲台 | C27: 2400×700×850mm | D27: 1.规格：2400mm×700mm×850mm 2.台面：采用厚度≥12.7mm实心理化板台面。 3.柜体：采用厚度为0.8—1.0mm冷轧钢板，采用二氧化碳保护焊焊接，边缘打磨处理，表面经酸洗、磷化及环氧树脂户外粉静电喷涂，具备较强的耐酸碱防护能力；整体讲台由多个独立的柜体组合而成，柜体中预留教师主控电源、电脑键盘、水槽安装等位置；中间三个柜体为正面单开门，两侧柜子为侧面双开门，优化物品摆放空间。 4.拉手：在柜门或抽屉正面上方处一体折弯而成，外观整体流畅，造型独特美观； 5.防撞胶垫：装于抽屉及门板内侧，减缓碰撞，保护柜体； 6.门板及抽面：采用双层钢板，必须两层组装式设计，保证两层双面都经过喷涂处理，保证门板和抽面具备较强硬度，不轻易出现凹陷； 7.铰链：采用具有缓冲功能的耐腐蚀铰链，开合十万次不变形。 8.滑轨：三节重型滚珠滑轨，承重性强，滑动性能良好，无噪音； 9.固定桌脚：采用柜体内置可调PP塑料调整脚，保证调整脚前后都可以调节高低。 10.▲依据GB/T 1741-2020《漆膜耐霉菌测定法》检测耐霉菌性能：黑曲霉、黄曲霉、宛氏拟青霉、出芽短梗霉、绿色木霉检测均为不低于2级； 11.▲依据QB/T 4371-2012《家具抗菌性能的评价》检测大肠埃希氏菌（大肠杆菌）、金黄色葡萄球菌，两种菌种抑菌率均≥90%； 12.▲依据GB/T 17657-2022《人造板及饰面人造板理化性能试验方法》表面耐划痕性能：2.0N载荷下仅存在不连续划痕、轻微划痕痕迹或未见划痕，4.0N载荷出现≥90%连续双圈清晰划痕，耐划痕等级达到3级。 | E27: 张 | F27: 1
A28: 2 | B28: ◆学生实验桌 | C28: 1200×600×780mm | D28: 1.尺寸：1200mm×600mm×780mm 2.台面材料：采用厚度≥20mm陶瓷台面 3.采用新型塑铝结构，整体桌脚呈Z字造型，倾斜式桌腿立柱设计，学生位镂空式设计，符合人体工程学设计。书包斗采用整体PP塑料一次性注塑成型，规格440mm×260mm×160mm，书包斗带有横竖向加强筋整体加厚设计，并且带有横竖向透气孔，中间设挂凳卡，挂凳处加厚设计防止实验凳掉落损坏桌斗。两个书包斗中间设有一个翻盖式电源盒，电源盒尺寸为300mm×285mm×150mm。电源盒采用ABS工程塑料注塑成型，耐老化不导电，电源盒采用三副注塑模具组合而成，盒子内部后方预留电线走线孔位。 4.桌脚采用三段式高强度铝合金结构，上部铸铝脚尺寸为570mm×55mm×95mm，下部铸铝脚尺寸为545mm×57mm×125mm，中立柱采用100mm×46mm×1.5mm厚承重型铝合金型材，采用倾斜式设计，立柱外侧配有装饰线条增加美观性。上下脚采用铝合金一次压铸成型，上下脚的壁厚度≥2.5mm，连接处壁厚加强至4mm；采用高强度螺丝连接桌腿与立柱，铸铝下脚背部采用横竖向加强筋连接保持桌子脚更加稳固；桌子上脚后部装有支撑杆，支撑杆采用ABS一次注塑成型，尺寸270mm×26mm×41mm，一头嵌入上桌架，另一头固定在立柱上，呈三角形结构，使整体结构更稳固。下桌脚设有专用孔位可以与地面固定，设计可以安装调整脚的孔位，并配有ABS脚套装饰盖。外观流线型设计，简洁美观，易碰撞处全部采用倒圆角，产品款式要求整体设计美观、合理、安全、牢固、耐用。金属表面经环氧树脂粉末喷涂高温固化处理。 5.桌面下方通过三条专用金属材料和塑料连接件连接实验桌两侧的桌脚和立柱，三条金属材料尺寸为30mm×30mm横截面积，采用高强度螺丝连接，桌斗下部一条横梁为横截面积85mm×14mm铝合金型材，用高强度螺丝固定在两侧桌脚的立柱上，外观流线型设计，简洁美观。 6.考虑到实验室电线预埋可能存在偏差，功能走线柱有可能无法遮挡盖住电线，实验桌脚和立柱设计电源走线孔位，必要时电源线可从桌脚底部穿过立柱从桌子一侧与学生电源线连接。 7.▲依据T/CIQA10-2020《实验室家具用陶瓷台面技术要求与试验方法》检测承载性能：样品上施加400kg缓慢均布载荷，保载不低于24h，样品未被破坏。 8.▲依据T/CIQA10-2020《实验室家具用陶瓷台面技术要求与试验方法》检测耐高温性能：升温至1000°C，保持1h，取出后迅速放置在样品表面，常温下1h后检查样品表面变化。样品表面无开裂、无变色。 | E28: 张 | F28: 28
A29: 3 | B29: 实验凳 | C29: Φ315×420—470mm | D29: 1.规格：凳面直径315mm，高度420—470mm（高度可调）； 2.凳面：采用环保型ABS改性塑料一次性注塑成型，表面细纹咬花，防滑不发光3.脚钢架：采用20mm×40mm×1.5mm的椭圆形无缝钢管经全圆满焊接而成，结构牢固，经高温粉体烤漆处理，长时间使用也不会产生表面烤漆剥落现象 3.脚垫：采用PP加耐磨纤维质塑料，实心倒钩式一体射出成型，凳子胶垫为倒刺状设计，不易脱落。 4.凳面可通过旋转螺杆来升降凳子高度，可调高度5cm | E29: 张 | F29: 56
A30: 4 | B30: 水槽柜（带出水装置） | C30: 490×595×870mm | D30: 1.尺寸：490mm×595mm×870mm，水槽前面呈现坡度式圆弧造型，后端自带与水槽整体一次注塑成型滴水架设计，滴水架带有6个滴水棒方便储存玻璃仪器。 2.柜体左右两侧分别带有一次注塑成型扣手方便搬运，柜体部分采用全新ABS塑料原料，经注塑模一次注塑成型；柜体由上下座、侧板和柜门部件组成，各部件采用卯榫结构连接，螺丝加固确保柜体结构稳固不扭曲变形；上下座和其他部件采用不同颜色套色拼装使整个水槽台有层次感；柜体后面有一个带锁的检修门，方便日后维修；柜体四角做圆角处理，无安全隐患。 3.水槽自带滴水架一次注塑成型设计，滴水架高度低于100mm防止过高影响学生视线。采用全新耐腐蚀PP材料一次注塑成型，带有防溢水孔，水槽两侧预留安装洗眼器和皂液器安装孔，方便各科室不同需求。槽体内空尺寸420mm×330mm×190mm，以下水口为底点四周均有坡度防止积水；下水口为大口径直排孔配有不锈钢滤网和PP材质水塞。 4.水槽台柜门打开后带有二层置物层板，方便储存实验仪器，层板采用注塑一体成型，防水防潮并且支撑柜体防止变形。水槽部分安置在柜体上面，需在柜体内侧使用螺丝加固连接，防止在使用过程中脱离；所有加固螺丝均采用304及以上不锈钢材质，并处在柜体内侧暗处，安装完成后外表无可见螺丝。柜体底部带有注塑成型底座美观大方，不同配色增加层次感。 5.▲PP水槽、ABS柜体塑料部件防霉性能：依据GB/T 24128-2018《塑料 塑料防霉剂的防霉效果评估》，防霉等级应不低于2级。 | E30: 个 | F30: 1
A31: 5 | B31: 电气布线（地面以上部分） | C31: 国标 | D31: 阻燃线管；国标线材，符合国家标准。 | E31: 套 | F31: 1
A32: 19.物理智慧云实验室（兼数字化探究实验室）
A33: 1 | B33: ◆教师演示讲台 | C33: 2400×700×850mm | D33: 1.规格：2400mm×700mm×850mm 2.台面：采用厚度≥12.7mm实心理化板台面。 3.柜体：采用厚度为0.8—1.0mm冷轧钢板，采用二氧化碳保护焊焊接，边缘打磨处理，表面经酸洗、磷化及环氧树脂户外粉静电喷涂，具备较强的耐酸碱防护能力；整体讲台由多个独立的柜体组合而成，柜体中预留教师主控电源、电脑键盘、水槽安装等位置；中间三个柜体为正面单开门，两侧柜子为侧面双开门，优化物品摆放空间。 4.拉手：在柜门或抽屉正面上方处一体折弯而成，外观整体流畅，造型独特美观； 5.防撞胶垫：装于抽屉及门板内侧，减缓碰撞，保护柜体； 6.门板及抽面：采用双层钢板，必须两层组装式设计，保证两层双面都经过喷涂处理，保证门板和抽面具备较强硬度，不轻易出现凹陷； 7.铰链：采用具有缓冲功能的耐腐蚀铰链，开合十万次不变形。 8.滑轨：三节重型滚珠滑轨，承重性强，滑动性能良好，无噪音； 9.固定桌脚：采用柜体内置可调PP塑料调整脚，保证调整脚前后都可以调节高低。 10.▲依据GB/T 1741-2020《漆膜耐霉菌测定法》检测耐霉菌性能：黑曲霉、黄曲霉、宛氏拟青霉、出芽短梗霉、绿色木霉检测均为不低于2级； 11.▲依据QB/T 4371-2012《家具抗菌性能的评价》检测大肠埃希氏菌（大肠杆菌）、金黄色葡萄球菌，两种菌种抑菌率均≥90%； 12.▲依据GB/T 17657-2022《人造板及饰面人造板理化性能试验方法》表面耐划痕性能：2.0N载荷下仅存在不连续划痕、轻微划痕痕迹或未见划痕，4.0N载荷出现≥90%连续双圈清晰划痕，耐划痕等级达到3级。 | E33: 张 | F33: 1
A34: 2 | B34: ◆学生实验桌 | C34: 1200×600×780mm | D34: 1.尺寸：1200mm×600mm×780mm 2.台面材料：采用厚度≥20mm陶瓷台面 3.采用新型塑铝结构，整体桌脚呈Z字造型，倾斜式桌腿立柱设计，学生位镂空式设计，符合人体工程学设计。书包斗采用整体PP塑料一次性注塑成型，规格440mm×260mm×160mm，书包斗带有横竖向加强筋整体加厚设计，并且带有横竖向透气孔，中间设挂凳卡，挂凳处加厚设计防止实验凳掉落损坏桌斗。两个书包斗中间设有一个翻盖式电源盒，电源盒尺寸为300mm×285mm×150mm。电源盒采用ABS工程塑料注塑成型，耐老化不导电，电源盒采用三副注塑模具组合而成，盒子内部后方预留电线走线孔位。 4.桌脚采用三段式高强度铝合金结构，上部铸铝脚尺寸为570mm×55mm×95mm，下部铸铝脚尺寸为545mm×57mm×125mm，中立柱采用100mm×46mm×1.5mm厚承重型铝合金型材，采用倾斜式设计，立柱外侧配有装饰线条增加美观性。上下脚采用铝合金一次压铸成型，上下脚的壁厚度≥2.5mm，连接处壁厚加强至4mm；采用高强度螺丝连接桌腿与立柱，铸铝下脚背部采用横竖向加强筋连接保持桌子脚更加稳固；桌子上脚后部装有支撑杆，支撑杆采用ABS一次注塑成型，尺寸270mm×26mm×41mm，一头嵌入上桌架，另一头固定在立柱上，呈三角形结构，使整体结构更稳固。下桌脚设有专用孔位可以与地面固定，设计可以安装调整脚的孔位，并配有ABS脚套装饰盖。外观流线型设计，简洁美观，易碰撞处全部采用倒圆角，产品款式要求整体设计美观、合理、安全、牢固、耐用。金属表面经环氧树脂粉末喷涂高温固化处理。 5.桌面下方通过三条专用金属材料和塑料连接件连接实验桌两侧的桌脚和立柱，三条金属材料尺寸为30mm×30mm横截面积，采用高强度螺丝连接，桌斗下部一条横梁为横截面积85mm×14mm铝合金型材，用高强度螺丝固定在两侧桌脚的立柱上，外观流线型设计，简洁美观。 6.考虑到实验室电线预埋可能存在偏差，功能走线柱有可能无法遮挡盖住电线，实验桌脚和立柱设计电源走线孔位，必要时电源线可从桌脚底部穿过立柱从桌子一侧与学生电源线连接。 7.▲依据T/CIQA10-2020《实验室家具用陶瓷台面技术要求与试验方法》检测承载性能：样品上施加400kg缓慢均布载荷，保载不低于24h，样品未被破坏。 8.▲依据T/CIQA10-2020《实验室家具用陶瓷台面技术要求与试验方法》检测耐高温性能：升温至1000°C，保持1h，取出后迅速放置在样品表面，常温下1h后检查样品表面变化。样品表面无开裂、无变色。 | E34: 张 | F34: 28
A35: 3 | B35: 实验凳 | C35: Φ315×420—470mm | D35: 1.规格：凳面直径315mm，高度420—470mm（高度可调）； 2.凳面：采用环保型ABS改性塑料一次性注塑成型，表面细纹咬花，防滑不发光3.脚钢架：采用20mm×40mm×1.5mm的椭圆形无缝钢管经全圆满焊接而成，结构牢固，经高温粉体烤漆处理，长时间使用也不会产生表面烤漆剥落现象 3.脚垫：采用PP加耐磨纤维质塑料，实心倒钩式一体射出成型，凳子胶垫为倒刺状设计，不易脱落。 4.凳面可通过旋转螺杆来升降凳子高度，可调高度5cm | E35: 张 | F35: 56
A36: 4 | B36: 顶装智能系统总控柜 | C36: 400×150×600mm(±5mm) | D36: 1.结构参数：系统总控柜（挂壁式）“三部分”结构设计，整体规格400mm×150mm×600mm（±5mm）；箱体厚度为1mm(±0.2mm)SPCC冷轧钢板，表面光滑，不易变形，强度高等特点，钣金折弯成型，所有金属表面经环氧树脂粉末喷涂高温固化处理和耐酸碱、耐腐蚀。 2.技术要求： 2.技术要求： （1）柜右侧上端为电气设备安装层，右侧下柜配有显示屏操作窗口，规格275mm×150mm（±5mm），呈45°上斜坡式，操作视角，左侧配有紧急停开关、启、停开关。 （2）控制箱内配置导轨式接线端子、电源总开关、导轨五孔插座2组、漏保漏电断路器2组、单片机控制器及功能扩展模块1套，安全系统长时间不操作自动切断总电源。 | E36: 台 | F36: 1
A37: 5 | B37: 顶装智能控制平台 | C37: 10.1寸 | D37: 1.结构参数 智能控制平台操作显示屏采用10.1寸智能触摸屏；彩色24位显示；双8051单芯片驱动方案；GUI核运行，向内镶入式安装位；呈45°视角上斜坡，契合使用者的操作视角界面清晰， 2.技术参数智能电源管理系统要求如下： （1）界面显示：可显示当前北京时间、中文星期和温湿度。 （2）交流输出：可进行单台或统一控制学生交流电源输出，输出范围0-30V，分辨率1V。 （3）直流输出：可进行单台或统一控制学生直流电源输出，输出范围0-30V，分辨率0.1V。 （4）学生锁定：由老师控制，开启后学生电源不能自行调节，只能由老师进行控制使用。 （5）学生插座：由老师控制，默认电源关闭。 （6）▲学生举手： ①提问辅助功能：系统启用后，当实验过程中学生触发举手键，教师可通过可视化界面快速定位求助学生，实现精准教学指导。 ②课堂抢答功能：系统启用后，教师端启动抢答模式，系统将构建实时应答通道。学生终端抢答功能自动激活，学生触发举手键后，教师终端将同步显示应答者实验台编号，动态更新应答顺序队列。 （7）教师端语音播报功能：系统为教师端配备智能语音辅助系统，提供实时操作引导，功能触发时自动播报。 （8）电源升降控制：对学生终端的电源模块升降状态进行控制，可进行单选及全选操作。 （9）整点报时：系统配备时钟系统，提供智能化报时服务。标准普通话语音整点自动播报。 （10）定时关机：系统配备智能化电源管理系统，提供精准的定时关机服务，可设定范围为0-720分钟，并在可视化显示屏上显示倒计时。 （11）▲自动关机提醒：系统配备多重关机保护机制，确保实验数据安全。设有预警提示机制，关机前5分钟启动预警流程，每间隔1分钟语音播报剩余时间。 （12）系统设置：该界面可设置教师编号、关机时间、开机验证方式以及语音播报是否开启。多样性的修改选项，包括但不限于设备参数、出厂设置、密码更改和时间设置等。 （13）硬件信息：系统配备精准的硬件运行监测模块，提供全面的设备使用数据，累计使用时长精确到小时。 （14）一键关机：点击后可对全室吊装设备进行断电关机操作。 | E37: 套 | F37: 1
A38: 6 | B38: APP吊装控制系统 | C38: 定制 | D38: 1.支持APP登录操作。能实现电源、照明、给排水、摇臂、排风系统等控制。 2.互联模式采用内建局域网，在一定范围内发射无线信号，外部设备输入正确密码后，连接Wi-Fi与控制柜进行互联，实现远程控制。 3.APP吊装控制系统操作界面和顶装智能控制平台操作界面布局和功能完全一致，方便教师在授课时，进行双设备切换。 4.温湿度显示：连接控制柜检测环境中实时的温度、湿度并以数值的形式显示。 5.电源控制：可任意控制单组或集中控制220V的学生插座的开与关。可控制学生电源的交、直流电压切换以及电压值调节。当学生电源被锁定，教师给与学生端指定电压值，学生端学生电源无法私自修改电压数值。 | E38: 套 | F38: 1
A39: 7 | B39: 环境检测实时监视 | C39: 定制 | D39: 1.内置七合一传感器模块，灵敏度高，数据稳定。 （1）数字串口输出，采用485/UART输出模式，集CO2，甲醛，TVOC，激光粉尘PM2.5,PM10颗粒物，温度，湿度于一体。 （2）每2秒自动通过485/UART信号输出七组传感器监测数据。 （3）温度精确到0.1℃，湿度精确到0.1%。 （4）工作电压：5.0±0.2VDC；工作电流：≤80mA；工作温度：0℃～50℃；工作湿度：≤95％RH。 2.在中控屏幕上方显示日期、时间。 | E39: 项 | F39: 1
A40: 8 | B40: 无线投屏器 | C40: / | D40: 1.传输方式：无线Wi-Fi，2.4G+5.8G；供电：5V，支持浪涌防护； 2.输出：HDMI，分辨率：≥4K/60Hz， 3.支持横竖屏切换；兼容苹果、安卓、Windows等不同系统。 | E40: 个 | F40: 1
...

Sheet 四层
A1: 四层
A2: 序号 | B2: 名称 | C2: 尺寸规格 | D2: 技术参数 | E2: 单位 | F2: 数量 | G2: 单价 | H2: 合计 | I2: 所投品牌
A3: 22.科创中心
A4: 一、上课区
A5: 1 | B5: 移动讲台 | C5: 1500×600×1012mm±5mm | D5: 1.尺寸：1500mm×600mm×1012mm±5mm； 2.材质：采用抗倍特板/钢板； 3.工艺：桌面尺寸：1450mm×600mm×12mm，采用苹果木色抗倍特板一体成型。可耐80度以上高温。 4.防水：浸水24小时后的膨胀指数不高于0.1mm，面板四周采CNC修边，四周倒角，圆润光滑无任何毛边。 5.柜体尺寸：500mm×520mm×920mm，板厚≥0.8mm，柜体内带有层板，采用三维立体激光微缝切割，柜体一体成型，箱体精密度和牢固度强 6.桌面底部可倾斜方便操作。 | E5: 张 | F5: 1
A6: 2 | B6: 学生桌 | C6: 1200×1400×740mm | D6: 1.尺寸：1200mm×1400mm×740mm 2.台面：采用新型、环保、厚度≥12.7mm实心理化板台面，台面为六边形。 3.台身架构：台身所有部件采用高分子环保结构（整桌无木质材料），组合而成，两个组位之间采用榫卯连接结构，牢固易安装。 4.台身功能：台身采用注塑件相互连接，坚固耐用，桌身内含学生书包斗，下部位是综合功能柜。整体尺寸比例经过人体工程学设计。 | E6: 张 | F6: 8
A7: 3 | B7: 学生凳 | C7: 400×280×44 | D7: 1.尺寸：400×280×440mm，净重不低于3.7kg。 2.凳子双拼色设计，凳子面为粉彩绿颜色，凳子腿为纯白色喷涂。凳子腿为U形钢架设计，凳腿顶部带有45度坡度圆润造型。 3.钢架采用25mm×25mm×1.2mm厚钢质方管，钢制部分采用酸洗、磷化、除油、除锈并经过热固性环，聚酯型粉末静电喷塑，环保无毒害、无气味、平整美观，不易脱落； 4.凳面面板：采用厚度≥1.0mm及以上钢板经机压成形、焊接制作，表面经酸洗、磷化处理、环氧树脂静电粉末涂装处理； 5.凳脚需带塑料防滑垫。 | E7: 张 | F7: 48
A8: 4 | B8: 造型隔断柜 | C8: 3000×400×2000mm | D8: 1.尺寸：3000mm×400mm×2000mm，采用实木多层板，造型教室现场实际情况定制 | E8: 组 | F8: 2
A9: 5 | B9: 升降电源卷线器 | D9: 220V，升降电源 | E9: 台 | F9: 8
A10: 6 | B10: 触控板套装 | D10: 1.支持≥22个输入接口 2.带有二次开发扩展接口 3.带有6个可控制的LED指示灯 4.触控板尺寸不超过5cm×10cm×0.9cm 5.采用USB2.0通讯协议 6.支持Windows系列操作系统（WinXP,Vista,Win7,Win8,Win10） 7.支持Mac系列操作系统（Mac OS X 10.6以上） 8.可以设置组合键、打开网站、调节音量、设置灵敏度等功能 9.配套手柄：10组按键，1组摇杆，1个功能切换开关，可以设置组合键、打开网站、调节音量、设置灵敏度等功能 10.包含主板×1、手柄×1、手腕带×1、USB数据线×1、鳄鱼夹×12、铝箔胶带×1、压缩海绵×3、橡皮泥×6、杜邦线×20、使用说明书×1 11.配套电子档课程不低于40节 | E10: 套 | F10: 15
A11: 7 | B11: 智慧电子套装 | D11: 1.硬件系列：所有模块硬件需满足结构部分兼容积木件，具有乐高单位的孔位；同时可与金属结构件兼容，具备螺丝孔位；模块外部结构具有可卡扣凹槽；同时木板、3D打印部件、超轻黏土、纸卡等众多材料做结构部分无缝对接。 2.电路特点：采用双Micro USB设计：烧写程序端口、模拟键盘端口；可与电脑进行互动连接； 3.采用4PIN-2510接线座，兼容杜邦线、固定孔位可无损拼接积木件、四周开具卡口可固定亚克力、纸板等外部材料；具有复位按钮； 4.传感器模块清单：逻辑主控、触摸传感器、光线传感器、红外接近传感器、按键开关、倾斜开关、拨动开关、蜂鸣器、三色灯或逻辑、LED驱动、录音播放模块、扬声器、电机驱动、马达： 5.配套课程： 第一节课：神奇的模块 第二节课：变色的笔筒 第三节课：发光的花瓶 第四节课：智能台灯 第五节课：防盗钱包 第六节课：存声礼物盒 第七节课：勤劳的闹钟 第八节课：智动手机 第九节课：智能风扇 第十节课：绚丽的圣诞树 第十一节课：天平 第十二节课：防丢器 第十三节课：智慧校园1——智能垃圾桶 第十四节课：智慧校园2——升旗仪式 第十五节课：智造新社会1——智能楼道灯 第十六节课：智造新社会2——进球提示器 6.耗材清单：无纺布×5、彩纸×5、剪刀×1，双面胶×1，木棒若干，胶水1瓶，彩灯串×1，连接线×4，数据线×1，扇叶×1 | E11: 套 | F11: 15
A12: 8 | B12: 造物版拓展包 | D12: 1.该拓展包需配合智慧电子套装一起使用， 2.清单包含6色超级黏土（红、黄、蓝、白、黑、咖啡色，各100g），木棍×60，A4卡纸×7，积木包×1，15孔连杆×2、15孔梁×2、9孔梁×3、7孔梁×3、5孔梁×2、4孔拐×4、黑销×14、长销×2、2×8薄片×4、2×4薄片×1、1×6薄片×2、1×3薄片×4、滑轮×2。 | E12: 套 | F12: 15
A13: 9 | B13: 智慧物流 | D13: 虚拟仿真软件覆盖编程教学、算法验证、机器人控制、线上竞赛等多场景应用，可满足中小学、校外教育机构及个人学习者，在人工智能、机器人工程、编程教育领域的教学、实训、竞赛全流程需求。 一、软件功能模块 1.软件包含竞赛报名、在线竞赛、主题训练、在线课程、个人中心、CDK 权限兑换等核心功能模块。 2.内置高性能 3D 物理引擎，支持真实重力模拟、精准碰撞检测与物理交互计算。 3.支持 3D 场景实时渲染，可多视角自由切换，真实还原场景光影、材质与物理反馈效果。 4.支持机器人、无人机等多种智能载具自由切换，每种载具支持多类型功能拓展与模块化改装。 5.支持云端数据自动同步、在线竞赛实时数据交互与状态同步。 6.支持个人账号信息、所属学校 / 机构信息的查询、编辑与管理。 7.支持赛事信息查询、赛事进度跟踪、在线分组、在线竞赛比拼、在线成绩提交。 8.支持个人编程项目存档、版本管理及云端备份与同步。 9.同时支持图形化编程与代码编程双模式，编程项目支持本地保存、项目导入与导出。 10.支持 CDKEY 授权兑换功能，可实现场景权限管理。 11.内置教学资源管理器，支持 PDF、Word 格式教学资料、赛事规则文件的在线查看与管理。 二、场景地图与任务系统 1.内置场景地图不少于7个独立子场景，场景内可交互任务道具总数不低于80 个。 2.场景任务道具体系包含不少于3 类基础任务道具、2类组合型任务道具。 3.场景支持完成多种典型任务，包括但不限于：新能源模块、特定任务点、物流运输、物资转移。 4.场景内置程序执行计时、任务倒计时与任务耗时统计功能。 5.支持在线成绩不限次数提交与自动判分记录。 6.支持场景运行速度自由切换，可实现 1–5 倍速动态调节。 | E13: 套 | F13: 15
A14: 10 | B14: 感应彩灯制作套装 | D14: 1.无需编程焊接、即插即玩的创意DIY产品，产品可以检测到是否有人在旁边走过，检测到了便点亮雾状的七彩灯珠（灯珠颜色可调）； 2.主件：逻辑主控，人体红外传感器，全彩LED灯 3.辅件：木质结构件 牛皮纸，尼龙铆钉 4.功能：当感应到有人经过的时候，木质结构的台灯自动点亮，半分钟后熄灭。 | E14: 套 | F14: 5
A15: 11 | B15: 翻转木灯制作套装 | D15: 1.无需编程焊接、即插即玩的创意DIY产品，当倾斜木质结构的立方体灯笼时，便可智能点亮灯笼里面的七彩灯条； 2.主件：逻辑主控，倾斜开关，LED灯条 3.辅件：木质结构件 牛皮纸，尼龙铆钉 4.功能：翻转台灯，启动木质台灯明灭交替 | E15: 套 | F15: 5
A16: 12 | B16: 硬币读数制作套装 | D16: 1.无需编程焊接、即插即玩的创意DIY产品，自己动手制作一款智能存钱罐，每投入一枚硬币它都能记录显示出来； 2.主件：编程主控，接近传感器。 3.辅件：木质结构件 牛皮纸，尼龙铆钉 4.功能：每投一个硬币，储钱罐累加计数显示 。 5.知识：红外传感器、发光二极管、计数程序、数字逻辑电路 6.能力：创新手绘、建构思维、结构力学。 | E16: 套 | F16: 5
A17: 二、无人机机器人区
A18: 1 | B18: 编程边台 | C18: 6000×600×780mm | D18: 1.尺寸：6000mm×600mm×780mm 2.台面：采用≥12.7mm厚实芯理化板。 3.柜体：采用厚度≥1.0mm镀锌钢板，采用保护焊焊接，打磨处理，表面经耐酸碱粉末烤漆处理（烤漆膜厚度平均值不小于70μm）； 4.防撞胶垫：装于门板内侧，减缓碰撞，保护柜体； 5.门板：采用双层钢板，两层组装式设计，保证两层双面都喷涂处理，中间采用隔音材料； 6.连接件：采用专用连接组装件； 7.合页：采用不锈钢模具一体成型 8.固定桌脚：采用柜体内置可调整脚，保证调整脚前后都可以调节高低。 | E18: 张 | F18: 3
A19: 2 | B19: 工作椅 | C19: 61×60×86mm | D19: 1.尺寸：61mm×60mm×86mm 2.材质：采用面料饰面，靠背PP+GF材质，扶手采用PP+GF材质，可前后调节 3.坐棉采用厚度≥4cm的高密度泡棉 4.钢架采用厚度≥1.5mm，表面黑色砂纹喷涂处理 5.坐木板采用厚度≥10mm抛压成型多层环保夹板 6.整椅座板可以翻转，钢架可以折叠 | E19: 张 | F19: 12
A20: 3 | B20: 岛式插座 | D20: 钢制电源盒，内含两个多功能五孔插座 | E20: 套 | F20: 15
A21: 4 | B21: 备用桨叶 | D21: 螺旋桨规格：适配四旋翼编程无人机 | E21: 套 | F21: 30
A22: 5 | B22: 备用保护罩 | D22: 桨叶保护罩：适配四旋翼编程无人机 | E22: 套 | F22: 30
A23: 6 | B23: 官方全包围保护罩 | D23: 适配四旋翼编程无人机 | E23: 个 | F23: 10
A24: 7 | B24: 地图4m×4m | D24: 地图4×4m一张；平台一个；伸缩杆2根；三脚架2个；直径70cm或50cm或60cm塑料圆门3个；黄杆2根；黄杆底座2个；黄色圆门夹子6个；2×2×80横杆1根；亚克力板一套；数字字母组合鼠标垫一套；场地二维码一套 | E24: 张 | F24: 1
A25: 8 | B25: 训练道具 | D25: 包括刀旗、识别毯、停机坪 参数、材质同标准版 智能识别码（不同） 功能介绍：配合完成无人机巡线、寻迹等任务，可完成辅助定位、自主穿越障碍程序验证等。 | E25: 套 | F25: 1
A26: 9 | B26: 智能无人系统应用赛场地 | D26: 包含：赛道图（4×5m）1套，竖直圆门（直径50cm）1个；伸缩竖杆1根；水平圆门（直径60cm）1个；水平圆门粗竖杆1套；电子靶1套；电子靶平台板1个；红白杆（1套2根）5套；三脚架8个；物资箱1个；指挥箭头1个；红绿色块各2个；红绿色块板1个；字符板1个；六角扳手1个；定位卡（5个）1套； | E26: 套 | F26: 1
A27: 三、VR/AR互动体验区
A28: 1 | B28: 虚拟体验工作边台 | C28: 6000×600×780mm | D28: 1.尺寸：6000mm×600mm×780mm 2.台面：采用≥12.7mm厚实芯理化板。 3.柜体：采用厚度≥1.0mm镀锌钢板，采用保护焊焊接，打磨处理，表面经耐酸碱粉末烤漆处理（烤漆膜厚度平均值不小于70μm）； 4.防撞胶垫：装于门板内侧，减缓碰撞，保护柜体； 5.门板：采用双层钢板，两层组装式设计，保证两层双面都喷涂处理，中间采用隔音材料； 6.连接件：采用专用连接组装件； 7.合页：采用不锈钢模具一体成型 8.固定桌脚：采用柜体内置可调整脚，保证调整脚前后都可以调节高低。 | E28: 张 | F28: 1
A29: 2 | B29: 展示边台 | C29: 8000×600×780mm | D29: 1.尺寸：8000mm×600mm×780mm 2.台面：采用≥12.7mm厚实芯理化板。 3.柜体：采用厚度≥1.0mm镀锌钢板，采用保护焊焊接，打磨处理，表面经耐酸碱粉末烤漆处理（烤漆膜厚度平均值不小于70μm）； 4.防撞胶垫：装于门板内侧，减缓碰撞，保护柜体； 5.门板：采用双层钢板，两层组装式设计，保证两层双面都喷涂处理，中间采用隔音材料； 6.连接件：采用专用连接组装件； 7.合页：采用不锈钢模具一体成型 8.固定桌脚：采用柜体内置可调整脚，保证调整脚前后都可以调节高低。 | E29: 张 | F29: 1
A30: 3 | B30: 岛式插座 | D30: 钢制电源盒，内含两个多功能五孔插座，带盖板 | E30: 套 | F30: 10
A31: 4 | B31: 学习桌 | C31: 1400×1212×740mm | D31: 1.规格：1400mm×1212mm×740mm，纯白色ABS塑料材质柜体加白色理化板台面。 2.台面：采用新型、环保、厚度≥12.7mm实心理化板台面，台面为六边形。 3.台体颜色：采用整体灰白加蓝色门板的组合，外观新颖。 4.台体结构：整个台体采用环保ABS材料一次成型，坚固耐用。组合台体使用，宽度≥50mm的卡扣对接状连接件榫卯连接，内置高度≥50mm地板环保ABS材料一次成型，防止东西掉落地上，中心内部配有功能柱，用于电、风、水其他的安装使用。 5.桌架高度≥735mm，桌体下部可接触部位均做了圆弧状处理，下部呈内凹状给学生预留出足够的腿部空间。搭配355mm×345mm的上开门综合使用柜。 6.每张桌体都带有长度510mm，高度140mm，深度265mm的书包斗，书包斗旁边装有新国标5孔插座，隐藏于书包斗右侧方便使用，书包斗的外部设有挂凳口，美观方便，节约收纳空间。 | E31: 张 | F31: 4
A32: 5 | B32: 学生凳 | C32: 400×280×44 | D32: 1.尺寸：400×280×440mm，净重不低于3.7kg。 2.凳子双拼色设计，凳子面为粉彩绿颜色，凳子腿为纯白色喷涂。凳子腿为U形钢架设计，凳腿顶部带有45度坡度圆润造型。 3.钢架采用25mm×25mm×1.2mm厚钢质方管，钢制部分采用酸洗、磷化、除油、除锈并经过热固性环，聚酯型粉末静电喷塑，环保无毒害、无气味、平整美观，不易脱落； 4.凳面面板：采用厚度≥1.0mm及以上钢板经机压成形、焊接制作，表面经酸洗、磷化处理、环氧树脂静电粉末涂装处理； 5.凳脚需带塑料防滑垫。 | E32: 张 | F32: 24
A33: 23.STEAM创客中心
A34: 1 | B34: ◆教师演示讲台 | C34: 2400×700×850mm | D34: 1.规格：2400mm×700mm×850mm 2.台面：采用厚度≥12.7mm实心理化板台面。 3.柜体：采用厚度为0.8—1.0mm冷轧钢板，采用二氧化碳保护焊焊接，边缘打磨处理，表面经酸洗、磷化及环氧树脂户外粉静电喷涂，具备较强的耐酸碱防护能力；整体讲台由多个独立的柜体组合而成，柜体中预留教师主控电源、电脑键盘、水槽安装等位置；中间三个柜体为正面单开门，两侧柜子为侧面双开门，优化物品摆放空间。 4.拉手：在柜门或抽屉正面上方处一体折弯而成，外观整体流畅，造型独特美观； 5.防撞胶垫：装于抽屉及门板内侧，减缓碰撞，保护柜体； 6.门板及抽面：采用双层钢板，必须两层组装式设计，保证两层双面都经过喷涂处理，保证门板和抽面具备较强硬度，不轻易出现凹陷； 7.铰链：采用具有缓冲功能的耐腐蚀铰链，开合十万次不变形。 8.滑轨：三节重型滚珠滑轨，承重性强，滑动性能良好，无噪音； 9.固定桌脚：采用柜体内置可调PP塑料调整脚，保证调整脚前后都可以调节高低。 10.▲依据GB/T 1741-2020《漆膜耐霉菌测定法》检测耐霉菌性能：黑曲霉、黄曲霉、宛氏拟青霉、出芽短梗霉、绿色木霉检测均为不低于2级； 11.▲依据QB/T 4371-2012《家具抗菌性能的评价》检测大肠埃希氏菌（大肠杆菌）、金黄色葡萄球菌，两种菌种抑菌率均≥90%； 12.▲依据GB/T 17657-2022《人造板及饰面人造板理化性能试验方法》表面耐划痕性能：2.0N载荷下仅存在不连续划痕、轻微划痕痕迹或未见划痕，4.0N载荷出现≥90%连续双圈清晰划痕，耐划痕等级达到3级。 | E34: 张 | F34: 1
A35: 2 | B35: 实验桌 | C35: 1200×1200×750mm | D35: 1.尺寸：1200mm×1200mm×750mm±5mm； 2.材质：抗倍特板+优质钢架； 3.工艺：桌面材质采用木纹色抗倍特一体成型四周带有凹槽，距边40mm处开一圈凹槽。耐80度以上高温。面板四周采用CNC修边，四周倒角，圆润光滑无任何毛边；桌架两侧搭配蓝绿色钢制挡板美观大方。 4.桌架立柱和横梁：30mm×60mm×1.2mm，贴桌面四根横梁：40mm×40mm×1.2mm，一张桌子搭配八个铝压铸接头使桌面保持悬浮状态。 5.钢架满焊焊接而成，表面采用高温粉体烤漆，耐腐蚀，不易生锈； 6.导轨尺寸：300mm×18mm×25mm，材质：ABS，螺丝孔位间距198mm， 7.收纳盒尺寸：410mm×300mm×100mm，材质：PP新料， 8.功能：（1）桌面四角设有塑料材质防撞角（2）悬挂抽屉储物功能，导轨带有锁定功能，抽屉不易抽出。 | E35: 张 | F35: 14
A36: 3 | B36: 学生凳 | C36: 400×280×44 | D36: 1.尺寸：400×280×440mm，净重不低于3.7kg。 2.凳子双拼色设计，凳子面为粉彩绿颜色，凳子腿为纯白色喷涂。凳子腿为U形钢架设计，凳腿顶部带有45度坡度圆润造型。 3.钢架采用25mm×25mm×1.2mm厚钢质方管，钢制部分采用酸洗、磷化、除油、除锈并经过热固性环，聚酯型粉末静电喷塑，环保无毒害、无气味、平整美观，不易脱落； 4.凳面面板：采用厚度≥1.0mm及以上钢板经机压成形、焊接制作，表面经酸洗、磷化处理、环氧树脂静电粉末涂装处理； 5.凳脚需带塑料防滑垫。 | E36: 张 | F36: 56
A37: 4 | B37: 综合操作工作台 | C37: 2400×1200×780mm | D37: 1.规格：2400mm×1200mm×780mm 2.台面：采用厚度≥12.7mm实心理化板台面。 3.采用新型塑铝结构，整体桌脚呈Z字造型，倾斜式桌腿立柱设计，学生位镂空式设计，符合人体工程学设计。书包斗采用整体PP塑料一次性注塑成型，规格440mm×260mm×160mm，书包斗带有横竖向加强筋整体加厚设计，并且带有横竖向透气孔，中间设挂凳卡，挂凳处加厚设计防止实验凳掉落损坏桌斗。 4.桌脚采用三段式高强度铝合金结构，上部铸铝脚尺寸为570mm×55mm×95mm，下部铸铝脚尺寸为545mm×57mm×125mm，中立柱采用100mm×46mm×1.5mm厚承重型铝合金型材，采用倾斜式设计，立柱外侧配有装饰线条增加美观性。上下脚采用铝合金一次压铸成型，上下脚的壁厚度≥2.5mm，连接处壁厚加强至4mm；采用高强度螺丝连接桌腿与立柱，铸铝下脚背部采用横竖向加强筋连接保持桌子脚更加稳固；桌子上脚后部装有支撑杆，支撑杆采用ABS一次注塑成型，尺寸270mm×26mm×41mm，一头嵌入上桌架，另一头固定在立柱上，呈三角形结构，使整体结构更稳固。下桌脚设有专用孔位可以与地面固定，设计可以安装调整脚的孔位，并配有ABS脚套装饰盖。外观流线型设计，简洁美观，易碰撞处全部采用倒圆角，产品款式要求整体设计美观、合理、安全、牢固、耐用。金属表面经环氧树脂粉末喷涂高温固化处理。 5.桌面下方通过三条专用金属材料和塑料连接件连接实验桌两侧的桌脚和立柱，三条金属材料尺寸为30mm×30mm横截面积，采用高强度螺丝连接，桌斗下部一条横梁为横截面积85mm×14mm铝合金型材，用高强度螺丝固定在两侧桌脚的立柱上，外观流线型设计，简洁美观。 6.考虑到实验室电线预埋可能存在偏差，功能走线柱有可能无法遮挡盖住电线，实验桌脚和立柱设计电源走线孔位，必要时电源线可从桌脚底部穿过立柱从桌子一侧与学生电源线连接。 | E37: 张 | F37: 4
A38: 5 | B38: 边台 | C38: 11000×600×780mm | D38: 1.规格：11000mm×600mm×780mm 2.台面：采用厚度≥12.7mm实心理化板台面。 3.柜体：采用厚度≥1.0mm镀锌钢板，采用保护焊焊接，打磨处理，表面经耐酸碱粉末烤漆处理（烤漆膜厚度平均值不小于70μm）； 4.防撞胶垫：装于门板内侧，减缓碰撞，保护柜体； 5.门板：采用双层钢板，两层组装式设计，保证两层双面都喷涂处理，中间采用隔音材料； 6.连接件：采用专用连接组装件； 7.合页：采用不锈钢模具一体成型 8.固定桌脚：采用柜体内置可调整脚，保证调整脚前后都可以调节高低。 | E38: 张 | F38: 1
A39: 6 | B39: L型边台 | C39: 4800×600×780mm | D39: 1.规格：4800mm×600mm×780mm 2.台面：采用厚度≥12.7mm实心理化板台面。 3.柜体：采用厚度≥1.0mm镀锌钢板，采用保护焊焊接，打磨处理，表面经耐酸碱粉末烤漆处理（烤漆膜厚度平均值不小于70μm）； 4.防撞胶垫：装于门板内侧，减缓碰撞，保护柜体； 5.门板：采用双层钢板，两层组装式设计，保证两层双面都喷涂处理，中间采用隔音材料； 6.连接件：采用专用连接组装件； 7.合页：采用不锈钢模具一体成型 8.固定桌脚：采用柜体内置可调整脚，保证调整脚前后都可以调节高低。 | E39: 张 | F39: 1
A40: 7 | B40: 钢木作品展示柜 | C40: 3000×400×2000mm | D40: 钢木结构，造型定制 | E40: 组 | F40: 2
...

Sheet 五层
A1: 五层
A2: 序号 | B2: 名称 | C2: 尺寸规格 | D2: 技术参数 | E2: 单位 | F2: 数量 | G2: 单价 | H2: 合计 | I2: 所投品牌
A3: 26.音乐教室1
A4: 1 | B4: 移动讲台 | C4: 1500×600×1012mm±5 | D4: 1.尺寸：1500mm×600mm×1012mm±5mm； 2.材质：抗倍特板/钢板； 3.工艺：桌面尺寸：1450mm×600mm×12mm，采用苹果木色抗倍特一体成型。耐80度以上高温。防水：浸水24小时后的膨胀指数≤0.1mm，面板四周采CNC修边，四周倒角，圆润光滑无任何毛边。柜体尺寸：500mm×520mm×920mm，板厚≥0.8mm，柜体内带有层板，采用三维立体激光微缝切割，柜体一体成型，箱体精密度和牢固度强 4.桌面底部可倾斜方便操作。 | E4: 张 | F4: 1
A5: 2 | B5: 学生音乐椅 | C5: 460×360×360mm | D5: 1.规格：长460mm×宽360mm×高360mm±10mm，重≤4kg，座面长380mm，深320mm，座高140mm, 2.整体采用环保PE塑料滚塑一次性成型，材质厚度≥5mm，简约造型，边角全部采用圆弧设计，美观防止磕碰，产品防静电、耐磨、耐腐蚀，设计结构稳固，承重力强。左右带音乐符，色彩鲜艳，多种选择，三面可坐，3面不同高度设计，满足不同年龄段需求，带有提手设计，方便搬运。 | E5: 张 | F5: 56
A6: 27.音乐教室2
A7: 1 | B7: 移动讲台 | C7: 1500×600×1012mm±5 | D7: 1.尺寸：1500mm×600mm×1012mm±5mm； 2.材质：抗倍特板/钢板； 3.工艺：桌面尺寸：1450mm×600mm×12mm，采用苹果木色抗倍特一体成型。耐80度以上高温。防水：浸水24小时后的膨胀指数≤0.1mm，面板四周采CNC修边，四周倒角，圆润光滑无任何毛边。柜体尺寸：500mm×520mm×920mm，板厚≥0.8mm，柜体内带有层板，采用三维立体激光微缝切割，柜体一体成型，箱体精密度和牢固度强 4.桌面底部可倾斜方便操作。 | E7: 张 | F7: 1
A8: 2 | B8: 学生音乐椅 | C8: 460×360×360mm | D8: 1.规格：长460mm×宽360mm×高360mm±10mm，重≤4kg，座面长380mm，深320mm，座高140mm, 2.整体采用环保PE塑料滚塑一次性成型，材质厚度≥5mm，简约造型，边角全部采用圆弧设计，美观防止磕碰，产品防静电、耐磨、耐腐蚀，设计结构稳固，承重力强。左右带音乐符，色彩鲜艳，多种选择，三面可坐，3面不同高度设计，满足不同年龄段需求，带有提手设计，方便搬运。 | E8: 张 | F8: 56
A9: 28.音乐教室3
A10: 1 | B10: 移动讲台 | C10: 1500×600×1012mm±5 | D10: 1.尺寸：1500mm×600mm×1012mm±5mm； 2.材质：抗倍特板/钢板； 3.工艺：桌面尺寸：1450mm×600mm×12mm，采用苹果木色抗倍特一体成型。耐80度以上高温。防水：浸水24小时后的膨胀指数≤0.1mm，面板四周采CNC修边，四周倒角，圆润光滑无任何毛边。柜体尺寸：500mm×520mm×920mm，板厚≥0.8mm，柜体内带有层板，采用三维立体激光微缝切割，柜体一体成型，箱体精密度和牢固度强 4.桌面底部可倾斜方便操作。 | E10: 张 | F10: 1
A11: 2 | B11: 学生音乐椅 | C11: 460×360×360mm | D11: 1.规格：长460mm×宽360mm×高360mm±10mm，重≤4kg，座面长380mm，深320mm，座高140mm, 2.整体采用环保PE塑料滚塑一次性成型，材质厚度≥5mm，简约造型，边角全部采用圆弧设计，美观防止磕碰，产品防静电、耐磨、耐腐蚀，设计结构稳固，承重力强。左右带音乐符，色彩鲜艳，多种选择，三面可坐，3面不同高度设计，满足不同年龄段需求，带有提手设计，方便搬运。 | E11: 张 | F11: 56
A12: 29.音乐器材室
A13: 1 | B13: 器材架 | C13: 1000×6500×2000mm | D13: 1.规格：1000mm×6500mm×2000mm 2.整体采用钢木结合设计，层板采用厚度≥16mm实木颗粒板加工制作，立柱和横梁采用壁厚≥1.0mm的25mm黑退钢管方管制作，不得采用镀锌方管。 3.柜体设计不低于4层置物空间，底部带有板式对开柜门方便储存物品。所有三合一以及五金配件均采用耐用型配件。 | E13: 组 | F13: 8
A14: 30.美术教室1
A15: 1 | B15: 讲台 | C15: 2000×600×7800mm | D15: 1.规格：2000mm×600mm×7800mm 2.面材：采用桦木实木多层板，握螺钉力强，表面耐划痕、耐磨、耐香烟灼烧、耐干热、耐污染腐蚀均符合国家标准。 3.封边：采用PVC封边带及环保胶黏剂。 | E15: 张 | F15: 1
A16: 2 | B16: 美术学生桌 | C16: 1200×700×750mm | D16: 1.尺寸：1200mm×700mm×750mm； 2.材质：采用抗倍特板+优质钢架； 3.工艺：需采用木纹色抗倍特一体成型。可耐80度以上高温。防水性能良好：浸水24小时后的膨胀指数≤0.1mm，面板四周采用CNC修边，四周倒角，圆润光滑无任何毛边。 4.桌架：30mm×60mm×1.2mm，横梁：40mm×40mm×1.2mm，采用四个铝压铸接头，使桌面保持悬浮状态。桌身两侧带有蓝绿色钢板造型。优质钢架，满焊焊接而成，表面采用高温粉体烤漆，耐腐蚀，不易生锈； 5.导轨尺寸：300mm×18mm×25mm，材质：ABS。 6.收纳盒尺寸：410mm×300mm×100mm，数量为2个。材质：PP新料， 7.功能：（1）桌面四角设有TPR防撞角，防撞角孔内可放置螺丝刀。 （2）悬挂抽屉储物功能，导轨带有锁定功能，抽屉不易抽出。 | E16: 张 | F16: 28
A17: 3 | B17: 学生凳 | C17: Φ315×420—470mm | D17: 1.铸铝五星脚圆凳：Φ315mm×440mm 2.凳面表面细咬花纹不发光，采用PP工程塑料注塑成型；支撑柱采用直径50mm，壁厚≥1.2mm圆钢管，顶端为160mm×160mm×2.5mm钢板，采用全周满焊焊接，用四颗直径8mm的自锁螺帽连接凳面，结构牢固，长期使用也不会出现摇晃松散现象； 3.下端五星脚采用一次性铝压铸加工，五星脚长度为210mm，宽度为48mm渐变至30mm使整体更加美观协调，五星脚背部采用竖向拉筋模具浇铸成型保持椅子脚的稳固性， 4.铸铝脚表面经过防腐氧化处理和纯环氧树脂塑粉高温固化处理，具有较强的耐蚀性及承重性。 5.凳子底部预留可以加移动滑轮的位置，必要时可以根据客户要求加装。 | E17: 张 | F17: 56
A18: 4 | B18: 水槽柜 | C18: 500×600×835mm | D18: 1.水槽规格：500mm×600mm×835mm； 2.水槽外尺寸：500mm×600mm×390mm，内部尺寸：390mm×360mm×310mm。水槽采用PP改性材料，水槽可配三联龙头或折叠龙头。塑料注塑模一次成型耐强酸强碱，水槽上可选配专用滴水架445mm×75mm×335mm，可拆卸式滴水棒34mm×53mm×81mm，滴水棒分左右两部分，可由正面轻易拆装，并自由决定滴水棒之安装数量，闲置的孔位可孔塞封口，仰角安装，可使玻璃器皿放置稳固。可耐有机溶剂并耐高温。 3.柜体采用厚度≥1.0mm冷轧板，柜体米白色，底座高度（120mm枪灰色）；整体以双色搭配，四个角采用圆弧形R18一次成型，后设有检修门尺寸：405mm×298mm，并搭配两个塑料插销锁尺寸（66mm×34mm），门可拆卸方便安装，全部钢制件经过磷化，酸洗，超声波处理后高温烘干。金属表面经环氧树脂粉末喷涂高温固化处理。要做到承 重性能强和耐酸碱、耐腐蚀。 4.脚垫：采用柜体内置可调ABS脚垫M8*20，保证桌面平整，防水防潮，延长设备使用寿命。 5.配备高教三联水嘴，高度 670mm。 （1）主体采用Ф22mm×2.3mm的59-1及以上黄铜制造。进水管采用ø22mm×1.3mm管径的304及以上不锈钢制造；出水管采用ø15mm×1mm管径的304及以上不锈钢制造。 （2）涂层：涂层经亚光环氧树脂耐酸碱粉末涂料热固处理，耐腐蚀、耐热，防紫外线辐射。 （3）陶瓷阀芯： 90°旋转，使用寿命开关要求达到20万次，静态最大耐压10 bar，符合GB18145-2014标准。 | E18: 个 | F18: 8
A19: 31.美术教室2
A20: 1 | B20: 讲台 | C20: 2000×600×7800mm | D20: 1.规格：2000mm×600mm×7800mm 2.面材：采用桦木实木多层板，握螺钉力强，表面耐划痕、耐磨、耐香烟灼烧、耐干热、耐污染腐蚀均符合国家标准。 3.封边：采用PVC封边带及环保胶黏剂。 | E20: 张 | F20: 1
A21: 2 | B21: 美术学生桌 | C21: 1200×700×750mm | D21: 1.尺寸：1200mm×700mm×750mm； 2.材质：采用抗倍特板+优质钢架； 3.工艺：需采用木纹色抗倍特一体成型。可耐80度以上高温。防水性能良好：浸水24小时后的膨胀指数≤0.1mm，面板四周采用CNC修边，四周倒角，圆润光滑无任何毛边。 4.桌架：30mm×60mm×1.2mm，横梁：40mm×40mm×1.2mm，采用四个铝压铸接头，使桌面保持悬浮状态。桌身两侧带有蓝绿色钢板造型。优质钢架，满焊焊接而成，表面采用高温粉体烤漆，耐腐蚀，不易生锈； 5.导轨尺寸：300mm×18mm×25mm，材质：ABS。 6.收纳盒尺寸：410mm×300mm×100mm，数量为2个。材质：PP新料， 7.功能：（1）桌面四角设有TPR防撞角，防撞角孔内可放置螺丝刀。 （2）悬挂抽屉储物功能，导轨带有锁定功能，抽屉不易抽出。 | E21: 张 | F21: 28
A22: 3 | B22: 学生凳 | C22: Φ315×420—470mm | D22: 1.铸铝五星脚圆凳：Φ315mm×440mm 2.凳面表面细咬花纹不发光，采用PP工程塑料注塑成型；支撑柱采用直径50mm，壁厚≥1.2mm圆钢管，顶端为160mm×160mm×2.5mm钢板，采用全周满焊焊接，用四颗直径8mm的自锁螺帽连接凳面，结构牢固，长期使用也不会出现摇晃松散现象； 3.下端五星脚采用一次性铝压铸加工，五星脚长度为210mm，宽度为48mm渐变至30mm使整体更加美观协调，五星脚背部采用竖向拉筋模具浇铸成型保持椅子脚的稳固性， 4.铸铝脚表面经过防腐氧化处理和纯环氧树脂塑粉高温固化处理，具有较强的耐蚀性及承重性。 5.凳子底部预留可以加移动滑轮的位置，必要时可以根据客户要求加装。 | E22: 张 | F22: 56
A23: 4 | B23: 水槽柜 | C23: 500×600×835mm | D23: 1.水槽规格：500mm×600mm×835mm； 2.水槽外尺寸：500mm×600mm×390mm，内部尺寸：390mm×360mm×310mm。水槽采用PP改性材料，水槽可配三联龙头或折叠龙头。塑料注塑模一次成型耐强酸强碱，水槽上可选配专用滴水架445mm×75mm×335mm，可拆卸式滴水棒34mm×53mm×81mm，滴水棒分左右两部分，可由正面轻易拆装，并自由决定滴水棒之安装数量，闲置的孔位可孔塞封口，仰角安装，可使玻璃器皿放置稳固。可耐有机溶剂并耐高温。 3.柜体采用厚度≥1.0mm冷轧板，柜体米白色，底座高度（120mm枪灰色）；整体以双色搭配，四个角采用圆弧形R18一次成型，后设有检修门尺寸：405mm×298mm，并搭配两个塑料插销锁尺寸（66mm×34mm），门可拆卸方便安装，全部钢制件经过磷化，酸洗，超声波处理后高温烘干。金属表面经环氧树脂粉末喷涂高温固化处理。要做到承 重性能强和耐酸碱、耐腐蚀。 4.脚垫：采用柜体内置可调ABS脚垫M8*20，保证桌面平整，防水防潮，延长设备使用寿命。 5.配备高教三联水嘴，高度 670mm。 （1）主体采用Ф22mm×2.3mm的59-1及以上黄铜制造。进水管采用ø22mm×1.3mm管径的304及以上不锈钢制造；出水管采用ø15mm×1mm管径的304及以上不锈钢制造。 （2）涂层：涂层经亚光环氧树脂耐酸碱粉末涂料热固处理，耐腐蚀、耐热，防紫外线辐射。 （3）陶瓷阀芯： 90°旋转，使用寿命开关要求达到20万次，静态最大耐压10 bar，符合GB18145-2014标准。 | E23: 个 | F23: 8
A24: 32.书法教室
A25: 1 | B25: 教师演示台 | C25: 2000×600×7800mm | D25: 1.规格：2000mm×600mm×7800mm 2.面材：采用桦木实木多层板，握螺钉力强，表面耐划痕、耐磨、耐香烟灼烧、耐干热、耐污染腐蚀均符合国家标准。 3.封边：采用PVC封边带及环保胶黏剂。 | E25: 张 | F25: 1
A26: 2 | B26: 学生书艺桌 | C26: 1200×600×780mm | D26: 1.规格：1200mm×600mm×780mm，马鞍造型样式，仿古喷漆。 2.材质：台面：采用厚度≥18mm的实木橡木板，环保油漆，先用实木封底油，再继续三次底漆二次面漆才最终成型。 3.桌腿：实木加工而成，结构坚固牢靠，稳定性强。 | E26: 张 | F26: 28
A27: 3 | B27: 学生凳 | C27: 250×350×450mm | D27: 实木材质配套桌子的马鞍造型 | E27: 张 | F27: 56
A28: 4 | B28: 水槽柜 | C28: 500×600×835mm | D28: 1.水槽规格：500mm×600mm×835mm； 2.水槽外尺寸：500mm×600mm×390mm，内部尺寸：390mm×360mm×310mm。水槽采用PP改性材料，水槽可配三联龙头或折叠龙头。塑料注塑模一次成型耐强酸强碱，水槽上可选配专用滴水架445mm×75mm×335mm，可拆卸式滴水棒34mm×53mm×81mm，滴水棒分左右两部分，可由正面轻易拆装，并自由决定滴水棒之安装数量，闲置的孔位可孔塞封口，仰角安装，可使玻璃器皿放置稳固。可耐有机溶剂并耐高温。 3.柜体采用厚度≥1.0mm冷轧板，柜体米白色，底座高度（120mm枪灰色）；整体以双色搭配，四个角采用圆弧形R18一次成型，后设有检修门尺寸：405mm×298mm，并搭配两个塑料插销锁尺寸（66mm×34mm），门可拆卸方便安装，全部钢制件经过磷化，酸洗，超声波处理后高温烘干。金属表面经环氧树脂粉末喷涂高温固化处理。要做到承 重性能强和耐酸碱、耐腐蚀。 4.脚垫：采用柜体内置可调ABS脚垫M8*20，保证桌面平整，防水防潮，延长设备使用寿命。 5.配备高教三联水嘴，高度 670mm。 （1）主体采用Ф22mm×2.3mm的59-1及以上黄铜制造。进水管采用ø22mm×1.3mm管径的304及以上不锈钢制造；出水管采用ø15mm×1mm管径的304及以上不锈钢制造。 （2）涂层：涂层经亚光环氧树脂耐酸碱粉末涂料热固处理，耐腐蚀、耐热，防紫外线辐射。 （3）陶瓷阀芯： 90°旋转，使用寿命开关要求达到20万次，静态最大耐压10 bar，符合GB18145-2014标准。 | E28: 个 | F28: 8
A29: 33.美术准备室
