Workbook

Sheet 扉-1 招标工程量清单扉页
C1: 沭阳县新河镇2026年度村级公益事业一事一议财政奖补项目 | G1: 工程
A2: 招 标 工 程 量 清 单
A4: 招 标 人： | E4: 造价咨询人：
B5: （单位盖章） | F5: (单位资质专用章)
A6: 法定代表人 或其授权人： | E6: 法定代表人 或其授权人：
B7: (签字或盖章) | F7: (签字或盖章)
A8: 编 制 人： | E8: 复 核 人：
B9: (造价人员签字盖专用章) | F9: (造价工程师签字盖专用章)
A10: 编 制 时 间： | E10: 复 核 时 间：
G11: 扉-1

Sheet 【】编制说明
B1: 编制说明
A2: 建设项目名称：招标-沭阳县新河镇2026年度村级公益事业一事一议财政奖补项目 | C2: 第 1 页 共 1 页
A3: 编制说明 一 、工程概况 沭阳县新河镇2026年度村级公益事业一事一议财政奖补项目，新建维新村乔庄路，长约200米，宽3.5米；新建大营村单庄、沟东组内中心路，长约700米，宽3.5米；新建春生村赵庄路，长约340米，宽3.5米；新建巴房村六斗渠北路，长约520米，宽3.5米；新建巴房村六斗中沟南段路，长约600米，宽3.5米；新建大营村刘庄北路，长约160米，宽3米；新建新槐社区于庄中心路东三排，长约240米，宽3米；新建新槐社区三斗渠南北路，长约810米，宽4米；新建维新村周庄南北路，长约350米，宽3.5米；新建春生村黄圩鱼塘南路，长约300米，宽3.5米；新建春生村胡庄路，长约380米，宽3.5米。道路结构为：18cm厚C30水泥混凝土路面+20cm厚12%石灰土垫层。其余详见工程量清单。 二、编制依据 1、甲方提供的道路数据及做法规格 2、2018公路工程部颁清单计价依据、公路工程预算定额（2018）以及现行省、市相关配套执行文件等。 3、材料价格参照《宿迁工程造价管理》（2026年第8期） 三、其他说明 1、工程结算按实际完成工程量计算。 2、工程清单中所列工程数量是设计的预计数量，仅作为计价基础，不能作为最终结算与支付的依据。实际支付应按实际完成的数量，由承包人按合同规定的计量方法，以监理工程师认可的尺寸、断面、数量计量，按工程量清单的单价和总额价计算支付金额。当图纸与工程量清单所列数量不一致时，以工程量清单所列数量作为报价的依据。 3、符合合同条款规定的全部费用应认为已被计入有标价的工程量清单所列各子目之中，未列子目不予计量工作，其费用应视为已分摊在本合同工程的有关子目的单价或总额价之中。 4、用于本合同工程的各类装备的提供、运输、维护、拆卸、拼装等支付的费用，已包括在工程量清单的单价与总额价中。 5、清单中的标志牌、护栏等均含基础、挖填土等所有工序，请投标人综合考虑其报价。

Sheet 【标表1】投标报价汇总表
A1: 投标报价汇总表
A2: 合同段：沭阳县新河镇2026年度村级公益事业一事一议财政奖补项目 | E2: 标表1
A3: 序号 | B3: 章次 | C3: 科目名称 | F3: 金额（元）
A4: 1 | B4: 100 | C4: 总则 | F4: =SUM('【标表2-2】工程量清单表（招标）'!E48) -> 30333.556
A5: 2 | B5: 200 | C5: 路基 | F5: =SUM('【标表2-2】工程量清单表（招标）'!E121) -> 0
A6: 3 | B6: 300 | C6: 路面 | F6: =SUM('【标表2-2】工程量清单表（招标）'!E189) -> 0
A7: 4 | B7: 400 | C7: 桥梁、涵洞 | F7: =SUM('【标表2-2】工程量清单表（招标）'!E215) -> 0
A8: 5 | B8: 600 | C8: 安全设施及预埋管线 | F8: =SUM('【标表2-2】工程量清单表（招标）'!E246) -> 0
A9: 6 | B9: 第100章至第700章合计 | F9: =SUM(F4:F8) -> 30333.556
A10: 7 | B10: 已包含在清单合计中的材料、工程设备、专业工程暂估价合计 | F10: 0
A11: 8 | B11: 清单合计减去材料、工程设备、专业工程暂估价合计 | F11: =F9-F10 -> 30333.556
A12: 9 | B12: 计日工合计 | F12: 0
A13: 10 | B13: 暂列金额（不含计日工总额） | F13: 0
A14: 11 | B14: 投标报价 | F14: =SUM(F10:F13) -> 30333.556
D51: 清单 第 1 页 共 1 页

Sheet 【标表2-2】工程量清单表（招标）
A1: 工程量清单表（招标）
A2: 合同段：沭阳县新河镇2026年度村级公益事业一事一议财政奖补项目 | G2: 标表2
A3: 清单 第100章 总则
A4: 子目号 | B4: 子目名称 | D4: 单位 | E4: 项目特征 | F4: 数量 | H4: 单价 | I4: 合价
A5: 101 | B5: 通则
A6: 101-1 | B6: 保险费
A7: -a | B7: 按合同条款规定，提供建筑工程一切险 | D7: 总额 | F7: 1 | I7: =F7*H7 -> 0
A8: -b | B8: 按合同条款规定，提供第三者责任险 | D8: 总额 | F8: 1 | I8: =F8*H8 -> 0
A9: 102 | B9: 工程管理
A10: 102-1 | B10: 竣工文件 | D10: 总额 | F10: 1 | I10: =F10*H10 -> 0
A11: 102-2 | B11: 施工环保费 | D11: 总额 | F11: 1 | I11: =F11*H11 -> 0
A12: 102-3 | B12: 安全生产费 | D12: 总额 | E12: 不低于最高投标限价的1.5% | F12: 1 | H12: =2022237.04*0.015 -> 30333.556 | I12: =F12*H12 -> 30333.556
A13: 103 | B13: 临时工程与设施
A14: 103-1 | B14: 临时占地、临时供电、承包人驻地建设及施工驻地等 | D14: 总额 | F14: 1 | I14: =F14*H14 -> 0
A48: 清单 第100章 合计 | E48: =SUM(I7:I8,I10:I12,I14) -> 30333.556
G49: 清单 第 1 页 共 10 页
A50: 工程量清单表（招标）
A51: 合同段：沭阳县新河镇2026年度村级公益事业一事一议财政奖补项目 | G51: 标表2
A52: 清单 第200章 路基
A53: 子目号 | B53: 子目名称 | D53: 单位 | E53: 项目特征 | F53: 数量 | H53: 单价 | I53: 合价
A54: 202 | B54: 场地清理
A55: 202-1 | B55: 清理与掘除
A56: -a | B56: 清理现场（乔庄路） | D56: m2 | E56: 场地平整，现场清理，废料外运，如有拆除旧混凝土路、地坪等废料，废料由甲方处理，运距投标人自行考虑 | F56: 900 | I56: =F56*H56 -> 0
A57: -a | B57: 清理现场（单庄、沟东组内中心路） | D57: m2 | E57: 场地平整，现场清理，废料外运，如有拆除旧混凝土路、地坪等废料，废料由甲方处理，运距投标人自行考虑 | F57: 3150 | I57: =F57*H57 -> 0
A58: -a | B58: 清理现场（赵庄路） | D58: m2 | E58: 场地平整，现场清理，废料外运，如有拆除旧混凝土路、地坪等废料，废料由甲方处理，运距投标人自行考虑 | F58: 1530 | I58: =F58*H58 -> 0
A59: -a | B59: 清理现场（六斗渠北路） | D59: m2 | E59: 场地平整，现场清理，废料外运，如有拆除旧混凝土路、地坪等废料，废料由甲方处理，运距投标人自行考虑 | F59: 2340 | I59: =F59*H59 -> 0
A60: -a | B60: 清理现场（六斗中沟南段） | D60: m2 | E60: 场地平整，现场清理，废料外运，如有拆除旧混凝土路、地坪等废料，废料由甲方处理，运距投标人自行考虑 | F60: 2700 | I60: =F60*H60 -> 0
A61: -a | B61: 清理现场（刘庄北路） | D61: m2 | E61: 场地平整，现场清理，废料外运，如有拆除旧混凝土路、地坪等废料，废料由甲方处理，运距投标人自行考虑 | F61: 640 | I61: =F61*H61 -> 0
A62: -a | B62: 清理现场（于庄中心路东三排） | D62: m2 | E62: 场地平整，现场清理，废料外运，如有拆除旧混凝土路、地坪等废料，废料由甲方处理，运距投标人自行考虑 | F62: 960 | I62: =F62*H62 -> 0
A63: 清单 第200章 合计
G64: 清单 第 2 页 共 10 页
A65: 工程量清单表（招标）
A66: 合同段：沭阳县新河镇2026年度村级公益事业一事一议财政奖补项目 | G66: 标表2
A67: 清单 第200章 路基
A68: 子目号 | B68: 子目名称 | D68: 单位 | E68: 项目特征 | F68: 数量 | H68: 单价 | I68: 合价
A69: -a | B69: 清理现场（三斗渠南北路） | D69: m2 | E69: 场地平整，现场清理，废料外运，如有拆除旧混凝土路、地坪等废料，废料由甲方处理，运距投标人自行考虑 | F69: 4050 | I69: =F69*H69 -> 0
A70: -a | B70: 清理现场（周庄南北路） | D70: m2 | E70: 场地平整，现场清理，废料外运，如有拆除旧混凝土路、地坪等废料，废料由甲方处理，运距投标人自行考虑 | F70: 1575 | I70: =F70*H70 -> 0
A71: -a | B71: 清理现场（黄圩鱼塘南路） | D71: m2 | E71: 场地平整，现场清理，废料外运，如有拆除旧混凝土路、地坪等废料，废料由甲方处理，运距投标人自行考虑 | F71: 1350 | I71: =F71*H71 -> 0
A72: -a | B72: 清理现场（胡庄路） | D72: m2 | E72: 场地平整，现场清理，废料外运，如有拆除旧混凝土路、地坪等废料，废料由甲方处理，运距投标人自行考虑 | F72: 1710 | I72: =F72*H72 -> 0
A73: 203 | B73: 挖方路基
...
