Workbook

Sheet 表C.1.1 招标工程量清单扉页
A1: 工程名称： | C1: 沭阳县潼阳镇2026年度村级公益事业一事一议财政奖补项目
A2: 标段名称： | C2: 沭阳县潼阳镇2026年度村级公益事业一事一议财政奖补项目
A3: 招标工程量清单
B5: 编 制 人： | E5: (造价专业人员签字及盖章)
B6: 审 核 人： | E6: (签字及盖章)
B7: 编 制 单 位： | E7: (盖章)
B8: 法定代表人或其授权人： | E8: (签字或盖章)
B9: 招 标 人： | E9: (盖章)
B10: 法定代表人或其授权人： | E10: (签字或盖章)
B11: 编 制 时 间：

Sheet 编制说明
A1: 编制说明
A2: 一、工程概况：
A3: 沭阳县潼阳镇2026年度村级公益事业一事一议财政奖补项目，位于沭阳县潼阳镇，共涉及4条路，做法为20cm厚12%石灰土+18cm厚C30砼路面等；其中戴庄南北路（720m）、夏庄路(600m)、西庄路(600m)、吴马东西路(520m)为3.5m宽道路；并配套建设标识牌、道路铭牌、道口标注桩等内容，具体详见工程量清单。
A4: 二、编制依据：
A5: 1、招标文件、建设单位的相关计算口径要求。 2、（JTG 3830-2018）文件、苏交建[2019]22号文件、业主要求及现场踏勘情况。 3、2018公路定额及相关计价规范及其他相关造价文件。 4、2026年第8期《宿迁工程造价管理》信息价及市场价。 5、本工程常规的施工组织设计、与本工程有关的其他相关规定规范。
A6: 三、工程量清单说明：
A7: 1、本工程量清单是根据招标文件中包括的、工程量清单的国家标准、行业标准、合同条款中约定的工程量计算规则编制。约定计量规则中没有的子目，其工程量按照有合同约束力的图纸所标示尺寸的理论净量计算。计量采用中华人民共和国法定计量单位。 2、本工程量清单应与招标文件中的投标人须知、通用合同条款、专用合同条款、技术规范及图纸等一起阅读和理解。 3、本工程量清单中所列工程数量是估算的或设计的预计数量，仅作为投标报价的共同基础，不能作为最终结算与支付的依据。实际支付应按实际完成的工程量，由承包人按技术规范规定的计量方法，以监理人认可的尺寸、断面计量，按本工程量清单的单价和总额价计算支付金额。 4、工程量清单各章是按“交通运输部公告2017年第51号”中各章“技术规范”的相应章次编号的，因此，工程量清单中各章的工程子目的范围与计量等应与“技术规范”相应章节的范围、计量与支付条款结合起来理解或解释。 5、对作业和材料的—般说明或规定，未重复写入工程量清单内，在给工程量清单各子目标价前，应参阅“交通运输部公告2017年第51号”中第七章“技术规范”的有关内容。 6、工程量清单中所列工程量的变动，丝毫不会降低或影响合同条款的效力，也不免除承包人按规定的标准进行施工和修复缺陷的责任。
A8: 四、工程量清单投标报价说明：
A9: 1、工程量清单中标价的单价或金额，应包括所需人工费、材料费、施工机械使用费、其他费（运杂费、质检费、安装费、缺陷修复费、保险费、以及合同明示或暗示的风险、责任、义务等），以及管理费、利润、税金等； 2、工程量清单中的每一子目须填入单价或价格，且只允许有一个报价； 3、除非合同另有规定，工程量清单中有标价的单价和总额价均已包括了为实施和完成合同工程所需的劳务、材料、机械、管理、税费、利润、其他（质检（自检）、安装、缺陷修复、保险等费用，以及合同明示或暗示的所有责任、义务和一般风险）； 4、工程量清单中投标人没有填入单价或价格的子目，其费用视为己分摊在工程量清单中其他相关子目的单价或价格之中。承包人必须按监理人指令完成工程； 5、符合合同条款规定的全部费用应认为已被计入有标价的工程量清单所列各子目之中，未列子目不予计量的工作，其费用应视为已分摊在本合同工程的有关子目的单价或总额价之中； 6、承包人用于本合同工程的各类装备的提供、运输、维护、拆卸、拼装等支付的费用，已包括在工程量清单的单价与总额价之中； 7、工程量清单中各项金额均以人民币（元）结算； 8、实行工程量清单报价的，由投标人自主报价（国家明文规定不能竞争的价格除外）。工程量清单中载明的项目投标人没有报价的，视为投标人向招标人承诺免费，或其费用视为已分摊在工程量清单中其他相关子目的单价（价格）之中。如中标，中标人应完成工程量清单中的工程量，但招标人不再支付没有填入单价或价格的子目的费用。 9、本工程范围内全部土方工程（含外购土、转运方、弃土等）费用均已包含在投标报价中；路基、路肩经处理后的标高按建设单位要求控制，相关费用亦全部计入投标报价。 10、本招标控制价仅作参考，各投标单位须对其进行详细复核，并结合自身实际情况审慎报价。投标单位应对报价负责，不得以招标控制价是否合理为由，要求增加任何费用。 11、本工程范围内全部土方工程（含外购土、转运方、弃土等）费用均已包含在投标报价中；路基、路肩经处理后的标高按建设单位要求控制，相关费用亦全部计入投标报价；路面的切缝、锯缝、填缝（沥青）、胀缝、伸缩缝及刻纹等内容，无特殊说明均需满足国家规范要求，所有费用均计入投标报价中。

Sheet 全标段投标报价汇总表
A1: 全标段招标报价汇总表
A2: 工程名称：沭阳县潼阳镇2026年度村级公益事业一事一议财政奖补项目
A3: 项次 | B3: 章次 | C3: 工程或费用名称 | D3: 合计 | E3: 招标金额（元）
E4: 戴庄南北路 | F4: 夏庄路 | G4: 西庄路 | H4: 吴马东西路
A5: 1 | B5: 100 | C5: 第100章 总则 | D5: =SUM(E5:H5) -> 15908 | E5: =+戴庄南北路!A48 -> 4687 | F5: =+夏庄路!A48 -> 3858 | G5: =+西庄路!A48 -> 3951 | H5: =+吴马东西路!A48 -> 3412
A6: 2 | B6: 200 | C6: 第200章 路基 | D6: =SUM(E6:H6) -> 0 | E6: =+戴庄南北路!A96 -> 0 | F6: =+夏庄路!A96 -> 0 | G6: =+西庄路!A96 -> 0 | H6: =+吴马东西路!A96 -> 0
A7: 3 | B7: 300 | C7: 第300章 路面 | D7: =SUM(E7:H7) -> 0 | E7: =+戴庄南北路!A142 -> 0 | F7: =+夏庄路!A142 -> 0 | G7: =+西庄路!A142 -> 0 | H7: =+吴马东西路!A142 -> 0
A8: 4 | B8: 600 | C8: 第600章 安全设施及预埋管线 | D8: =SUM(E8:H8) -> 0 | E8: =+戴庄南北路!A187 -> 0 | F8: =+夏庄路!A187 -> 0 | G8: =+西庄路!A187 -> 0 | H8: =+吴马东西路!A187 -> 0
A9: 5 | B9: 第100章至第700章合计 | D9: =SUM(D5:D8) -> 15908 | E9: =SUM(E5:E8) -> 4687 | F9: =SUM(F5:F8) -> 3858 | G9: =SUM(G5:G8) -> 3951 | H9: =SUM(H5:H8) -> 3412
A10: 6 | B10: 已包含在清单合计中的材料、工程设备、专业工程暂估价合计
A11: 7 | B11: 清单合计减去材料、工程设备、专业工程暂估价合计 | D11: =SUM(E11:H11) -> 15908 | E11: =+E9 -> 4687 | F11: =+F9 -> 3858 | G11: =+G9 -> 3951 | H11: =+H9 -> 3412
A12: 8 | B12: 计日工合计
A13: 9 | B13: 暂列金额（不含计日工总额）
A14: 10 | B14: 投标报价 | D14: =SUM(E14:H14) -> 15908 | E14: =+E11 -> 4687 | F14: =+F11 -> 3858 | G14: =+G11 -> 3951 | H14: =+H11 -> 3412

Sheet 戴庄南北路
A1: 工程量清单表
A2: 合同段：戴庄南北路
A3: 第100章 总则
A4: 子目号 | B4: 子目名称 | C4: 单位 | D4: 数量 | E4: 单价 | F4: 合价
A5: 101 | B5: 通则 | F5: =IF(ROUND(D5*E5,2)=0," ",ROUND(D5*E5,2))
A6: 101-1 | B6: 保险费 | F6: =IF(ROUND(D6*E6,2)=0," ",ROUND(D6*E6,2))
A7: -a | B7: 按合同条款规定，提供建筑工程一切险 | C7: 总额 | D7: 1 | E7: 0 | F7: =IF(ROUND(D7*E7,2)=0," ",ROUND(D7*E7,2))
A8: -b | B8: 按合同条款规定，提供第三者责任险 | C8: 总额 | D8: 1 | E8: 0 | F8: =IF(ROUND(D8*E8,2)=0," ",ROUND(D8*E8,2))
A9: 102 | B9: 工程管理 | F9: =IF(ROUND(D9*E9,2)=0," ",ROUND(D9*E9,2))
A10: 102-1 | B10: 竣工文件 | C10: 总额 | D10: 1 | E10: 0 | F10: =IF(ROUND(D10*E10,2)=0," ",ROUND(D10*E10,2))
A11: 102-2 | B11: 施工环保费 | C11: 总额 | D11: 1 | E11: 0 | F11: =IF(ROUND(D11*E11,2)=0," ",ROUND(D11*E11,2))
A12: 102-3 | B12: 安全生产费（不低于最高投标限价的1.5%） | C12: 总额 | D12: 1 | E12: 4687 | F12: =IF(ROUND(D12*E12,2)=0," ",ROUND(D12*E12,2)) -> 4687
A13: 103 | B13: 临时工程与设施 | F13: =IF(ROUND(D13*E13,2)=0," ",ROUND(D13*E13,2))
A14: 103-2 | B14: 临时占地、临时供电、承包人驻地建设及施工驻地等 | C14: 总额 | D14: 1 | E14: 0 | F14: =IF(ROUND(D14*E14,2)=0," ",ROUND(D14*E14,2))
A48: =SUM((F7,F8,F10,F11,F12,F14)) -> 4687
A50: 工程量清单表
A51: 合同段：戴庄南北路
A52: 第200章 路基
A53: 子目号 | B53: 子目名称 | C53: 单位 | D53: 数量 | E53: 单价 | F53: 合价
A54: 203 | B54: 挖方路基 | F54: =IF(ROUND(D54*E54,2)=0," ",ROUND(D54*E54,2))
A55: 203-1 | B55: 路基挖方 | F55: =IF(ROUND(D55*E55,2)=0," ",ROUND(D55*E55,2))
A56: -a | B56: 路基处理（清除表面杂土、杂物，现场土方开挖或回填至设计标高、多余土方需运离施工现场，土方来源自行考虑）、请各投标单位勘察现场后自行考虑、合理报价，投标人综合报价，结算不调整 | C56: m2 | D56: 3240 | E56: 0 | F56: =IF(ROUND(D56*E56,2)=0," ",ROUND(D56*E56,2))
A96: =SUM((F56)) -> 0
A98: 工程量清单表
A99: 合同段：戴庄南北路
A100: 第300章 路面
A101: 子目号 | B101: 子目名称 | C101: 单位 | D101: 数量 | E101: 单价 | F101: 合价
A102: 303 | B102: 石灰稳定土底基层、基层 | F102: =IF(ROUND(D102*E102,2)=0," ",ROUND(D102*E102,2))
A103: 303-1 | B103: 石灰稳定土底基层 | F103: =IF(ROUND(D103*E103,2)=0," ",ROUND(D103*E103,2))
A104: -a | B104: 20cm厚12%石灰土原槽拌合压实，含石灰消解等，土方来源自行考虑，请各投标单位综合考虑、合理报价 | C104: m2 | D104: 2808 | E104: 0 | F104: =IF(ROUND(D104*E104,2)=0," ",ROUND(D104*E104,2))
A105: 312 | B105: 水泥混凝土面板 | F105: =IF(ROUND(D105*E105,2)=0," ",ROUND(D105*E105,2))
A106: 312-1 | B106: 水泥混凝土面板 | F106: =IF(ROUND(D106*E106,2)=0," ",ROUND(D106*E106,2))
A107: -a | B107: 18cm厚C30商品砼路面（抗弯拉强度≥4.0Mpa），含切缝、接缝填缝、路面养生及模板等一切相关费用 | C107: m2 | D107: 2520 | E107: 0 | F107: =IF(ROUND(D107*E107,2)=0," ",ROUND(D107*E107,2))
A108: 313 | B108: 路肩培土、中央分隔带回填土、土路肩加固及路缘石 | F108: =IF(ROUND(D108*E108,2)=0," ",ROUND(D108*E108,2))
A109: 313-1 | B109: 路肩培土，压实度满足相关文件要求，土源投标单位自行考虑，含在投标报价内，结算不调整 | C109: m2 | D109: 720 | E109: 0 | F109: =IF(ROUND(D109*E109,2)=0," ",ROUND(D109*E109,2))
A142: =SUM((F104,F107,F109)) -> 0
A144: 工程量清单表
A145: 合同段：戴庄南北路
A146: 第600章 安全设施及预埋管线
A147: 子目号 | B147: 子目名称 | C147: 单位 | D147: 数量 | E147: 单价 | F147: 合价
...

Sheet 夏庄路
A1: 工程量清单表
A2: 合同段：夏庄路
A3: 第100章 总则
A4: 子目号 | B4: 子目名称 | C4: 单位 | D4: 数量 | E4: 单价 | F4: 合价
A5: 101 | B5: 通则 | F5: =IF(ROUND(D5*E5,2)=0," ",ROUND(D5*E5,2))
A6: 101-1 | B6: 保险费 | F6: =IF(ROUND(D6*E6,2)=0," ",ROUND(D6*E6,2))
A7: -a | B7: 按合同条款规定，提供建筑工程一切险 | C7: 总额 | D7: 1 | E7: 0 | F7: =IF(ROUND(D7*E7,2)=0," ",ROUND(D7*E7,2))
A8: -b | B8: 按合同条款规定，提供第三者责任险 | C8: 总额 | D8: 1 | E8: 0 | F8: =IF(ROUND(D8*E8,2)=0," ",ROUND(D8*E8,2))
A9: 102 | B9: 工程管理 | F9: =IF(ROUND(D9*E9,2)=0," ",ROUND(D9*E9,2))
A10: 102-1 | B10: 竣工文件 | C10: 总额 | D10: 1 | E10: 0 | F10: =IF(ROUND(D10*E10,2)=0," ",ROUND(D10*E10,2))
A11: 102-2 | B11: 施工环保费 | C11: 总额 | D11: 1 | E11: 0 | F11: =IF(ROUND(D11*E11,2)=0," ",ROUND(D11*E11,2))
A12: 102-3 | B12: 安全生产费（不低于最高投标限价的1.5%） | C12: 总额 | D12: 1 | E12: 3858 | F12: =IF(ROUND(D12*E12,2)=0," ",ROUND(D12*E12,2)) -> 3858
A13: 103 | B13: 临时工程与设施 | F13: =IF(ROUND(D13*E13,2)=0," ",ROUND(D13*E13,2))
A14: 103-2 | B14: 临时占地、临时供电、承包人驻地建设及施工驻地等 | C14: 总额 | D14: 1 | E14: 0 | F14: =IF(ROUND(D14*E14,2)=0," ",ROUND(D14*E14,2))
A48: =SUM((F7,F8,F10,F11,F12,F14)) -> 3858
A50: 工程量清单表
A51: 合同段：夏庄路
A52: 第200章 路基
A53: 子目号 | B53: 子目名称 | C53: 单位 | D53: 数量 | E53: 单价 | F53: 合价
A54: 203 | B54: 挖方路基 | F54: =IF(ROUND(D54*E54,2)=0," ",ROUND(D54*E54,2))
A55: 203-1 | B55: 路基挖方 | F55: =IF(ROUND(D55*E55,2)=0," ",ROUND(D55*E55,2))
A56: -a | B56: 路基处理（清除表面杂土、杂物，现场土方开挖或回填至设计标高、多余土方需运离施工现场，土方来源自行考虑）、请各投标单位勘察现场后自行考虑、合理报价，投标人综合报价，结算不调整 | C56: m2 | D56: 2700 | E56: 0 | F56: =IF(ROUND(D56*E56,2)=0," ",ROUND(D56*E56,2))
A96: =SUM((F56)) -> 0
A98: 工程量清单表
A99: 合同段：夏庄路
A100: 第300章 路面
A101: 子目号 | B101: 子目名称 | C101: 单位 | D101: 数量 | E101: 单价 | F101: 合价
A102: 303 | B102: 石灰稳定土底基层、基层 | F102: =IF(ROUND(D102*E102,2)=0," ",ROUND(D102*E102,2))
A103: 303-1 | B103: 石灰稳定土底基层 | F103: =IF(ROUND(D103*E103,2)=0," ",ROUND(D103*E103,2))
A104: -a | B104: 20cm厚12%石灰土原槽拌合压实，含石灰消解等，土方来源自行考虑，请各投标单位综合考虑、合理报价 | C104: m2 | D104: 2340 | E104: 0 | F104: =IF(ROUND(D104*E104,2)=0," ",ROUND(D104*E104,2))
A105: 312 | B105: 水泥混凝土面板 | F105: =IF(ROUND(D105*E105,2)=0," ",ROUND(D105*E105,2))
A106: 312-1 | B106: 水泥混凝土面板 | F106: =IF(ROUND(D106*E106,2)=0," ",ROUND(D106*E106,2))
A107: -a | B107: 18cm厚C30商品砼路面（抗弯拉强度≥4.0Mpa），含切缝、接缝填缝、路面养生及模板等一切相关费用 | C107: m2 | D107: 2100 | E107: 0 | F107: =IF(ROUND(D107*E107,2)=0," ",ROUND(D107*E107,2))
A108: 313 | B108: 路肩培土、中央分隔带回填土、土路肩加固及路缘石 | F108: =IF(ROUND(D108*E108,2)=0," ",ROUND(D108*E108,2))
A109: 313-1 | B109: 路肩培土，压实度满足相关文件要求，土源投标单位自行考虑，含在投标报价内，结算不调整 | C109: m2 | D109: 600 | E109: 0 | F109: =IF(ROUND(D109*E109,2)=0," ",ROUND(D109*E109,2))
A142: =SUM((F104,F107,F109)) -> 0
A144: 工程量清单表
A145: 合同段：夏庄路
A146: 第600章 安全设施及预埋管线
A147: 子目号 | B147: 子目名称 | C147: 单位 | D147: 数量 | E147: 单价 | F147: 合价
...

Sheet 西庄路
A1: 工程量清单表
A2: 合同段：西庄路
A3: 第100章 总则
A4: 子目号 | B4: 子目名称 | C4: 单位 | D4: 数量 | E4: 单价 | F4: 合价
A5: 101 | B5: 通则 | F5: =IF(ROUND(D5*E5,2)=0," ",ROUND(D5*E5,2))
A6: 101-1 | B6: 保险费 | F6: =IF(ROUND(D6*E6,2)=0," ",ROUND(D6*E6,2))
A7: -a | B7: 按合同条款规定，提供建筑工程一切险 | C7: 总额 | D7: 1 | E7: 0 | F7: =IF(ROUND(D7*E7,2)=0," ",ROUND(D7*E7,2))
A8: -b | B8: 按合同条款规定，提供第三者责任险 | C8: 总额 | D8: 1 | E8: 0 | F8: =IF(ROUND(D8*E8,2)=0," ",ROUND(D8*E8,2))
A9: 102 | B9: 工程管理 | F9: =IF(ROUND(D9*E9,2)=0," ",ROUND(D9*E9,2))
A10: 102-1 | B10: 竣工文件 | C10: 总额 | D10: 1 | E10: 0 | F10: =IF(ROUND(D10*E10,2)=0," ",ROUND(D10*E10,2))
A11: 102-2 | B11: 施工环保费 | C11: 总额 | D11: 1 | E11: 0 | F11: =IF(ROUND(D11*E11,2)=0," ",ROUND(D11*E11,2))
A12: 102-3 | B12: 安全生产费（不低于最高投标限价的1.5%） | C12: 总额 | D12: 1 | E12: 3951 | F12: =IF(ROUND(D12*E12,2)=0," ",ROUND(D12*E12,2)) -> 3951
A13: 103 | B13: 临时工程与设施 | F13: =IF(ROUND(D13*E13,2)=0," ",ROUND(D13*E13,2))
A14: 103-2 | B14: 临时占地、临时供电、承包人驻地建设及施工驻地等 | C14: 总额 | D14: 1 | E14: 0 | F14: =IF(ROUND(D14*E14,2)=0," ",ROUND(D14*E14,2))
A48: =SUM((F7,F8,F10,F11,F12,F14)) -> 3951
A50: 工程量清单表
A51: 合同段：西庄路
A52: 第200章 路基
A53: 子目号 | B53: 子目名称 | C53: 单位 | D53: 数量 | E53: 单价 | F53: 合价
A54: 203 | B54: 挖方路基 | F54: =IF(ROUND(D54*E54,2)=0," ",ROUND(D54*E54,2))
A55: 203-1 | B55: 路基挖方 | F55: =IF(ROUND(D55*E55,2)=0," ",ROUND(D55*E55,2))
A56: -a | B56: 路基处理（清除表面杂土、杂物，现场土方开挖或回填至设计标高、多余土方需运离施工现场，土方来源自行考虑）、请各投标单位勘察现场后自行考虑、合理报价，投标人综合报价，结算不调整 | C56: m2 | D56: 2700 | E56: 0 | F56: =IF(ROUND(D56*E56,2)=0," ",ROUND(D56*E56,2))
A96: =SUM((F56)) -> 0
A98: 工程量清单表
A99: 合同段：西庄路
A100: 第300章 路面
A101: 子目号 | B101: 子目名称 | C101: 单位 | D101: 数量 | E101: 单价 | F101: 合价
A102: 303 | B102: 石灰稳定土底基层、基层 | F102: =IF(ROUND(D102*E102,2)=0," ",ROUND(D102*E102,2))
A103: 303-1 | B103: 石灰稳定土底基层 | F103: =IF(ROUND(D103*E103,2)=0," ",ROUND(D103*E103,2))
A104: -a | B104: 20cm厚12%石灰土原槽拌合压实，含石灰消解等，土方来源自行考虑，请各投标单位综合考虑、合理报价 | C104: m2 | D104: 2340 | E104: 0 | F104: =IF(ROUND(D104*E104,2)=0," ",ROUND(D104*E104,2))
A105: 312 | B105: 水泥混凝土面板 | F105: =IF(ROUND(D105*E105,2)=0," ",ROUND(D105*E105,2))
A106: 312-1 | B106: 水泥混凝土面板 | F106: =IF(ROUND(D106*E106,2)=0," ",ROUND(D106*E106,2))
A107: -a | B107: 18cm厚C30商品砼路面（抗弯拉强度≥4.0Mpa），含切缝、接缝填缝、路面养生及模板等一切相关费用 | C107: m2 | D107: 2100 | E107: 0 | F107: =IF(ROUND(D107*E107,2)=0," ",ROUND(D107*E107,2))
A108: 313 | B108: 路肩培土、中央分隔带回填土、土路肩加固及路缘石 | F108: =IF(ROUND(D108*E108,2)=0," ",ROUND(D108*E108,2))
A109: 313-1 | B109: 路肩培土，压实度满足相关文件要求，土源投标单位自行考虑，含在投标报价内，结算不调整 | C109: m2 | D109: 600 | E109: 0 | F109: =IF(ROUND(D109*E109,2)=0," ",ROUND(D109*E109,2))
A142: =SUM((F104,F107,F109)) -> 0
A144: 工程量清单表
A145: 合同段：西庄路
A146: 第600章 安全设施及预埋管线
A147: 子目号 | B147: 子目名称 | C147: 单位 | D147: 数量 | E147: 单价 | F147: 合价
...

Sheet 吴马东西路
A1: 工程量清单表
A2: 合同段：吴马东西路
A3: 第100章 总则
A4: 子目号 | B4: 子目名称 | C4: 单位 | D4: 数量 | E4: 单价 | F4: 合价
A5: 101 | B5: 通则 | F5: =IF(ROUND(D5*E5,2)=0," ",ROUND(D5*E5,2))
A6: 101-1 | B6: 保险费 | F6: =IF(ROUND(D6*E6,2)=0," ",ROUND(D6*E6,2))
A7: -a | B7: 按合同条款规定，提供建筑工程一切险 | C7: 总额 | D7: 1 | E7: 0 | F7: =IF(ROUND(D7*E7,2)=0," ",ROUND(D7*E7,2))
A8: -b | B8: 按合同条款规定，提供第三者责任险 | C8: 总额 | D8: 1 | E8: 0 | F8: =IF(ROUND(D8*E8,2)=0," ",ROUND(D8*E8,2))
A9: 102 | B9: 工程管理 | F9: =IF(ROUND(D9*E9,2)=0," ",ROUND(D9*E9,2))
A10: 102-1 | B10: 竣工文件 | C10: 总额 | D10: 1 | E10: 0 | F10: =IF(ROUND(D10*E10,2)=0," ",ROUND(D10*E10,2))
A11: 102-2 | B11: 施工环保费 | C11: 总额 | D11: 1 | E11: 0 | F11: =IF(ROUND(D11*E11,2)=0," ",ROUND(D11*E11,2))
A12: 102-3 | B12: 安全生产费（不低于最高投标限价的1.5%） | C12: 总额 | D12: 1 | E12: 3412 | F12: =IF(ROUND(D12*E12,2)=0," ",ROUND(D12*E12,2)) -> 3412
A13: 103 | B13: 临时工程与设施 | F13: =IF(ROUND(D13*E13,2)=0," ",ROUND(D13*E13,2))
A14: 103-2 | B14: 临时占地、临时供电、承包人驻地建设及施工驻地等 | C14: 总额 | D14: 1 | E14: 0 | F14: =IF(ROUND(D14*E14,2)=0," ",ROUND(D14*E14,2))
A48: =SUM((F7,F8,F10,F11,F12,F14)) -> 3412
A50: 工程量清单表
A51: 合同段：吴马东西路
A52: 第200章 路基
A53: 子目号 | B53: 子目名称 | C53: 单位 | D53: 数量 | E53: 单价 | F53: 合价
A54: 203 | B54: 挖方路基 | F54: =IF(ROUND(D54*E54,2)=0," ",ROUND(D54*E54,2))
A55: 203-1 | B55: 路基挖方 | F55: =IF(ROUND(D55*E55,2)=0," ",ROUND(D55*E55,2))
A56: -a | B56: 路基处理（清除表面杂土、杂物，现场土方开挖或回填至设计标高、多余土方需运离施工现场，土方来源自行考虑）、请各投标单位勘察现场后自行考虑、合理报价，投标人综合报价，结算不调整 | C56: m2 | D56: 2340 | E56: 0 | F56: =IF(ROUND(D56*E56,2)=0," ",ROUND(D56*E56,2))
A96: =SUM((F56)) -> 0
A98: 工程量清单表
A99: 合同段：吴马东西路
A100: 第300章 路面
A101: 子目号 | B101: 子目名称 | C101: 单位 | D101: 数量 | E101: 单价 | F101: 合价
A102: 303 | B102: 石灰稳定土底基层、基层 | F102: =IF(ROUND(D102*E102,2)=0," ",ROUND(D102*E102,2))
A103: 303-1 | B103: 石灰稳定土底基层 | F103: =IF(ROUND(D103*E103,2)=0," ",ROUND(D103*E103,2))
A104: -a | B104: 20cm厚12%石灰土原槽拌合压实，含石灰消解等，土方来源自行考虑，请各投标单位综合考虑、合理报价 | C104: m2 | D104: 2028 | E104: 0 | F104: =IF(ROUND(D104*E104,2)=0," ",ROUND(D104*E104,2))
A105: 312 | B105: 水泥混凝土面板 | F105: =IF(ROUND(D105*E105,2)=0," ",ROUND(D105*E105,2))
A106: 312-1 | B106: 水泥混凝土面板 | F106: =IF(ROUND(D106*E106,2)=0," ",ROUND(D106*E106,2))
A107: -a | B107: 18cm厚C30商品砼路面（抗弯拉强度≥4.0Mpa），含切缝、接缝填缝、路面养生及模板等一切相关费用 | C107: m2 | D107: 1820 | E107: 0 | F107: =IF(ROUND(D107*E107,2)=0," ",ROUND(D107*E107,2))
A108: 313 | B108: 路肩培土、中央分隔带回填土、土路肩加固及路缘石 | F108: =IF(ROUND(D108*E108,2)=0," ",ROUND(D108*E108,2))
A109: 313-1 | B109: 路肩培土，压实度满足相关文件要求，土源投标单位自行考虑，含在投标报价内，结算不调整 | C109: m2 | D109: 520 | E109: 0 | F109: =IF(ROUND(D109*E109,2)=0," ",ROUND(D109*E109,2))
A142: =SUM((F104,F107,F109)) -> 0
A144: 工程量清单表
A145: 合同段：吴马东西路
A146: 第600章 安全设施及预埋管线
A147: 子目号 | B147: 子目名称 | C147: 单位 | D147: 数量 | E147: 单价 | F147: 合价
...
