Workbook
Name JR_PAGE_ANCHOR_0_1: '第100章 总则'!$A$1
Name JR_PAGE_ANCHOR_1_1: '第200章 路基'!$A$1
Name JR_PAGE_ANCHOR_2_1: '第300章 路面'!$A$1
Name JR_PAGE_ANCHOR_3_1: '第400章 桥梁、涵洞'!$A$1
Name JR_PAGE_ANCHOR_4_1: '第600章 安全设施及预埋管线'!$A$1
Name JR_PAGE_ANCHOR_5_1: '【】5.4 投标报价汇总表'!$A$1
Name JR_PAGE_ANCHOR_4_1: 计日工!$A$1

Sheet 【】5.4 投标报价汇总表
B2: 5.4 投标报价汇总表
B3: 合同段：施桥运河大桥养护改造工程
B5: 序号 | C5: 章次 | D5: 科目名称 | F5: 金额（元）
B6: 1 | C6: 100 | D6: 总则 | F6: ='第100章 总则'!D16 -> 29087
B7: 2 | C7: 200 | D7: 路基 | F7: ='第200章 路基'!D9 -> 0
B8: 3 | C8: 300 | D8: 路面 | F8: ='第300章 路面'!D12 -> 0
B9: 4 | C9: 400 | D9: 桥梁、涵洞 | F9: ='第400章 桥梁、涵洞'!D16 -> 0
B10: 5 | C10: 600 | D10: 安全设施及预埋管线 | F10: ='第600章 安全设施及预埋管线'!D9 -> 0
B11: 6 | C11: 第100章～1000章清单小计 | F11: =SUM(F1:F10) -> 29087
B12: 7 | C12: 已包含在清单合计中的专项暂定金额小计
B13: 8 | C13: 清单小计减去专项暂定金金额 | F13: =F11-F12 -> 29087
B14: 9 | C14: 计日工合计 | F14: =计日工!D11 -> 0
B15: 10 | C15: 不可预见费（暂定金额） | F15: 79000
B16: 11 | C16: 投标价 | F16: =F12+F13+F14+F15 -> 108087
B18: 清单 第 1 页 | F18: 共 1 页

Sheet 第100章   总则
B2: 5.1 工程量清单表
B3: 工程量清单表
B4: 第100章 总则
B5: 子目号 | C5: 子目名称 | D5: 单位 | E5: 数量 | F5: 单价 | G5: 合价
B6: 101 | C6: 通则
B7: 101-1 | C7: 保险费
B8: -a | C8: 按合同条款规定，提供建筑工程一切险 | D8: 总额 | E8: 1 | G8: =IF(ISBLANK(E8),"",IF(ISBLANK(F8),"",E8*F8))
B9: -b | C9: 按合同条款规定，提供第三方责任险 | D9: 总额 | E9: 1 | G9: =IF(ISBLANK(E9),"",IF(ISBLANK(F9),"",E9*F9))
B10: 101-2 | C10: 工伤保险 | D10: 总额 | E10: 1 | F10: 4155 | G10: =IF(ISBLANK(E10),"",IF(ISBLANK(F10),"",E10*F10)) -> 4155
B11: 102 | C11: 工程管理
B12: 102-1 | C12: 竣工文件 | D12: 总额 | E12: 1 | G12: =IF(ISBLANK(E12),"",IF(ISBLANK(F12),"",E12*F12))
B13: 102-2 | C13: 交通安全管理费 | D13: 总额 | E13: 1 | G13: =IF(ISBLANK(E13),"",IF(ISBLANK(F13),"",E13*F13))
B14: 104 | C14: 安全生产费 | D14: 总额 | E14: 1 | F14: 24932 | G14: =IF(ISBLANK(E14),"",IF(ISBLANK(F14),"",E14*F14)) -> 24932
B16: 第100章 合计 人民币 | D16: =SUM(G1:G15) -> 29087 | F16: 元

Sheet 第200章   路基
B2: 5.1 工程量清单表
B3: 工程量清单表
B4: 第200章 路基
B5: 子目号 | C5: 子目名称 | D5: 单位 | E5: 数量 | F5: 单价 | G5: 合价
B6: 252 | C6: 维修
B7: 252-5 | C7: 排水沟及防护 | D7: m | E7: 380 | G7: =IF(ISBLANK(E7),"",IF(ISBLANK(F7),"",E7*F7))
B9: 第200章 合计 人民币 | D9: =SUM(G1:G8) -> 0 | F9: 元

Sheet 第300章   路面
B2: 5.1 工程量清单表
B3: 工程量清单表
B4: 第300章 路面
B5: 子目号 | C5: 子目名称 | D5: 单位 | E5: 数量 | F5: 单价 | G5: 合价
B6: 352 | C6: 维修
B7: 352-2 | C7: 沥青砼路面维修
B8: -a | C8: 裂缝封闭（环氧树脂胶） | D8: m | E8: 30 | G8: =IF(ISBLANK(E8),"",IF(ISBLANK(F8),"",E8*F8))
B9: -a | C9: 裂缝灌注（环氧树脂胶） | D9: m | E9: 20 | G9: =IF(ISBLANK(E9),"",IF(ISBLANK(F9),"",E9*F9))
B10: -a | C10: 破损修补（环氧砂浆） | D10: m2 | E10: 20 | G10: =IF(ISBLANK(E10),"",IF(ISBLANK(F10),"",E10*F10))
B12: 第300章 合计 人民币 | D12: =SUM(G1:G11) -> 0 | F12: 元

Sheet 第400章   桥梁、涵洞
B2: 5.1 工程量清单表
B3: 工程量清单表
B4: 第400章 桥梁、涵洞
B5: 子目号 | C5: 子目名称 | D5: 单位 | E5: 数量 | F5: 单价 | G5: 合价
B6: 451 | C6: 桥面系
B7: 451-1 | C7: 雨水收集（做法见设计图） | D7: 套 | E7: 1 | G7: =IF(ISBLANK(E7),"",IF(ISBLANK(F7),"",E7*F7))
B8: 451-1 | C8: 事故应急池（5*5.8*2.5m做法见设计图） | D8: 座 | E8: 2 | G8: =IF(ISBLANK(E8),"",IF(ISBLANK(F8),"",E8*F8))
B9: 451-3 | C9: 防撞设施（黑色橡胶护舷D500*500*1500，不锈钢螺栓M42，钻孔φ52*420) | D9: 项 | E9: 1 | G9: =IF(ISBLANK(E9),"",IF(ISBLANK(F9),"",E9*F9))
B10: 451-3 | C10: 助导航标识拆除重新安装（桥柱灯、甲类标识、通航净高标尺） | D10: 项 | E10: 1 | G10: =IF(ISBLANK(E10),"",IF(ISBLANK(F10),"",E10*F10))
B11: 451-4 | C11: 伸缩缝维修（做法详图纸） | D11: 项 | E11: 1 | G11: =IF(ISBLANK(E11),"",IF(ISBLANK(F11),"",E11*F11))
B12: 451-5 | C12: 钢结构防腐涂装（详见说明） | D12: m2 | E12: 210 | G12: =IF(ISBLANK(E12),"",IF(ISBLANK(F12),"",E12*F12))
B13: 451-5 | C13: 混凝土防腐涂装（详见说明） | D13: m2 | E13: 320 | G13: =IF(ISBLANK(E13),"",IF(ISBLANK(F13),"",E13*F13))
B14: 451-6 | C14: 支座维修 | D14: 项 | E14: 1 | G14: =IF(ISBLANK(E14),"",IF(ISBLANK(F14),"",E14*F14))
B16: 第400章 合计 人民币 | D16: =SUM(G1:G15) -> 0 | F16: 元

Sheet 第600章   安全设施及预埋管线
B2: 5.1 工程量清单表
B3: 工程量清单表
B4: 第600章 安全设施及预埋管线
B5: 子目号 | C5: 子目名称 | D5: 单位 | E5: 数量 | F5: 单价 | G5: 合价
B6: 654 | C6: 道路交通标志
B7: 654-1 | C7: 桥名牌更换 | D7: 块 | E7: 2 | G7: =IF(ISBLANK(E7),"",IF(ISBLANK(F7),"",E7*F7))
B9: 第600章 合计 人民币 | D9: =SUM(G1:G8) -> 0 | F9: 元

Sheet 计日工
B2: 5.1 工程量清单表
B3: 工程量清单表
B4: 计日工
B5: 子目号 | C5: 子目名称 | D5: 单位 | E5: 数量 | F5: 单价 | G5: 合价
C6: 计日工
B7: 1056001 | C7: 登高车 | D7: 台班 | E7: 10 | G7: =IF(ISBLANK(E7),"",IF(ISBLANK(F7),"",E7*F7))
B8: 1057001 | C8: 桥检车 | D8: 台班 | E8: 10 | G8: =IF(ISBLANK(E8),"",IF(ISBLANK(F8),"",E8*F8))
B9: 1058001 | C9: 水上浮动平台 | D9: 台班 | E9: 7 | G9: =IF(ISBLANK(E9),"",IF(ISBLANK(F9),"",E9*F9))
B11: 计日工 合计 人民币 | D11: =SUM(G1:G10) -> 0 | F11: 元
