Workbook

Sheet 汇总
A1: 序号 | B1: 单位名称 | C1: 工程名称 | D1: 垂直位移观测 | F1: 水平位移观测 | H1: 河道断面测量距离（km） | I1: 费用预算（元）
D2: 工作基点引测距离（km） | E2: 垂直位移观测（点次） | F2: 工作基点校测（点次） | G2: 水平位移观测（点次）
A3: 1 | B3: 刘集地涵管理所 | C3: 刘集地涵 | D3: =刘集地涵!D4 -> 16.96 | E3: =刘集地涵!D5 -> 160 | H3: =刘集地涵!D6 -> 0.98
C4: 华沂闸 | D4: =刘集地涵!D9 -> 0.52 | E4: =刘集地涵!D10 -> 68 | H4: =刘集地涵!D11 -> 1.53
A5: 2 | B5: 大庙闸站管理所 | C5: 大庙站 | D5: =大庙站!D4 -> 12.62 | E5: =大庙站!D5 -> 96 | H5: =大庙站!D6 -> 0.62
C6: 后姚闸 | D6: =大庙站!D9 -> 12.88 | E6: =大庙站!D10 -> 56 | H6: =大庙站!D11 -> 0.2
A7: 3 | B7: 单集闸站管理所 | C7: 单集闸站 | D7: =单集站!D4 -> 52.14 | E7: =单集站!D5 -> 144 | H7: =单集站!D6 -> 1.25
C8: 庙山闸 | D8: =单集站!D9 -> 22.32 | E8: =单集站!D10 -> 56 | H8: =单集站!D11 -> 0.16
C9: 温庄闸 | D9: =单集站!D14 -> 23.32 | E9: =单集站!D15 -> 76 | H9: =单集站!D16 -> 0.39
C10: 峰山闸 | D10: =单集站!D19 -> 20 | E10: =单集站!D20 -> 88 | H10: =单集站!D21 -> 0.51
A11: 4 | B11: 市区泵站管理处 | C11: 黄茅岗泵站 | D11: =市区泵站!D4 -> 3.52 | E11: =市区泵站!D5 -> 114
C12: 黄河新村泵站 | D12: 6.58 | E12: 8
C13: 段西泵站 | D13: =市区泵站!D12 -> 10.78 | E13: =市区泵站!D13 -> 56
A14: 5 | B14: 丁万河闸站管理所 | C14: 大孤山站 | D14: =丁万河!D4 -> 3.6 | E14: =丁万河!D5 -> 88 | H14: =丁万河!D6 -> 0.18
C15: 天齐站 | D15: =丁万河!D9 -> 10 | E15: =丁万河!D10 -> 84 | H15: =丁万河!D11 -> 0.25
C16: 丁楼闸 | D16: =丁万河!D14 -> 9.88 | E16: =丁万河!D15 -> 76 | H16: =丁万河!D16 -> 0.26
A17: 6 | B17: 刘集闸站管理所 | C17: 刘集站 | D17: =刘集闸站!D4 -> 16.1 | E17: =刘集闸站!D5 -> 80 | H17: =刘集闸站!D6 -> 0.04
C18: 张集闸 | D18: =刘集闸站!D9 -> 23 | E18: =刘集闸站!D10 -> 64 | H18: =刘集闸站!D11 -> 0.28
C19: 孙楼闸 | D19: =刘集闸站!D14 -> 26.24 | E19: =刘集闸站!D15 -> 64 | H19: =刘集闸站!D16 -> 0.32
A20: 7 | B20: 郑集闸站管理所 | C20: 郑集西站 | D20: 0 | E20: =郑集站!D4 -> 60 | H20: 0
C21: 郑集东站 | D21: =郑集站!D8 -> 6.5 | E21: =郑集站!D9 -> 126 | F21: =郑集站!D11 -> 4 | G21: =郑集站!D12 -> 126 | H21: =郑集站!D14 -> 0.78
C22: 郑集闸 | D22: 0 | E22: =郑集站!D17 -> 84
A23: 8 | B23: 奎河闸站管理处 | C23: 袁桥东站 | D23: =奎河闸站!D4 -> 3.5 | E23: =奎河闸站!D5 -> 30 | H23: =奎河闸站!D6 -> 0.12
C24: 袁桥西站 | E24: =奎河闸站!D9 -> 20
C25: 袁桥闸 | E25: =奎河闸站!D12 -> 8
A26: 9 | B26: 大龙湖管理所 | C26: 李庄闸 | D26: =大龙湖!D4 -> 16 | E26: =大龙湖!D5 -> 56 | H26: =大龙湖!D6 -> 0.38
A27: 合计 | D27: =SUM(D3:D26) -> 296.46 | E27: =SUM(E3:E26) -> 1762 | H27: =SUM(H3:H26) -> 8.25
O44: 25584 | P44: =刘集地涵!F13 -> 0
O45: 31436 | P45: =大庙站!F13 -> 0
O46: 111590 | P46: =单集站!F23 -> 0
O47: 13893 | P47: =市区泵站!F15 -> 0
O48: 39399 | P48: =丁万河!F18 -> 0
O49: 80261 | P49: =刘集闸站!F18 -> 0
O50: 27724 | P50: =郑集站!F19 -> 0
O51: 13028 | P51: =#REF! -> #REF!
O52: 13003 | P52: =奎河闸站!F14 -> 0
O53: =SUM(O44:O52) -> 355918 | P53: =SUM(P44:P52) -> #REF!

Sheet 刘集地涵
A1: 刘集地涵管理所建筑物沉降观测清单
A2: 序号 | B2: 工作内容 | C2: 单位 | D2: 数量 | E2: 单价（元） | F2: 合价金额（元） | G2: 备注
A3: 一、 | B3: 刘集地涵
A4: 1 | B4: 工作基点引测、校测 | C4: km | D4: =8.48*2 -> 16.96 | G4: 引测距离8.48km，往返，1次/年
A5: 2 | B5: 垂直位移观测 | C5: 点次 | D5: =80*2 -> 160 | G5: 2次/年
A6: 3 | B6: 河道断面测量 | C6: km | D6: 0.98
B7: 合计
A8: 二 | B8: 华沂闸
A9: 1 | B9: 工作基点引测、校测 | C9: km | D9: =0.26*2 -> 0.52 | G9: 引测距离0.26km，往返，1次/年
A10: 2 | B10: 垂直位移观测 | C10: 点次 | D10: =34*2 -> 68 | G10: 2次/年
A11: 3 | B11: 河道断面测量 | C11: km | D11: 1.53
B12: 合计
B13: 总计

Sheet 大庙站
A1: 大庙闸站管理所建筑物沉降观测清单
A2: 序号 | B2: 工作内容 | C2: 单位 | D2: 数量 | E2: 单价（元） | F2: 合价金额（元） | G2: 备注
A3: 一、 | B3: 大庙站
A4: 1 | B4: 工作基点引测、校测 | C4: km | D4: =6.31*2 -> 12.62 | G4: 引测距离6.31km，往返，1次/年
A5: 2 | B5: 垂直位移观测 | C5: 点次 | D5: =48*2 -> 96 | G5: 2次/年
A6: 3 | B6: 河道断面测量 | C6: km | D6: 0.62
B7: 合计
A8: 二 | B8: 后姚闸
A9: 1 | B9: 工作基点引测、校测 | C9: km | D9: =6.44*2 -> 12.88 | G9: 引测距离6.44km，往返，1次/年
A10: 2 | B10: 垂直位移观测 | C10: 点次 | D10: =28*2 -> 56 | G10: 2次/年
A11: 3 | B11: 河道断面测量 | C11: km | D11: 0.2
B12: 合计
B13: 总计

Sheet 单集站
A1: 单集闸站管理所建筑物沉降观测清单
A2: 序号 | B2: 工作内容 | C2: 单位 | D2: 数量 | E2: 单价（元） | F2: 合价金额（元） | G2: 备注
A3: 一、 | B3: 单集闸站
A4: 1 | B4: 工作基点引测、校测 | C4: km | D4: =26.07*2 -> 52.14 | G4: 引测距离26.07km，往返，1次/年
A5: 2 | B5: 垂直位移观测 | C5: 点次 | D5: =72*2 -> 144 | G5: 2次/年
A6: 3 | B6: 河道断面测量 | C6: km | D6: 1.25
B7: 合计
A8: 二 | B8: 庙山闸
A9: 1 | B9: 工作基点引测、校测 | C9: km | D9: =11.16*2 -> 22.32 | G9: 引测距离11.16km，往返，1次/年
A10: 2 | B10: 垂直位移观测 | C10: 点次 | D10: =28*2 -> 56 | G10: 2次/年
A11: 3 | B11: 河道断面测量 | C11: km | D11: 0.16
B12: 合计
A13: 三 | B13: 温庄闸
A14: 1 | B14: 工作基点引测、校测 | C14: km | D14: =11.66*2 -> 23.32 | G14: 引测距离11.66km，往返，1次/年
A15: 2 | B15: 垂直位移观测 | C15: 点次 | D15: =38*2 -> 76 | G15: 2次/年
A16: 3 | B16: 河道断面测量 | C16: km | D16: 0.39
B17: 合计
A18: 四 | B18: 峰山闸
A19: 1 | B19: 工作基点引测、校测 | C19: km | D19: =10*2 -> 20 | G19: 引测距离10.0km，往返，1次/年
A20: 2 | B20: 垂直位移观测 | C20: 点次 | D20: =44*2 -> 88
A21: 3 | B21: 河道断面测量 | C21: km | D21: 0.51
B22: 合计
B23: 总计

Sheet 市区泵站
A1: 市区泵站管理处建筑物沉降观测清单
A2: 序号 | B2: 工作内容 | C2: 单位 | D2: 数量 | E2: 单价（元） | F2: 合价金额（元） | G2: 备注
A3: 一、 | B3: 黄茅岗泵站
A4: 1 | B4: 工作基点引测、校测 | C4: km | D4: =1.76*2 -> 3.52 | G4: 引测距离1.76km，往返，1次/年
A5: 2 | B5: 垂直位移观测 | C5: 点次 | D5: =57*2 -> 114 | G5: 2次/年
B6: 合计
A7: 二 | B7: 黄河新村泵站
A8: 1 | B8: 工作基点引测、校测 | C8: km | D8: =3.29*2 -> 6.58 | G8: 引测距离3.52km，往返，1次/年
A9: 2 | B9: 垂直位移观测 | C9: 点次 | D9: =4*2 -> 8 | G9: 2次/年
B10: 合计
A11: 三 | B11: 段西泵站
A12: 1 | B12: 工作基点引测、校测 | C12: km | D12: =5.39*2 -> 10.78 | G12: 引测距离5.39km,往返，1次/年
A13: 2 | B13: 垂直位移观测 | C13: 点次 | D13: =28*2 -> 56 | G13: 2次/年
B14: 合计
B15: 总计

Sheet 丁万河
A1: 丁万河闸站管理所建筑物沉降观测清单
A2: 序号 | B2: 工作内容 | C2: 单位 | D2: 数量 | E2: 单价（元） | F2: 合价金额（元） | G2: 备注
A3: 一、 | B3: 大孤山站
A4: 1 | B4: 工作基点引测、校测 | C4: km | D4: =1.8*2 -> 3.6 | G4: 引测距离1.80km，往返，1次/年
A5: 2 | B5: 垂直位移观测 | C5: 点次 | D5: =44*2 -> 88 | G5: 2次/年
A6: 3 | B6: 河道断面测量 | C6: km | D6: 0.18
B7: 合计
A8: 二 | B8: 天齐站
A9: 1 | B9: 工作基点引测、校测 | C9: km | D9: =5*2 -> 10 | G9: 引测距离5.0km，往返，1次/年
A10: 2 | B10: 垂直位移观测 | C10: 点次 | D10: =42*2 -> 84 | G10: 2次/年
A11: 3 | B11: 河道断面测量 | C11: km | D11: 0.25
B12: 合计
A13: 三 | B13: 丁楼闸
A14: 1 | B14: 工作基点引测、校测 | C14: km | D14: =4.94*2 -> 9.88 | G14: 引测距离4.94km，往返，1次/年
A15: 2 | B15: 垂直位移观测 | C15: 点次 | D15: =38*2 -> 76 | G15: 2次/年
A16: 3 | B16: 河道断面测量 | C16: km | D16: 0.26
B17: 合计
B18: 总计

Sheet 刘集闸站
A1: 刘集闸站管理所建筑物沉降观测清单
A2: 序号 | B2: 工作内容 | C2: 单位 | D2: 数量 | E2: 单价（元） | F2: 合价金额（元） | G2: 备注
A3: 一、 | B3: 刘集站
A4: 1 | B4: 工作基点引测、校测 | C4: km | D4: =8.05*2 -> 16.1 | G4: 引测距离8.05km，往返，1次/年
A5: 2 | B5: 垂直位移观测 | C5: 点次 | D5: =40*2 -> 80 | G5: 2次/年
A6: 3 | B6: 河道断面测量 | C6: km | D6: 0.04
B7: 合计
A8: 二 | B8: 张集闸
A9: 1 | B9: 工作基点引测、校测 | C9: km | D9: =11.5*2 -> 23 | G9: 引测距离11.5km，往返，1次/年
A10: 2 | B10: 垂直位移观测 | C10: 点次 | D10: =32*2 -> 64 | G10: 2次/年
A11: 3 | B11: 河道断面测量 | C11: km | D11: 0.28
B12: 合计
A13: 三 | B13: 孙楼闸
A14: 1 | B14: 工作基点引测、校测 | C14: km | D14: =13.12*2 -> 26.24 | G14: 引测距离13.12km，往返，1次/年
A15: 2 | B15: 垂直位移观测 | C15: 点次 | D15: =32*2 -> 64 | G15: 2次/年
A16: 3 | B16: 河道断面测量 | C16: km | D16: 0.32
B17: 合计
B18: 总计

Sheet 郑集站
A1: 郑集闸站管理所建筑物沉降观测清单
A2: 序号 | B2: 工作内容 | C2: 单位 | D2: 数量 | E2: 单价（元） | F2: 合价金额（元） | G2: 备注
A3: 一 | B3: 郑集西站
A4: 2 | B4: 垂直位移观测 | C4: 点次 | D4: =30*2 -> 60 | G4: 2次/年
B5: 合计
A6: 二 | B6: 郑集东站
A7: 1 | B7: 垂直位移
A8: （1） | B8: 工作基点引测、校测 | C8: km | D8: =3.25*2 -> 6.5 | G8: 引测距离3.25km，1次/年，往返
A9: （2） | B9: 垂直位移观测 | C9: 点次 | D9: =63*2 -> 126 | G9: 2次/年
A10: 2 | B10: 水平位移
A11: （1） | B11: 工作基点校测（GPS静态） | C11: 点次 | D11: 4 | G11: 1次/年
A12: （2） | B12: 水平位移变形观测 | C12: 点次 | D12: =63*2 -> 126 | G12: 2次/年
A13: 3 | B13: 河道断面测量
A14: （1） | B14: 河道断面测量 | C14: km | D14: 0.78 | G14: 1次/年
B15: 合计
A16: 三 | B16: 郑集闸
A17: 2 | B17: 垂直位移观测 | C17: 点次 | D17: =42*2 -> 84 | G17: 2次/年
B18: 合计
B19: 总计

Sheet 奎河闸站
A1: 奎河闸站管理处建筑物沉降观测清单
A2: 序号 | B2: 工作内容 | C2: 单位 | D2: 数量 | E2: 单价（元） | F2: 合价金额（元） | G2: 备注
A3: 一、 | B3: 袁桥东站
A4: 1 | B4: 工作基点引测、校测 | C4: km | D4: =1.75*2 -> 3.5 | G4: 引测距离1.75km，往返，1次/年
A5: 2 | B5: 垂直位移观测 | C5: 点次 | D5: =15*2 -> 30 | G5: 2次/年
A6: 3 | B6: 河道断面测量 | C6: km | D6: 0.12
B7: 合计
A8: 二 | B8: 袁桥西站
A9: 2 | B9: 垂直位移观测 | C9: 点次 | D9: =10*2 -> 20 | G9: 2次/年
B10: 合计
A11: 三 | B11: 袁桥闸
A12: 2 | B12: 垂直位移观测 | C12: 点次 | D12: =4*2 -> 8 | G12: 2次/年
B13: 合计
B14: 总计
M41: 16640
M42: 31436
M43: 58889
M44: 13893
M45: 13028
M46: 39399
M47: 52165
M48: 3689
M49: 13003
M50: =SUM(M41:M49) -> 242142

Sheet 大龙湖
A1: 大龙湖管理所建筑物沉降观测清单
A2: 序号 | B2: 工作内容 | C2: 单位 | D2: 数量 | E2: 单价（元） | F2: 合价金额（元） | G2: 备注
A3: 一 | B3: 李庄闸
A4: 1 | B4: 工作基点引测、校测 | C4: km | D4: =8*2 -> 16 | G4: 引测距离8.00km，，往返，1次/年
A5: 2 | B5: 垂直位移观测 | C5: 点次 | D5: =28*2 -> 56 | G5: 2次/年
A6: 3 | B6: 河道断面测量 | C6: km | D6: 0.38
B7: 合计
